BEGIN:VCALENDAR
VERSION:2.0
PRODID:-//ÖBI - ECPv6.15.18//NONSGML v1.0//EN
CALSCALE:GREGORIAN
METHOD:PUBLISH
X-WR-CALNAME:ÖBI
X-ORIGINAL-URL:https://www.obi.is
X-WR-CALDESC:Events for ÖBI
REFRESH-INTERVAL;VALUE=DURATION:PT1H
X-Robots-Tag:noindex
X-PUBLISHED-TTL:PT1H
BEGIN:VTIMEZONE
TZID:UTC
BEGIN:STANDARD
TZOFFSETFROM:+0000
TZOFFSETTO:+0000
TZNAME:UTC
DTSTART:20230101T000000
END:STANDARD
END:VTIMEZONE
BEGIN:VEVENT
DTSTART;TZID=UTC:20240413T080000
DTEND;TZID=UTC:20240514T170000
DTSTAMP:20260419T183535
CREATED:20240402T085729Z
LAST-MODIFIED:20240402T085741Z
UID:18575-1712995200-1715706000@www.obi.is
SUMMARY:Listasýning Einhverfusamtakanna
DESCRIPTION:HlustaÍ aprílmánuði munu Einhverfusamtökin standa fyrir listsýningu í Hamrinum – ungmennahúsi í Hafnarfirði\, helgina 13.-14. apríl. Þar mun einhverft listafólk sýna verk sín og flytja tónlist\, ljóð o.fl. Þetta er þriðja árið í röð sem við stöndum fyrir slíkri sýningu og hefur mikil ánægja verið með framtakið. Um 300 manns mættu á sýninguna í fyrra. \nBókin „Öðruvísi\, ekki síðri“ eftir Chloé Hayden kemur út í íslenskri þýðingu um mánaðarmótin og munum við kynna bókina í Hamrinum helgina 13.-14. apríl. Chloé lýsir bókinni sinni sem því sem hún\, þá 13 ára gömul\, hefði þurft að fá í hendurnar til að skilja líf sitt og hvað það þýðir að vera einhverf. Er það almennt mat einhverfra sem lesa bókina að þessi lýsing standi undir nafni. Bókin er skýr og skorinorð\, skemmtilega skrifuð\, og síðast en ekki síst gríðarlega góð handbók um flest ef ekki allt sem snýr að einhverfu. Forlagið gefur bókina út en Einhverfusamtökin og Félags- og vinnumarkaðsráðuneytið kosta þýðinguna.
URL:https://www.obi.is/vidburdir/listasyning-einhverfusamtakanna/
LOCATION:Hamarinn
CATEGORIES:Aðildarfélög
END:VEVENT
END:VCALENDAR