BEGIN:VCALENDAR
VERSION:2.0
PRODID:-//ÖBI - ECPv6.15.18//NONSGML v1.0//EN
CALSCALE:GREGORIAN
METHOD:PUBLISH
X-ORIGINAL-URL:https://www.obi.is
X-WR-CALDESC:Events for ÖBI
REFRESH-INTERVAL;VALUE=DURATION:PT1H
X-Robots-Tag:noindex
X-PUBLISHED-TTL:PT1H
BEGIN:VTIMEZONE
TZID:UTC
BEGIN:STANDARD
TZOFFSETFROM:+0000
TZOFFSETTO:+0000
TZNAME:UTC
DTSTART:20240101T000000
END:STANDARD
END:VTIMEZONE
BEGIN:VEVENT
DTSTART;TZID=UTC:20251220T190000
DTEND;TZID=UTC:20251220T190000
DTSTAMP:20260417T212002
CREATED:20251208T110630Z
LAST-MODIFIED:20251211T161641Z
UID:40525-1766257200-1766257200@www.obi.is
SUMMARY:Jólatónleikar Hjálpræðishersins
DESCRIPTION:HlustaLaugardagskvöldið 20. desember klukkan 19:00 mun Hjálpræðisherinn blása til einstakra jólatónleika þar sem andi jólanna svífur yfir vötnum og fyllir salinn hlýju\, friði og eftirvæntingu. \nFrítt er inn en frjáls framlög eru vel þegin og mun allur ágóði renna í velferðarsjóð Hjálpræðishersins\, þar sem hver króna skilar sér beint til þeirra sem þurfa á stuðningi að halda á þessum viðkvæma tíma ársins. \nHúsbandið:\nGunnar Wincke á trommur\nBirgir Jóhann Birgisson á bassa\nÞórir Haraldsson á Hammond\nSiggi Ingimars á gítar\nLárus Óskar Sigmundsson\, píanóleikari og stjórnandi\nMeð þeim koma fram glæsilegir sólóistar:\nStefanía Svavarsdóttir\,\nGospelkór Hjálpræðishersins\nLárus Óskar Sigmundsson\,\nBenjamín Ásmundur Eriksson\,\nJohanna Tablante\,\nSiggi Ingimars og Rannvá Olsen. \nÞetta verður kvöld fullt af ljúfri tónlist og hjartnæmum stemmningum – tónleikar sem fanga jólaandann og færa hlýju inn í veturinn. \nKomdu og njóttu.
URL:https://www.obi.is/vidburdir/jolatonleikar-hjalpraedishersins/
LOCATION:Hjálpræðisherinn\, Suðurlandsbraut 72\, Reykjavík
CATEGORIES:Aðildarfélög
ATTACH;FMTTYPE=image/jpeg:https://www.obi.is/wp-content/uploads/2025/12/Hjalpraedisherinn-e1765469726118.jpg
END:VEVENT
END:VCALENDAR