BEGIN:VCALENDAR
VERSION:2.0
PRODID:-//ÖBI - ECPv6.15.18//NONSGML v1.0//EN
CALSCALE:GREGORIAN
METHOD:PUBLISH
X-WR-CALNAME:ÖBI
X-ORIGINAL-URL:https://www.obi.is
X-WR-CALDESC:Events for ÖBI
REFRESH-INTERVAL;VALUE=DURATION:PT1H
X-Robots-Tag:noindex
X-PUBLISHED-TTL:PT1H
BEGIN:VTIMEZONE
TZID:UTC
BEGIN:STANDARD
TZOFFSETFROM:+0000
TZOFFSETTO:+0000
TZNAME:UTC
DTSTART:20210101T000000
END:STANDARD
END:VTIMEZONE
BEGIN:VEVENT
DTSTART;TZID=UTC:20221029T120000
DTEND;TZID=UTC:20221029T160000
DTSTAMP:20260426T032927
CREATED:20221027T160429Z
LAST-MODIFIED:20221028T105518Z
UID:10106-1667044800-1667059200@www.obi.is
SUMMARY:Heilaheill: SLAGDAGUR á alþjóðadegi
DESCRIPTION:HlustaLaugardaginn 29. október á ALÞJÓÐADEGI HEILABLÓÐFALLSINS (World Stroke day) ætla\, læknar\, hjúkrunarfræðingar og aðrir fagaðilar heilbrigðisþjónustunnar\, – ásamt slagþolum að bjóða gestum og gangandi í Kringlunni í Reykjavík og á Glerártorgi Akureyri upp á ókeypis ráðgjafaþjónustu\, upplýsingar um lýðheilsu\, forvarnaratriði\, varðandi heilablóðfallið (slagið) frá kl. 12:00-16:00! \nEru allir hvattir til að kynnast málefninu\, – þetta er dauðans alvara! \n \nMyndband um appið \nMyndband um gáttatif \nMyndband um segabrottnám \n  \n 
URL:https://www.obi.is/vidburdir/heilaheill-slagdagur-a-althjodadegi/
LOCATION:Kringlan\, Kringlunni 4-12\, Reykjavík\, 103\, Iceland
CATEGORIES:Aðildarfélög
END:VEVENT
END:VCALENDAR