BEGIN:VCALENDAR
VERSION:2.0
PRODID:-//ÖBI - ECPv6.15.18//NONSGML v1.0//EN
CALSCALE:GREGORIAN
METHOD:PUBLISH
X-WR-CALNAME:ÖBI
X-ORIGINAL-URL:https://www.obi.is
X-WR-CALDESC:Events for ÖBI
REFRESH-INTERVAL;VALUE=DURATION:PT1H
X-Robots-Tag:noindex
X-PUBLISHED-TTL:PT1H
BEGIN:VTIMEZONE
TZID:UTC
BEGIN:STANDARD
TZOFFSETFROM:+0000
TZOFFSETTO:+0000
TZNAME:UTC
DTSTART:20220101T000000
END:STANDARD
END:VTIMEZONE
BEGIN:VEVENT
DTSTART;TZID=UTC:20260416T170000
DTEND;TZID=UTC:20260416T180000
DTSTAMP:20260420T141048
CREATED:20260413T180838Z
LAST-MODIFIED:20260413T181305Z
UID:45188-1776358800-1776362400@www.obi.is
SUMMARY:Erfðir\, áhættuþættir og forvarnir heilabilunarsjúkdóma
DESCRIPTION:HlustaFyrirlestur – Alzheimersamtökin\nHvað ræður því hvort við fáum heilabilunarsjúkdóm og hversu mikið getum við sjálf haft áhrif?\nSteinunn Þórðardóttir\, öldrunarlæknir\, fjallar um þá þætti sem hafa áhrif á áhættu okkar á að þróa með sér heilabilunarsjúkdóm. Hún fer yfir bæði erfðaþætti og lífsstíl\, og hvað það getur þýtt ef heilabilun er algeng í fjölskyldunni. \nSjá nánari upplýsingar: Erfðir\, áhættuþættir og forvarnir heilabilunarsjúkdóma \n\nÖll velkomin. Engin skráning nauðsynleg. Fyrirlesturinn verður tekinn upp og settur á vefinn: Alzheimersamtökin daginn eftir.
URL:https://www.obi.is/vidburdir/alzheimersamtokin-erfdir-ahaettuthaettir-og-forvarnir-heilabilunarsjukdoma/
LOCATION:Lífsgæðasetur St. Jósepsspítala\, Suðurgata 41\, Hafnarfjörður\, 220\, Iceland
CATEGORIES:Aðildarfélög
ATTACH;FMTTYPE=image/jpeg:https://www.obi.is/wp-content/uploads/2025/06/Lifsgaedasetur-St.-Josefsspitali-Alzheimersamtokin.jpg
END:VEVENT
BEGIN:VEVENT
DTSTART;TZID=UTC:20250819T170000
DTEND;TZID=UTC:20250819T180000
DTSTAMP:20260420T141048
CREATED:20250624T182443Z
LAST-MODIFIED:20250624T182443Z
UID:36506-1755622800-1755626400@www.obi.is
SUMMARY:Alzheimersamtökin: Ráðgjöf strax eftir greiningu
DESCRIPTION:HlustaÞegar einstaklingur fær greiningu á heilabilun er að ýmsu að huga. Það að fá ráðgjöf\, strax við greiningu\, getur skipt sköpum. Þar er hægt að leggja grunn að upplýstum ákvörðunum og stuðningi sem getur bætt lífsgæði verulega. Þá getur verið mikill munur á að koma í ráðgjöf strax í stað þess að bíða þangað til allt er orðið erfiðara og þyngra. \nFyrirlesturinn\, Ráðgjöf strax eftir greiningu – lykill að betra lífi\, verður haldinn 19. ágúst 2025 frá kl. 17 til 18 í Lífsgæðasetrinu St. Jósepsspítala í Hafnarfirði.  \nÖll velkomin og engin skráning nauðsynleg. \nSjá nánar: Ráðgjöf strax eftir greiningu – lykill að betra lífi \n 
URL:https://www.obi.is/vidburdir/alzheimersamtokin-radgjof-strax-eftir-greiningu/
LOCATION:Lífsgæðasetur St. Jósepsspítala\, Suðurgata 41\, Hafnarfjörður\, 220\, Iceland
CATEGORIES:Aðildarfélög
ATTACH;FMTTYPE=image/jpeg:https://www.obi.is/wp-content/uploads/2025/06/Lifsgaedasetur-St.-Josefsspitali-Alzheimersamtokin.jpg
END:VEVENT
BEGIN:VEVENT
DTSTART;TZID=UTC:20240213T163000
DTEND;TZID=UTC:20240213T173000
DTSTAMP:20260420T141048
CREATED:20240119T101520Z
LAST-MODIFIED:20240119T101520Z
UID:15976-1707841800-1707845400@www.obi.is
SUMMARY:Fræðslufundur febrúar - Alzheimersamtökin
DESCRIPTION:HlustaFyrirlesari er dr. Sigrún Sigurðardóttir\, hjúkrunarfræðingur\, prófessor við Háskólann á Akureyri er með fyrirlestur um áfall vegna tilkomu heilabilunargreiningar; áskorun fyrir einstaklinginn og aðstandendur. Að greinast með langvinnan og lífsógnandi sjúkdóm getur valdið áfalli og sorg í kjölfarið. Áfallið getur þó komið fyrr\, eða þegar einstaklingar áttar sig á því að um langvinnan sjúkdóm geti verið að ræða og fara í gegnum aðdraganda að greiningarferli og í greiningu. Alvarlegar afleiðingar geta komið fram í kjölfar slíkra áfalla\, fljótlega eftir eða mörgum árum seinna. Stundum átta aðstandendur sig ekki á alvarleika og algengi slíkra áfalla og afleiðinga. Mikilvægt er að átta sig á því hvað hægt er að gera til að vinna með slík áföll og vinna með sorgina. Aðgangur er ókeypis og öll velkomin. Fyrirlestur verður á staðnum og einnig í beinu streymi á www.alzheimer.is. Upptökur verða aðgengilegar eftir fundinn. Vertu með\, þín þátttaka skiptir máli! Hlekkur á beint streymi er að finna hér.
URL:https://www.obi.is/vidburdir/fraedslufundur-februar-alzheimersamtokin/
LOCATION:Lífsgæðasetur St. Jósepsspítala\, Suðurgata 41\, Hafnarfjörður\, 220\, Iceland
CATEGORIES:Aðildarfélög
END:VEVENT
BEGIN:VEVENT
DTSTART;TZID=UTC:20240116T160000
DTEND;TZID=UTC:20240116T170000
DTSTAMP:20260420T141048
CREATED:20240112T123344Z
LAST-MODIFIED:20240112T123344Z
UID:15929-1705420800-1705424400@www.obi.is
SUMMARY:Alzheimersamtökin: Fræðsla fyrir nýgreinda og aðstandendur þeirra
DESCRIPTION:HlustaVið greiningu á heilabilun vakna eðlilega margar spurningar og afar mikilvægt er að fá svör við þeim svo að þú og fjölskyldan þín geti verið sem best í stakk búin til að takast á við þær áskoranir sem framundan eru.  \nÁ þessum fræðslufundi verður m.a fjallað um hvað heilabilun er\, lífið með heilabilun og ýmis hagnýt ráð ásamt því að starfsemi og markmið Seiglunnar\, þjónustumiðstöðvar Alzheimersamtakanna er kynnt. \nSigurbjörg Hannesdóttir\, fræðslustjóri Alzheimersamtakanna og Harpa Björgvinsdóttir\, verkefnastjóri Seiglunnar sjá um fræðsluna og verður boðið upp á að spyrja spurninga og umræður að lokinni fræðslu. \nFræðslan fer fram þriðjudaginn\, 16 janúar næstkomandi í Seiglunni klukkan 16:00 til 17:00\, Lífsgæðasetri St. Jósefsspítala Suðurgötu 41\, 3ja hæð\, 220 Hafnarfirði. \nSjá nánar: Fræðsla fyrir nýgreinda og aðstandendur þeirra (alzheimer.is)
URL:https://www.obi.is/vidburdir/alzheimersamtokin-fraedsla-fyrir-nygreinda-og-adstandendur-theirra/
LOCATION:Lífsgæðasetur St. Jósepsspítala\, Suðurgata 41\, Hafnarfjörður\, 220\, Iceland
CATEGORIES:Aðildarfélög
END:VEVENT
BEGIN:VEVENT
DTSTART;TZID=UTC:20240111T100000
DTEND;TZID=UTC:20240111T130000
DTSTAMP:20260420T141048
CREATED:20231221T111655Z
LAST-MODIFIED:20231221T111805Z
UID:15855-1704967200-1704978000@www.obi.is
SUMMARY:Áfram stelpur! Fræðslu- og sjálfsstyrkingarnámskeið ADHD samtakanna
DESCRIPTION:HlustaMarkmið námskeiðsins er að styrkja konur með ADHD í markmiðasetningu\, áætlanagerð og skipulagi með það fyrir augum að draga úr streitu og vanmáttarkennd. Námskeiðinu er ætlað að fræða konur um ýmis verkfæri sem nýst geta í þessum tilgangi og veita þjálfun í notkun þeirra í gegnum samtöl og verkefnavinnu. \nNámskeiðinu er ætlað að veita fræðslu um ADHD einkenni kvenna\, algengar fylgiraskanir þeirra og ólíkar birtingarmyndir röskunarinnar. Áhersla er lögð á þau hugrænu ferli sem liggja að baki algengum áskorunum sem einstaklingar með ADHD mæta í daglegu lífi\, hvort sem er í námi\, starfi\, heimilislífi\, félagslegum samskiptum eða uppeldi. \nNámskeiðið stendur í 9 klukkustundir – þrjú skipti\, 3 klukkustundir í senn fimmtudagana 11. – 18. og 25. janúar kl:10.00-13:00. Námskeiðið verður í húsnæði Lífsgæðasetursins í St. Jósefsspítala. Leiðbeinandi er Sigrún Jónsdóttir\, ADHD og einhverfu markþjálfi. \nSjá nánar: Námskeið | ADHD samtökin \n  \n 
URL:https://www.obi.is/vidburdir/afram-stelpur-fraedslu-og-sjalfsstyrkingarnamskeid-adhd-samtakanna/
LOCATION:Lífsgæðasetur St. Jósepsspítala\, Suðurgata 41\, Hafnarfjörður\, 220\, Iceland
CATEGORIES:Aðildarfélög
END:VEVENT
BEGIN:VEVENT
DTSTART;TZID=UTC:20230614T133000
DTEND;TZID=UTC:20230614T150000
DTSTAMP:20260420T141048
CREATED:20230609T105014Z
LAST-MODIFIED:20230609T105014Z
UID:13405-1686749400-1686754800@www.obi.is
SUMMARY:Stuðningshópur fyrir aðstandendur með maka á hjúkrunarheimili með heilabilun
DESCRIPTION:HlustaAðstandendur eru fjölbreyttur hópur með ólíkar þarfir en á það sameiginlegt að eiga ástvin á hjúkrunarheimili. Hóparnir byggjast á hugmyndafræði jafningjastuðnings og er markmiðið með samverunni að hittast\, spjalla og deila reynslunni. Stuðningur annarra í svipuðum aðstæðum getur bætt líðan og dregið úr streitu. \nhttps://www.alzheimer.is/vidburdir/stu%C3%B0ningshopur-me%C3%B0-maka-a-hjukrunarheimili11111111
URL:https://www.obi.is/vidburdir/studningshopur-fyrir-adstandendur-med-maka-a-hjukrunarheimili-med-heilabilun/
LOCATION:Lífsgæðasetur St. Jósepsspítala\, Suðurgata 41\, Hafnarfjörður\, 220\, Iceland
CATEGORIES:Aðildarfélög
END:VEVENT
BEGIN:VEVENT
DTSTART;TZID=UTC:20230502T163000
DTEND;TZID=UTC:20230502T173000
DTSTAMP:20260420T141048
CREATED:20230428T172202Z
LAST-MODIFIED:20230428T172202Z
UID:12907-1683045000-1683048600@www.obi.is
SUMMARY:Fræðslufundur maí 2023 [áhugavert @Alzheimersamtökin]
DESCRIPTION:HlustaFræðslufundur maí mánaðar fjallar um réttindi fólks með heilabilun og fyrirlesarinn er Ásta Kristín Guðmundsdóttir félagsráðgjaf. Aðeins um Ástu Kristínu; hún er félagsráðgjafi í Seiglunni og útskrifaðist með meistarapróf í félagsráðgjöf í júní 2012. Ásta Kristín vann sem félagsráðgjafi á Landakoti og þar á meðal á heilabilunareiningu Landakots\, bæði innlagnardeild og á Minnismóttöku. Hún hefur haldið kynningarfyrirlestra fyrir Alzheimersamtökin um heilabilun og mikilvægi samskipta. Einnig tekið þátt í fræðsludagskrá Alzheimersamtakanna með öðrum fagstéttum af Minnismóttöku Landakots þar sem aðstandendur fengu fræðslu um heilabilun\, þjónustu heim\, úrræði og hjálpartæki. Ásta Kristín hefur einnig starfað á geðsviði og í dag starfar hún sem teymisstjóri heimastuðnings hjá Reykjavíkurborg.
URL:https://www.obi.is/vidburdir/fraedslufundur-mai-2023-ahugavert-alzheimersamtokin/
LOCATION:Lífsgæðasetur St. Jósepsspítala\, Suðurgata 41\, Hafnarfjörður\, 220\, Iceland
CATEGORIES:Aðildarfélög
END:VEVENT
BEGIN:VEVENT
DTSTART;TZID=UTC:20230314T163000
DTEND;TZID=UTC:20230314T173000
DTSTAMP:20260420T141048
CREATED:20230302T125712Z
LAST-MODIFIED:20230302T125712Z
UID:12330-1678811400-1678815000@www.obi.is
SUMMARY:Fræðslufundur fyrir aðstandendur
DESCRIPTION:HlustaFræðslufundur marsmánaðar fjallar um aðstandendur og þá mun Brynhildur Jónsdóttir sálfræðingur í Seiglunni þjónustumiðstöð Alzheimersamtakanna flytja fyrirlestur sinn: Aðstandendur með heilabilunarsjúkdóma – helstu áskoranir á mismunandi stigum sjúkdómanna. \nAðeins um Brynhildi: hún starfaði eftir mastersnám á Minnismóttökunni á Landkoti við taugasálfræðilegar greiningar á fólki sem þangað leitaði vegna gruns um byrjandi heilabilun. Brynhildur starfaði einnig sem klínískur sálfræðingur á Áfalla- og sálfræðimiðstöðinni þar sem hún sinnti greiningum og meðferð á sálrænum vanda hjá fullorðnum. \nVið tökum fram að fyrirlesturinn er einungis fyrir aðstandendur/fagfólk og aðra sem hafa áhuga á málefninu og ekki sjúklinginn sjálfan. \nFjölmennum í Hafnarfjörðinn og fræðumst saman. Fyrir þá sem komast ekki á staðinn þá verðum við í beinu streymi hér á heimasíðunni okkar og upptökur aðgengilegar eftir fundinn.
URL:https://www.obi.is/vidburdir/fraedslufundur-fyrir-adstandendur/
LOCATION:Lífsgæðasetur St. Jósepsspítala\, Suðurgata 41\, Hafnarfjörður\, 220\, Iceland
CATEGORIES:Aðildarfélög
END:VEVENT
BEGIN:VEVENT
DTSTART;TZID=UTC:20230110T163000
DTEND;TZID=UTC:20230110T173000
DTSTAMP:20260420T141048
CREATED:20221207T105942Z
LAST-MODIFIED:20221207T110119Z
UID:10741-1673368200-1673371800@www.obi.is
SUMMARY:Alzheimersamtökin: Tónlist í daglegu lífi
DESCRIPTION:HlustaMagnea Tómasdóttir söngkona og tónlistarkennari fræðir okkur um tónlist í daglegu lífi. Hægt er að koma á staðinn eða fylgjast með okkur í streymi hér á heimasíðu okkar alzheimer.is \nAllir velkomnir og aðgangur ókeypis.  \nHefjum árið með tónlist og gleði. Upptökur frá fræðslufundi eru aðgengilegar eftir fundinn. \n\nAlzheimersamtökin halda mánaðarlega fræðslufundi. Sjá nánar á alzheimer.is \n  \n 
URL:https://www.obi.is/vidburdir/alzheimersamtokin-tonlist-i-daglegu-lifi/
LOCATION:Lífsgæðasetur St. Jósepsspítala\, Suðurgata 41\, Hafnarfjörður\, 220\, Iceland
CATEGORIES:Aðildarfélög
END:VEVENT
END:VCALENDAR