BEGIN:VCALENDAR
VERSION:2.0
PRODID:-//ÖBI - ECPv6.15.18//NONSGML v1.0//EN
CALSCALE:GREGORIAN
METHOD:PUBLISH
X-ORIGINAL-URL:https://www.obi.is
X-WR-CALDESC:Events for ÖBI
REFRESH-INTERVAL;VALUE=DURATION:PT1H
X-Robots-Tag:noindex
X-PUBLISHED-TTL:PT1H
BEGIN:VTIMEZONE
TZID:UTC
BEGIN:STANDARD
TZOFFSETFROM:+0000
TZOFFSETTO:+0000
TZNAME:UTC
DTSTART:20240101T000000
END:STANDARD
END:VTIMEZONE
BEGIN:VEVENT
DTSTART;TZID=UTC:20250308T150000
DTEND;TZID=UTC:20250308T163000
DTSTAMP:20260419T220726
CREATED:20250305T113907Z
LAST-MODIFIED:20250305T113907Z
UID:34004-1741446000-1741451400@www.obi.is
SUMMARY:MARCH FORWARD fyrir jafnrétti kynjanna
DESCRIPTION:HlustaUN women á alþjóðlegum baráttudegi kvenna 8. mars 2025\nViðburður á vegum UN women á Íslandi. \nStaðsetning: Sjálfsstæðissalurinn við Austurvöll (gamla NASA)\nTími: Húsið opnar kl. 14:30 en viðburður hefst kl.15:00-16:30\nKynnar: Íris Tanja Flygenring og Fannar Arnarsson \nDagskrá\n14:30 – Hús opnar. DJ Sunna Ben spilar.\n15:00 – Gjörningurinn Yfirtaka eftir Önnu Kolfinnu Kuran með þátttöku kóra\n15:25 – Samsöngur kóra; Domus vox – félagar úr stúlknakór Reykjavíkur og Aurora\, Karlakórinn Fóstbræður\, Kvennakór Reykjavíkur og Skólakór Kárness\n15:35 – Kynnar opna viðburð\, bjóða gesti velkomna.\n15:40 – Stella Samúelsdóttir\, framkvæmdastýra UN Women Íslandi\n15:45 – Kynnar bjóða Þorgerði Katrínu Gunnarsdóttur\, utanríkisráðherra á svið.\n15:50 – Þorgerður Katrín Gunnarsdóttir\, utanríkisráðherra\, ræða\n15:55 – Kynnar bjóða á svið næstu ræðukonur; Guðrúnu Ágústsdóttur\, Grace Achieng og Guðrúnu Evu Mínevrudóttur\n16:00 – Guðrún Ágústsdóttir\, ein af stofnendum Rauðsokkuhreyfingarinnar\n16:07 – Grace Achieng\, eigandi Gracelandic ehf\n16:14 – Guðrún Eva Mínervudóttir\, rithöfundur\n16:21 – Kynnar loka viðburði og sýna myndband \nBeint streymi af viðburðinum á Vísi og RÚV
URL:https://www.obi.is/vidburdir/march-forward-fyrir-jafnretti-kynjanna/
LOCATION:NASA salurinn við Austurvöll\, Vallarstræti\, Reykjavík\, 101\, Iceland
CATEGORIES:Aðildarfélög
ATTACH;FMTTYPE=image/webp:https://www.obi.is/wp-content/uploads/2025/03/MARCHFORWARD2025.COM-2-1024x474.png.webp
ORGANIZER;CN="UN women %C3%A1 %C3%8Dslandi":MAILTO:unwomen@unwomen.is
END:VEVENT
BEGIN:VEVENT
DTSTART;VALUE=DATE:20250201
DTEND;VALUE=DATE:20250202
DTSTAMP:20260419T220726
CREATED:20250102T194810Z
LAST-MODIFIED:20250128T155006Z
UID:30528-1738368000-1738454399@www.obi.is
SUMMARY:Þjóðfundur ungs fólks 2025
DESCRIPTION:HlustaÞjóðfundur ungs fólks verður haldinn föstudaginn 1. febrúar 2025. Þetta er í annað sinn sem fundurinn er haldinn\, en um er að ræða samstarfsverkefni ÖBÍ\, LÍS og LUF. Enn er hægt að skrá sig á Þjóðfundinn hér \nDagskrá Þjóðfundar ungs fólks 2025\n 
URL:https://www.obi.is/vidburdir/thjodfundur-ungs-folks-2/
LOCATION:NASA salurinn við Austurvöll\, Vallarstræti\, Reykjavík\, 101\, Iceland
CATEGORIES:Á döfinni
ATTACH;FMTTYPE=image/png:https://www.obi.is/wp-content/uploads/2024/02/THjodfundur-ungs-folks-1slaeda-e1738078045577.png
END:VEVENT
END:VCALENDAR