BEGIN:VCALENDAR
VERSION:2.0
PRODID:-//ÖBI - ECPv6.15.18//NONSGML v1.0//EN
CALSCALE:GREGORIAN
METHOD:PUBLISH
X-ORIGINAL-URL:https://www.obi.is
X-WR-CALDESC:Events for ÖBI
REFRESH-INTERVAL;VALUE=DURATION:PT1H
X-Robots-Tag:noindex
X-PUBLISHED-TTL:PT1H
BEGIN:VTIMEZONE
TZID:UTC
BEGIN:STANDARD
TZOFFSETFROM:+0000
TZOFFSETTO:+0000
TZNAME:UTC
DTSTART:20230101T000000
END:STANDARD
END:VTIMEZONE
BEGIN:VEVENT
DTSTART;TZID=UTC:20240815T160000
DTEND;TZID=UTC:20240815T183000
DTSTAMP:20260424T223425
CREATED:20240612T145423Z
LAST-MODIFIED:20240708T132338Z
UID:22056-1723737600-1723746600@www.obi.is
SUMMARY:Stjórnarfundur
DESCRIPTION:Hlusta
URL:https://www.obi.is/vidburdir/stjornarfundur-4/
LOCATION:Sigtún 42
CATEGORIES:Á döfinni
ATTACH;FMTTYPE=image/jpeg:https://www.obi.is/wp-content/uploads/2023/10/stjorn_2023.jpg
ORGANIZER;CN="%C3%96B%C3%8D r%C3%A9ttindasamt%C3%B6k":MAILTO:obi@obi.is
END:VEVENT
BEGIN:VEVENT
DTSTART;TZID=UTC:20240501T123000
DTEND;TZID=UTC:20240501T153000
DTSTAMP:20260424T223425
CREATED:20240306T181733Z
LAST-MODIFIED:20240424T112047Z
UID:17284-1714566600-1714577400@www.obi.is
SUMMARY:Réttindaganga ÖBÍ á 1. maí
DESCRIPTION:HlustaÖBÍ réttindasamtök hvetja allt fatlað fólk til að fjölmenna í kröfugöngu frá Skólavörðuholti niður á Ingólfstorg þann 1. maí. \nÍ ár er 101 ár frá því fyrsta kröfugangan á baráttudegi verkafólks var gengin og mikilvægt er að fatlað fólk á Íslandi láti vel í sér heyra og krefjist jöfnuðar og réttlætis. \nSafnast verður saman fyrir kröfugönguna á Skólavörðuholti klukkan 13:00. Gengið er af stað klukkan 13:30 niður Skólavörðustíg\, Bankastræti og Austurstræti að Ingólfstorgi þar sem dagskrá tekur við. \nÖBÍ réttindasamtök bjóða í kaffi að dagskrá lokinni í Sigtúni 42 og mun bjóða upp á ferðir frá Ingólfstorgi. Öll velkomin. \nMætum\, krefjumst réttlætis og látum í okkur heyra!
URL:https://www.obi.is/vidburdir/rettindaganga-obi-a-1-mai/
LOCATION:Sigtún 42
CATEGORIES:Á döfinni
ORGANIZER;CN="%C3%96B%C3%8D r%C3%A9ttindasamt%C3%B6k":MAILTO:obi@obi.is
END:VEVENT
BEGIN:VEVENT
DTSTART;TZID=UTC:20240124T190000
DTEND;TZID=UTC:20240124T210000
DTSTAMP:20260424T223425
CREATED:20231109T093328Z
LAST-MODIFIED:20231122T094754Z
UID:15364-1706122800-1706130000@www.obi.is
SUMMARY:Vertu þú – Námskeið ÖBÍ og KVAN
DESCRIPTION:HlustaHefst 24. janúar\, kennt á miðvikudögum kl. 19:00-21:00  \nÖBÍ réttindasamtök og KVAN bjóða í samstarfi upp á námskeið fyrir félagsfólk aðildafélaga ÖBÍ. Námskeiðið er sérhannað og skipulagt af KVAN en starfsmenn og stjórnendur fyrirtækisins hafa mikla menntun og áralanga reynslu í námskeiðahaldi. Á námskeiðinu geta þátttakendur öðlast verkfæri til að auka sjálfstraust\, læra markvissa markmiðasetningu\, áhrifarík samskipti og að nýta styrkleika sína. \nFyrir hverja?\nNámskeiðið er fyrir 20-35 ára einstaklinga úr aðildarfélögum ÖBÍ. \nHvað græði ég á að sækja námskeiðið?\nNámskeiðið er sniðið fyrir þá sem vilja styrkja sig í einkalífi\, skóla\, á atvinnumarkaði eða annars staðar. Hér að neðan má sjá nokkra þeirra efnisþátta sem farið verður yfir á námskeiðinu. \nMarkmiðasetning og framtíðarsýn\nVið kennum þátttakendum að setja þér skýra framtíðarsýn og markmið bæði fyrir sjálfa sig eða sitt vinnustaðateymi. Aðferðarfræðin sem við kennum eykur líkur á því að markmið náist og framtíðarýn þátttakenda verði að veruleika. \nSamskipti \nVið kennum aðferðir við að teikna upp samskiptakort\, kortleggja samskipti í starfi og einkalífi.\nVið kennum þátttakendum aðferðarfræði sem að hjálpar þei að þróa með sér enn betri samskiptafærni með áherslu á jákvæð samskipti. \nStyrkleikamiðuð nálgun\nRannsóknir sýna að með því að veita styrkleikum þínum athygli þá geta líkurnar á árangri margfaldast. Þátttakendur taka styrkleikapróf og við lesum úr því saman og lærum að yfirfæra á líf okkar \nSjáfstraust og sjálfsmynd\nVið lifum í samfélagi þar sem samfélagsmiðlar hafa mikil áhrif á okkar daglega líf. Það er nær óhjákvæmilegt að við berum okkar líf saman við líf annara. Hvaða áhrif hefur það? Hvernig mótast okkar sjálfsímynd og sjálfstraust þegar við sjáum afrek annara í glansmynd á hverjum degi? Er raunhæft að maður sé alltaf hamingjusamur og sáttur í eigin skinni? Við skoðum saman hver við erum sem einstaklingar og er ástæða fyrir því að við séum eins og við erum? \nSkipulag\nNámskeiðið er kennt í 3 skipti\, á fimmtudögum í 2 klst. í senn. Námskeiðið hefst þann 23. nóvember og lýkur þann 7. desember. Kennt verður dagana 23. og 30. nóvember og  7. desember. Námskeiðið fer fram í húsnæði ÖBÍ að Sigtúni 42\, 105 Reykjavík. \nEftir námskeið hjá KVAN ættu þátttakendur að geta fundið aukinn kraft\, meira jafnvægi og aukið sjálfstraust. Við styrkjum sjálfstraustið og trú á eigin getu ásamt því að finna leiðir til að vera í meira jafnvægi sem nýtist okkur vel þegar takast þarf á við breytingar hvort sem það er á starfsvettvangi eða lífinu sjálfu. Þátttakendur geta lært að finna leið til að hámarka árangur sinn sem nýst getur í leik og eða starfi. \nÞar sem ÖBÍ réttindasamtök niðurgreiðir langstærstan hluta kostnaðar er skráningargjald aðeins 2.500 krónur á þátttakanda. \nSkráning: \nVertu þú – Námskeið ÖBÍ og KVAN
URL:https://www.obi.is/vidburdir/vertu-thu-namskeid-obi-og-kvan/
LOCATION:Sigtún 42
CATEGORIES:Á döfinni
END:VEVENT
END:VCALENDAR