BEGIN:VCALENDAR
VERSION:2.0
PRODID:-//ÖBI - ECPv6.15.18//NONSGML v1.0//EN
CALSCALE:GREGORIAN
METHOD:PUBLISH
X-ORIGINAL-URL:https://www.obi.is
X-WR-CALDESC:Events for ÖBI
REFRESH-INTERVAL;VALUE=DURATION:PT1H
X-Robots-Tag:noindex
X-PUBLISHED-TTL:PT1H
BEGIN:VTIMEZONE
TZID:UTC
BEGIN:STANDARD
TZOFFSETFROM:+0000
TZOFFSETTO:+0000
TZNAME:UTC
DTSTART:20240101T000000
END:STANDARD
END:VTIMEZONE
BEGIN:VEVENT
DTSTART;TZID=UTC:20250809T140000
DTEND;TZID=UTC:20250809T170000
DTSTAMP:20260425T112509
CREATED:20250512T124037Z
LAST-MODIFIED:20250512T141332Z
UID:35683-1754748000-1754758800@www.obi.is
SUMMARY:Gleðigangan 2025
DESCRIPTION:HlustaÖBÍ réttindasamtök munu taka þátt í gleðigöngunni 2025 laugardaginn 9. ágúst.  Nánari upplýsingar um þátttöku okkar munu birtast hér er nær dregur gleðigöngunni. \n„Gangan fer af stað frá Hallgrímskirkju stundvíslega kl. 14:00. Gengið er þaðan eftir Skólavörðustíg\, Bankastræti\, Lækjargötu og Fríkirkjuvegi. Gangan endar við gatnamót Fríkirkjuvegar og Skothúsvegar\, en atriði halda áfram inn Sóleyjargötu og þaðan inn í Hljómskálagarðinn þar sem útitónleikar taka við. “  Gleðigangan – Hinsegin dagar \nEinnig viljum við vekja athygli á umsögn réttindasamtakanna frá 2. maí 2025: Áform um aðgerðaáætlun í málefnum hinsegin fólks 2026-2029 – ÖBI
URL:https://www.obi.is/vidburdir/gledigangan-2025/
LOCATION:Skólavörðuholt\, Hallgrímstorgi 1\, Reykjavík\, 101\, Iceland
CATEGORIES:Á döfinni
ATTACH;FMTTYPE=image/jpeg:https://www.obi.is/wp-content/uploads/2025/05/Gledigangan-scaled-e1747053503807.jpg
END:VEVENT
END:VCALENDAR