BEGIN:VCALENDAR
VERSION:2.0
PRODID:-//ÖBI - ECPv6.15.18//NONSGML v1.0//EN
CALSCALE:GREGORIAN
METHOD:PUBLISH
X-WR-CALNAME:ÖBI
X-ORIGINAL-URL:https://www.obi.is
X-WR-CALDESC:Events for ÖBI
REFRESH-INTERVAL;VALUE=DURATION:PT1H
X-Robots-Tag:noindex
X-PUBLISHED-TTL:PT1H
BEGIN:VTIMEZONE
TZID:UTC
BEGIN:STANDARD
TZOFFSETFROM:+0000
TZOFFSETTO:+0000
TZNAME:UTC
DTSTART:20240101T000000
END:STANDARD
END:VTIMEZONE
BEGIN:VEVENT
DTSTART;TZID=UTC:20250215T130000
DTEND;TZID=UTC:20250215T160000
DTSTAMP:20260425T162636
CREATED:20250207T152843Z
LAST-MODIFIED:20250207T152918Z
UID:33389-1739624400-1739635200@www.obi.is
SUMMARY:Heimildarmyndin: \,\,Crip Camp’’ – Fötlunarbylting
DESCRIPTION:HlustaÍ tilefni af 20 ára afmælishátíðar fötlunarfræða í HÍ er sýnd heimildamyndin \,\,Crip Camp – Fötlunarbylting’’ í Þjóðleikhúskjallaranum. Eftir sýninguna verða umræður. REC arts og Freyja Haraldsdóttir leiða umræður. \nHvar: Þjóðleikhúskjallarinn\, Hverfisgötu 19\, 101 Reykjavík\nHvenær: Laugardagur 15. febrúar á milli klukkan 1 og 4 eftir hádegi (13-16) \nÞað er ókeypis inn en fólk þarf að skrá að það komi. Það má skrá sig hér eða senda tölvupóst á recartsrvk@gmail.com og skrá sig. \nLéttar veitingar í boði. \nSjá nánari upplýsingar: Menningarhátíðin UPPSKERA í tilefni 20 ára afmælis fötlunarfræða | Háskóli Íslands og Uppskera | Háskóli Ísland
URL:https://www.obi.is/vidburdir/heimildarmyndin-crip-camp-fotlunarbylting/
LOCATION:Þjóðleikhúskjallarinn\, Hverfisgata 19\, Reykjavík\, 101\, Iceland
CATEGORIES:Aðildarfélög
ATTACH;FMTTYPE=image/webp:https://www.obi.is/wp-content/uploads/2025/02/Crip-Camp-A-Disability-Revolution.webp
END:VEVENT
END:VCALENDAR