BEGIN:VCALENDAR
VERSION:2.0
PRODID:-//ÖBI - ECPv6.15.18//NONSGML v1.0//EN
CALSCALE:GREGORIAN
METHOD:PUBLISH
X-WR-CALNAME:ÖBI
X-ORIGINAL-URL:https://www.obi.is
X-WR-CALDESC:Events for ÖBI
REFRESH-INTERVAL;VALUE=DURATION:PT1H
X-Robots-Tag:noindex
X-PUBLISHED-TTL:PT1H
BEGIN:VTIMEZONE
TZID:UTC
BEGIN:STANDARD
TZOFFSETFROM:+0000
TZOFFSETTO:+0000
TZNAME:UTC
DTSTART:20230101T000000
END:STANDARD
END:VTIMEZONE
BEGIN:VEVENT
DTSTART;TZID=UTC:20240623T150000
DTEND;TZID=UTC:20240804T170000
DTSTAMP:20260422T233605
CREATED:20240614T130341Z
LAST-MODIFIED:20240702T141703Z
UID:22155-1719154800-1722790800@www.obi.is
SUMMARY:Norræna húsið: ókeypis tónleikar á sunnudögum í sumar
DESCRIPTION:HlustaSumartónleikaröð Norræna hússins nýtur ávalt mikilla vinsælda og nú er dagskrá sumarsins farin að taka á sig mynd. \nFrá sunnudeginum 23. júní til 4. ágúst 2024 er ókeypis inn á tónleikana sem haldnir eru í gróðurhúsi Norræna hússins. \nSjá dagskrá og nánari upplýsingar:  PIKKNIKK: ókeypis tónleikar á sunnudögum í sumar! | Norræna Húsið (nordichouse.is)  
URL:https://www.obi.is/vidburdir/norraena-husid-okeypis-tonleikar-a-sunnudogum-i-sumar/
LOCATION:Norræna húsið\, Sæmundargötu 11\, Reykjavík\, 102\, Iceland
CATEGORIES:Aðildarfélög
ATTACH;FMTTYPE=image/jpeg:https://www.obi.is/wp-content/uploads/2024/06/nh-1600x-TIX.jpg
END:VEVENT
END:VCALENDAR