BEGIN:VCALENDAR
VERSION:2.0
PRODID:-//ÖBI - ECPv6.15.18//NONSGML v1.0//EN
CALSCALE:GREGORIAN
METHOD:PUBLISH
X-ORIGINAL-URL:https://www.obi.is
X-WR-CALDESC:Events for ÖBI
REFRESH-INTERVAL;VALUE=DURATION:PT1H
X-Robots-Tag:noindex
X-PUBLISHED-TTL:PT1H
BEGIN:VTIMEZONE
TZID:UTC
BEGIN:STANDARD
TZOFFSETFROM:+0000
TZOFFSETTO:+0000
TZNAME:UTC
DTSTART:20230101T000000
END:STANDARD
END:VTIMEZONE
BEGIN:VEVENT
DTSTART;TZID=UTC:20240623T150000
DTEND;TZID=UTC:20240804T170000
DTSTAMP:20260422T091037
CREATED:20240614T130341Z
LAST-MODIFIED:20240702T141703Z
UID:22155-1719154800-1722790800@www.obi.is
SUMMARY:Norræna húsið: ókeypis tónleikar á sunnudögum í sumar
DESCRIPTION:HlustaSumartónleikaröð Norræna hússins nýtur ávalt mikilla vinsælda og nú er dagskrá sumarsins farin að taka á sig mynd. \nFrá sunnudeginum 23. júní til 4. ágúst 2024 er ókeypis inn á tónleikana sem haldnir eru í gróðurhúsi Norræna hússins. \nSjá dagskrá og nánari upplýsingar:  PIKKNIKK: ókeypis tónleikar á sunnudögum í sumar! | Norræna Húsið (nordichouse.is)  
URL:https://www.obi.is/vidburdir/norraena-husid-okeypis-tonleikar-a-sunnudogum-i-sumar/
LOCATION:Norræna húsið\, Sæmundargötu 11\, Reykjavík\, 102\, Iceland
CATEGORIES:Aðildarfélög
ATTACH;FMTTYPE=image/jpeg:https://www.obi.is/wp-content/uploads/2024/06/nh-1600x-TIX.jpg
END:VEVENT
BEGIN:VEVENT
DTSTART;TZID=UTC:20240708T080000
DTEND;TZID=UTC:20240831T170000
DTSTAMP:20260422T091037
CREATED:20240708T170102Z
LAST-MODIFIED:20240708T170102Z
UID:23295-1720425600-1725123600@www.obi.is
SUMMARY:Heilaheill: Málstolsþjálfun
DESCRIPTION:HlustaTökum til máls\nNæsta vetur (2024-2025) stendur HEILAHEILL fyrir hópastarfi fyrir fólk með málstol. Markmið þessa hóps er að gefa þátttakendum tækifæri til að efla samskipta-færni sína og gefa þeim mikilvægt tækifæri til að læra af öðrum sem eru í svipaðri stöðu. Þá fer einnig fram fræðsla um orsakir og eðli málstols og bjargráð. Umræðuefni eru fjölbreytt og eru sköpuð tækifæri til að taka þátt í skoðanaskiptum og frásögnum af eigin högum. Áhersla er á málnotkun sem nýtist einstaklingnum í hans daglega lífi. \nTímarnir munu fara fram á laugardögum frá klukkan 11:00-12:30\, nema fyrsta laugardag hvers mánaðar en þá eru fundir hjá Heilaheill á sama tíma. Forsvarsmenn verkefnisins munu hafa samband þegar nær dregur. \nForsvarsmenn hópastarfsins eru talmeinafræðingarnir Þórunn Halldórsdóttir og Helga Thors. \n» Sjá nánar: Heilaheill \n» Skráning: Tökum til máls haust 2024 \n 
URL:https://www.obi.is/vidburdir/heilaheill-malstolsthjalfun/
LOCATION:Mannréttindahúsið\, Sigtún 42\, Reykjavík\, Iceland
CATEGORIES:Aðildarfélög
ATTACH;FMTTYPE=image/jpeg:https://www.obi.is/wp-content/uploads/2024/07/Heilaheill-Malstol.jpg
END:VEVENT
BEGIN:VEVENT
DTSTART;TZID=UTC:20240715T110000
DTEND;TZID=UTC:20240715T140000
DTSTAMP:20260422T091037
CREATED:20240619T171058Z
LAST-MODIFIED:20241112T173354Z
UID:22365-1721041200-1721052000@www.obi.is
SUMMARY:Fjölskyldufjör: Árbæjarsafn - Open Air Museum
DESCRIPTION:HlustaEAPN á Íslandi og TINNA – Virknihús\, bjóða upp á Fjölskyldufjör\, samveru með börnum\, alla mánudaga í sumar\, frá 10. júní til 19. ágúst 2024. \n» Mæting í Fjölskyldumiðstöðina í Gerðubergi 3-5 kl. 11.00 (mánudagur).\n» Boðið upp á brauð og drykki áður en farið verður með strætó á áfangastað. \n» Engin skráning og kostar ekkert. Öll velkomin. \nEAPN Iceland and TINNA – Virknihús\, offers family fun with children. We start on 10th of june and end the 19th of august. \n» Attendance in Gerðuberg 3-5 every monday´s at 11.00.\n» Bread and drinks before we go with the public bus to the destination.\n» No registration and free of charge. \n\n\nEinnig verður opið hús\, brauð og drykkir og spjall við félagsráðgjafa í opnum tíma alla miðvikudaga í sumar milli kl. 10.00 – 14.00 í Gerðubergi 3-5.\nWe also offer bread\, drinks and chat with social worker in open hours every Wednesday‘s between 10.00 – 14.00 in Gerðuberg 3-5.\n\nFjölskyldumiðstöðin í Gerðubergi | Reykjavík | Facebook
URL:https://www.obi.is/vidburdir/fjolskyldufjor-arbaejarsafn-open-air-museum/
LOCATION:Fjölskyldumiðstöðin\, Gerðuberg 3-5\, Reykjavík\, 111\, Iceland
CATEGORIES:Aðildarfélög
ATTACH;FMTTYPE=image/png:https://www.obi.is/wp-content/uploads/2024/07/myh198iq.png
END:VEVENT
END:VCALENDAR