BEGIN:VCALENDAR
VERSION:2.0
PRODID:-//ÖBI - ECPv6.15.18//NONSGML v1.0//EN
CALSCALE:GREGORIAN
METHOD:PUBLISH
X-WR-CALNAME:ÖBI
X-ORIGINAL-URL:https://www.obi.is
X-WR-CALDESC:Events for ÖBI
REFRESH-INTERVAL;VALUE=DURATION:PT1H
X-Robots-Tag:noindex
X-PUBLISHED-TTL:PT1H
BEGIN:VTIMEZONE
TZID:UTC
BEGIN:STANDARD
TZOFFSETFROM:+0000
TZOFFSETTO:+0000
TZNAME:UTC
DTSTART:20230101T000000
END:STANDARD
END:VTIMEZONE
BEGIN:VEVENT
DTSTART;TZID=UTC:20240919T090000
DTEND;TZID=UTC:20240919T090000
DTSTAMP:20260425T134558
CREATED:20240513T090351Z
LAST-MODIFIED:20240708T132628Z
UID:20813-1726736400-1726736400@www.obi.is
SUMMARY:Sjálfbærni og mannréttindi – Mannréttindamorgnar [@Mannréttindahúsið]
DESCRIPTION:HlustaElva Rakel Jónsdóttir\, framkvæmdastjóri Festu\, flytur fyrirlestur um sjálfbærni og mannréttindi á Mannréttindamorgnum í Mannréttindahúsinu.
URL:https://www.obi.is/vidburdir/sjalfbaerni-og-mannrettindi-mannrettindamorgnar-mannrettindahusid/
LOCATION:Mannréttindahúsið\, Sigtún 42\, Reykjavík\, Iceland
CATEGORIES:Aðildarfélög
ATTACH;FMTTYPE=image/jpeg:https://www.obi.is/wp-content/uploads/2024/05/Elva-Rakel-Jonsdottir.-Likkedln.jpg
END:VEVENT
END:VCALENDAR