BEGIN:VCALENDAR
VERSION:2.0
PRODID:-//ÖBI - ECPv6.15.18//NONSGML v1.0//EN
CALSCALE:GREGORIAN
METHOD:PUBLISH
X-WR-CALNAME:ÖBI
X-ORIGINAL-URL:https://www.obi.is
X-WR-CALDESC:Events for ÖBI
REFRESH-INTERVAL;VALUE=DURATION:PT1H
X-Robots-Tag:noindex
X-PUBLISHED-TTL:PT1H
BEGIN:VTIMEZONE
TZID:UTC
BEGIN:STANDARD
TZOFFSETFROM:+0000
TZOFFSETTO:+0000
TZNAME:UTC
DTSTART:20230101T000000
END:STANDARD
END:VTIMEZONE
BEGIN:VEVENT
DTSTART;TZID=UTC:20240927T080000
DTEND;TZID=UTC:20240927T160000
DTSTAMP:20260421T232652
CREATED:20240913T103912Z
LAST-MODIFIED:20241112T173208Z
UID:25598-1727424000-1727452800@www.obi.is
SUMMARY:Myasthenia Gravis - Lífsgæði & meðferð
DESCRIPTION:HlustaMG félag Íslands mun halda ráðstefnu á Grand Hótel í Reykjavík\, 27. september 2024\, Myasthenia Gravis- Lífsgæði og meðferð. Enginn aðgangseyrir er að ráðstefnunni en skráning tryggir pláss. Skráning fer fram á heimasíðu félagsins\, mgisland.is.\n\nMyasthenia Gravis (MG) er sjaldgæfur sjálfsofnæmissjúkdómur í taugavöðvamótum sem veldur sveiflukenndu vöðvakraftleysi og þreytu sem hefur víðtæk áhrif á lífsgæði fólks. Ýmis meðferðarúrræði eru þekkt en þegar um er að ræða svo fátíðan sjúkdóm er almenn þekking og reynsla fagfólks óhjákvæmilega takmörkuð.\n\nMG félagið vill með þessari ráðstefnu breiða út og auka þekkingu á sjúkdómnum. Sjö af fremstu sérfræðingum Norðurlandanna í MG munu halda erindi um sitt sérsvið. Flest þeirra eru höfundar leiðbeininga um meðferð við MG sem kom út í febrúar síðastliðnum*. Dagskráin er þannig saman sett að hún mun nýtast bæði þeim sem þekkja MG og jafnframt þeim sem vita minna.\n\nVið hvetjum ykkur til að kynna ykkur dagskránna og nýta þetta einstaka tækifæri til að hlusta á helstu sérfræðinga Norðurlandanna í MG.
URL:https://www.obi.is/vidburdir/myasthenia-gravis-lifsgaedi-medferd/
LOCATION:Grand Hótel Reykjavík\, Sigtún 38\, Reykjavík\, 105
CATEGORIES:Aðildarfélög
END:VEVENT
END:VCALENDAR