BEGIN:VCALENDAR
VERSION:2.0
PRODID:-//ÖBI - ECPv6.15.18//NONSGML v1.0//EN
CALSCALE:GREGORIAN
METHOD:PUBLISH
X-ORIGINAL-URL:https://www.obi.is
X-WR-CALDESC:Events for ÖBI
REFRESH-INTERVAL;VALUE=DURATION:PT1H
X-Robots-Tag:noindex
X-PUBLISHED-TTL:PT1H
BEGIN:VTIMEZONE
TZID:UTC
BEGIN:STANDARD
TZOFFSETFROM:+0000
TZOFFSETTO:+0000
TZNAME:UTC
DTSTART:20230101T000000
END:STANDARD
END:VTIMEZONE
BEGIN:VEVENT
DTSTART;TZID=UTC:20241113T000000
DTEND;TZID=UTC:20241227T000000
DTSTAMP:20260421T093543
CREATED:20241009T132738Z
LAST-MODIFIED:20241009T132738Z
UID:27776-1731456000-1735257600@www.obi.is
SUMMARY:Framkoma á eigin forsendum - námskeið UngÖBÍ og KVAN
DESCRIPTION:HlustaUngÖBÍ og KVAN bjóða í samstarfi upp á námskeiðið Framkoma á eigin forsendum fyrir félagsfólk aðildafélaga ÖBÍ réttindasamtaka á aldrinum 18-35 ára. \nÁ námskeiðinu verður farið yfir: \n\nSjálfstraust og hugrekki\nKynningartækni og framkomu\nSamskipti út frá stryrkleikamiðaðri nálgun\n\n  \nÞað væri frábært ef þið gætuð aðstoðað okkur við að auglýsa námskeiðið meðal ungliða í ykkar félagi\, t.d. á facebook síðu félagsins\, facebook hópi eða með tölvupósti. \nNámskeiðið rúmar að hámarki 20 manns svo áhugasamir eru hvattir til að ganga frá skráningu fyrr en seinna. \n  \nNámskeiðið er kennt í 3 skipti\, á miðvikudögum frá kl. 19-21. Kennt verður dagana 13. 20. og 27. nóvember í Marréttindahúsinu\, húsnæði ÖBÍ að Sigtúni 42\, 105 Reykjavík. \n  \nÞar sem ÖBÍ réttindasamtök niðurgreiðir langstærstan hluta kostnaðar er skráningargjald aðeins 2.500 krónur á þátttakanda. \nNánari upplýsingar og skráning má finna á heimasíðu KVAN í hlekknum hér að neðan: \nhttps://kvan.is/events/framkoma-a-eigin-forsendum-obi-og-kvan-2/ \n  \nEkki hika við að hafa samband ef þú hefur einhverjar spurningar.
URL:https://www.obi.is/vidburdir/framkoma-a-eigin-forsendum-namskeid-ungobi-og-kvan/
LOCATION:Mannréttindahúsið\, Sigtún 42\, Reykjavík\, Iceland
CATEGORIES:Á döfinni
END:VEVENT
BEGIN:VEVENT
DTSTART;TZID=UTC:20241113T080000
DTEND;TZID=UTC:20241211T170000
DTSTAMP:20260421T093543
CREATED:20241113T122749Z
LAST-MODIFIED:20241113T122807Z
UID:29352-1731484800-1733936400@www.obi.is
SUMMARY:Klifurnámskeið fyrir blind\, sjónskert eða hreyfihömluð börn
DESCRIPTION:HlustaKlifurfélag Reykjavíkur er að fara af stað með klifurnámskeið fyrir blind\, sjónskert eða hreyfihömluð börn. \nMarkmið námskeiðsins:\nMarkmið verkefnisins er að kynna klifuríþróttina fyrir fjölbreyttari hóp barna og ungmenna og auka þátttöku fatlaðra barna í íþróttum. \nHver er markhópurinn:\nBörn í 6. – 10. bekk í grunnskóla sem eru blind\, sjónskert eða með hreyfihömlun. \nLýsing á verkefninu:\nKlifur fyrir fatlaða/paraklifur er nýtt verkefni með það að markmiði að auka framboð íþróttaiðkunar fyrir fötluð börn og ungmenni. Námskeiðið verður 5 vikur þar sem æft er 2x í viku með reyndum þjálfurum. Ef vel gengur myndum við vilja skoða að bjóða upp á áframhaldandi námskeið/æfingar fyrir þennan hóp. \nÆfingar verða á miðvikudögum kl. 15:30 í Miðgarði (Garðabæ) og laugardögum kl. 10:00 í Klifurhúsinu\, Ármúla 23. \nVerkefnið er styrkt af hvatasjóði Allir með. \nSvana Ösp Kristmundsdóttir\, klifrari og sjúkraþjálfari\, kennir námskeiðið. \nNámskeiðið byrjar miðvikudaginn 13. nóvember. \nVerð og skráning:\nNámskeiðið kostar 5.000 kr\nSkráning fer fram hér
URL:https://www.obi.is/vidburdir/klifurnamskeid-fyrir-blind-sjonskert-eda-hreyfihomlud-born/
CATEGORIES:Aðildarfélög
END:VEVENT
BEGIN:VEVENT
DTSTART;TZID=UTC:20241130T140000
DTEND;TZID=UTC:20241130T180000
DTSTAMP:20260421T093543
CREATED:20241126T140618Z
LAST-MODIFIED:20241126T140618Z
UID:29703-1732975200-1732989600@www.obi.is
SUMMARY:Fundur fólksins í Hörpu
DESCRIPTION:Hlusta\nFundur fólksins\, ráðstefna Almannaheilla\, verður haldin í Hörpu daginn fyrir þingkosningar\, 29. nóvember 2024 kl. 14-18. \nLeiðarljós Fundar fólksins er að efla lýðræði og samfélagsþátttöku með samtali milli frjálsra félagasamtaka\, stjórnmálafólks og almennings.\n\nBoðið verður upp á málstofur\, fyrirlestra og pallborðsumræður auk þess sem fjöldi frjálsra félagasamtaka kynnir sína starfsemi. Í lokin fara fram stjórnmálaumræður með þátttöku þeirra flokka sem bjóða fram á landsvísu í þingkosningum. \nÁherslan á ráðstefnunni í ár er að vekja athygli á mikilvægi almannaheillafélaga og frjálsra félagasamtaka og þeim verðmætum sem þriðji geirinn skapar fyrir allt samfélagið. Frjáls félagasamtök snerta líf okkar allra\, styrkja samfélagið og takast á við fjölbreytt verkefni. \nÁ ráðstefnunni verður m.a. rætt um áskoranir almannaheillafélaga og hvaða stuðning þau þurfa til að blómstra svo þau geti starfað sem mikilvægur stuðningur við samfélagið. \nRíflega 600 skráð almannaheillafélög eru starfandi hér á landi og frjáls félagasamtök af ýmsu tagi eru margfalt fleiri. Félög sem starfa innan þriðja geirans\, sem einnig hefur verið nefndur hagnaðarlausa hagkerfið eða félagshagkerfið\, verða oft útundan í umræðunni. Með Fundi fólksins er markmiðið að gera starfsemi félaganna sýnilegri og varpa ljósi á mikilvægi hennar. \nFundur fólksins\, ráðstefna Almannaheilla er styrkt af Reykjavíkurborg og Félags- og vinnumarkaðsráðuneytinu. Fyrr um daginn er haldin Lýðræðishátíð unga fólksins í Hörpu\, þar sem unglingar fá fræðslu um lýðræði og samfélagsþátttöku. \nAlmannaheill – samtök þriðja geirans – voru stofnuð sumarið 2008 til að vinna að sameiginlegum hagsmunamálum fyrir almannaheillasamtök og sjálfseignarstofnanir sem starfa í almannaþágu\, styrkja starfsumhverfi þeirra og ímynd\, efla stöðu þriðja geirans í samfélaginu og koma fram fyrir hönd hans gagnvart opinberum aðilum og fjölmiðlum. Þá vinna samtökin að því að heildarlöggjöf verði sett um starfsemi frjálsra félagasamtaka\, að skattaleg staða þeirra verði bætt\, og að sýnileiki þriðja geirans í þjóðfélaginu verði aukinn. \n 
URL:https://www.obi.is/vidburdir/fundur-folksins-i-horpu/
LOCATION:Harpa\, Austurbakka 2\, Reykjavík\, 101\, Iceland
CATEGORIES:Aðildarfélög
END:VEVENT
END:VCALENDAR