BEGIN:VCALENDAR
VERSION:2.0
PRODID:-//ÖBI - ECPv6.15.18//NONSGML v1.0//EN
CALSCALE:GREGORIAN
METHOD:PUBLISH
X-WR-CALNAME:ÖBI
X-ORIGINAL-URL:https://www.obi.is
X-WR-CALDESC:Events for ÖBI
REFRESH-INTERVAL;VALUE=DURATION:PT1H
X-Robots-Tag:noindex
X-PUBLISHED-TTL:PT1H
BEGIN:VTIMEZONE
TZID:UTC
BEGIN:STANDARD
TZOFFSETFROM:+0000
TZOFFSETTO:+0000
TZNAME:UTC
DTSTART:20240101T000000
END:STANDARD
END:VTIMEZONE
BEGIN:VEVENT
DTSTART;TZID=UTC:20251009T163000
DTEND;TZID=UTC:20251009T180000
DTSTAMP:20260422T071838
CREATED:20251007T132737Z
LAST-MODIFIED:20251007T132737Z
UID:38860-1760027400-1760032800@www.obi.is
SUMMARY:Opnunarhátíð Listar án landamæra
DESCRIPTION:HlustaSetning hátíðar 2025 og opnunarhóf Listar án landamæra í samstarfi við ÖBÍ réttindasamtök. \nSkráning er á viðburðinn hér: \nhttps://forms.gle/LEG1YmNpPFqbBofFA \n\nKynning á hátíðardagskrá\nListafólk ársins hlýtur viðurkenningar\nKórinn BjartSýni tekur lagið – Kórinn hlaut hvatningarverðlaun Listar án landamæra 2025\n\nAfhjúpun vegglistaverks byggt á myndlist Snorra Ásgeirssonar heiðurslistamanneskju hátíðarinnar 2024. \nÖBÍ réttindasamtök fengu þau Elsu Jónsdóttur og Björn Loka í Kroti og krassi\, til að vinna lágmyndina í anddyri Mannréttindahússins. \nLéttar veitingar á boðstólum að lokinni dagskrá \nAÐGENGI Í MANNRÉTTINDAHÚSINU: \n\n3 stæði fyrir hreyfihamlaða við inngang\nAðgengilegar gönguleiðir með snjóbræðslu\nEngir þröskuldar inni í húsinu\nLyfta á milli hæða\nAðgengileg salerni\n\nAðalstyrktaraðilar Listar án landamæra \n\nMenningar-\, nýsköpunar- og háskólaráðuneyti\nReykjavíkurborg\nÖBÍ réttindasamtök\nHitt húsið
URL:https://www.obi.is/vidburdir/opnunarhatid-listar-an-landamaera/
LOCATION:Mannréttindahúsið\, Sigtún 42\, Reykjavík\, Iceland
CATEGORIES:Á döfinni
ATTACH;FMTTYPE=image/jpeg:https://www.obi.is/wp-content/uploads/2025/10/558233596_1393405542790116_6431425617933785504_n.jpg
END:VEVENT
END:VCALENDAR