BEGIN:VCALENDAR
VERSION:2.0
PRODID:-//ÖBI - ECPv6.15.18//NONSGML v1.0//EN
CALSCALE:GREGORIAN
METHOD:PUBLISH
X-ORIGINAL-URL:https://www.obi.is
X-WR-CALDESC:Events for ÖBI
REFRESH-INTERVAL;VALUE=DURATION:PT1H
X-Robots-Tag:noindex
X-PUBLISHED-TTL:PT1H
BEGIN:VTIMEZONE
TZID:UTC
BEGIN:STANDARD
TZOFFSETFROM:+0000
TZOFFSETTO:+0000
TZNAME:UTC
DTSTART:20240101T000000
END:STANDARD
END:VTIMEZONE
BEGIN:VEVENT
DTSTART;TZID=UTC:20251017T130000
DTEND;TZID=UTC:20251017T143000
DTSTAMP:20260422T045342
CREATED:20250821T093804Z
LAST-MODIFIED:20251016T123354Z
UID:37666-1760706000-1760711400@www.obi.is
SUMMARY:Upprætum fátækt! - alþjóðlegur baráttudagur gegn fátækt -
DESCRIPTION:HlustaFöstudaginn 17. október frá kl. 13 til 14:30 bjóða EAPN á Íslandi og Kjarahópur ÖBÍ til fundar undir yfirskriftinni Upprætum fátækt!  Fundurinn verður  haldinn í Borgarbókasafninu Grófinni\, Tryggvagötu 15. \n\nStutt erindi um alþjóðlegan baráttudag gegn fátækt: Steinunn Þóra Árnadóttir\, formaður EAPN á Íslandi\nKynning á fræðsluprófi um fátækt : Sigríður Hanna Ingólfsdóttir\, starfsmaður kjarahóps ÖBÍ\nEr fátækt á Íslandi? Birtingarmyndir fátæktar í rannsóknum Vörðu\, Rannsóknarstofnunar vinnumarkaðarins. Kristín Heba Gísladóttir\, framkvæmdastjóri Vörðu.\nKynning á átaksverkefni um örsögur: Steinunn Þóra Árnadóttir\, formaður EAPN á Íslandi\nJöfn tækifæri fyrir öll börn\, undirbúningur að aðgerðaráætlun gegn barnafátækt:  Guðmundur Ingi Kristinsson mennta- og barnamálaráðherra.\n\nFundurinn verður rittúlkaður – Veitingar og spjall – Örsögur verða lesnar á milli atriða – Aðgangur ókeypis – Öll velkomin – Hlökkum til að sjá þig! \n» Facebook viðburðurinn
URL:https://www.obi.is/vidburdir/althjodlegur-barattudagur-gegn-fataekt/
LOCATION:Borgarbókasafnið – Grófinni\, Tryggvagata15\, Reykjavík\, 101\, Iceland
CATEGORIES:Á döfinni
ATTACH;FMTTYPE=image/png:https://www.obi.is/wp-content/uploads/2025/08/1-Engin-fataekt.png
ORGANIZER;CN="%C3%96B%C3%8D r%C3%A9ttindasamt%C3%B6k":MAILTO:obi@obi.is
END:VEVENT
END:VCALENDAR