BEGIN:VCALENDAR
VERSION:2.0
PRODID:-//ÖBI - ECPv6.15.18//NONSGML v1.0//EN
CALSCALE:GREGORIAN
METHOD:PUBLISH
X-WR-CALNAME:ÖBI
X-ORIGINAL-URL:https://www.obi.is
X-WR-CALDESC:Events for ÖBI
REFRESH-INTERVAL;VALUE=DURATION:PT1H
X-Robots-Tag:noindex
X-PUBLISHED-TTL:PT1H
BEGIN:VTIMEZONE
TZID:UTC
BEGIN:STANDARD
TZOFFSETFROM:+0000
TZOFFSETTO:+0000
TZNAME:UTC
DTSTART:20240101T000000
END:STANDARD
END:VTIMEZONE
BEGIN:VEVENT
DTSTART;TZID=UTC:20251022T130000
DTEND;TZID=UTC:20251022T160000
DTSTAMP:20260422T151127
CREATED:20251014T141157Z
LAST-MODIFIED:20251014T141157Z
UID:39113-1761138000-1761148800@www.obi.is
SUMMARY:Fræðsluröð ÖBÍ: Tækifæri í atvinnuleit
DESCRIPTION:HlustaÖBÍ réttindasamtök standa fyrir námskeiðinu Tækifæri í atvinnuleit þar sem farið verður yfir þjónustu og stuðning sem Vinnumálastofnun býður upp á\, virknistyrk og nýja endurgreiðslusamninga til atvinnurekenda. \nÞá verður fjallað um um ráðningarferlið\, væntingar til ráðninga og til okkar sjálfra\, ferilskrá\, kynningarbréf og ráðningarviðtöl. Markmiðið er að þátttakendur fái góða hugmynd um hvernig gott er að bera sig að í atvinnuleitinni\, allt frá umsókn til ráðningar. \nNámskeiðið er haldið í samstarfi við atvinnu- og menntahóp ÖBÍ. \nLeiðbeinendur: \nBerglind Melax og Anna Monika Arnórsdóttir ráðgjafar hjá Vinnumálastofnun. \nÓlafur Kári Júlíusson er vinnusálfræðingur með yfir 15 ára reynslu af mannauðsmálum og ráðgjöf. Hann hefur unnið með fjölmörgum vinnustöðum\, sinnt handleiðslu stjórnenda og starfsfólks\, stýrt ráðningum og hefur unnið mikið með einstaklingum sem eru að snúa til baka til starfa eftir langtíma fjarveru frá vinnumarkaði. \nNámskeiðið verður haldið í Mannréttindahúsinu Sigtúni 42\, miðvikudaginn 22. október kl. 13-16:00. \nNámskeiðið er frítt. Vinsamlega tilkynnið þátttöku á obi@obi.is og takið fram ef óskað er eftir táknmáls- eða rittúlkun. \nVið hlökkum til að sjá ykkur!
URL:https://www.obi.is/vidburdir/fraedslurod-obi-taekifaeri-i-atvinnuleit/
LOCATION:Mannréttindahúsið\, Sigtún 42\, Reykjavík\, Iceland
CATEGORIES:Á döfinni
ATTACH;FMTTYPE=image/png:https://www.obi.is/wp-content/uploads/2025/10/FRAEDSLAN.png
END:VEVENT
END:VCALENDAR