BEGIN:VCALENDAR
VERSION:2.0
PRODID:-//ÖBI - ECPv6.15.18//NONSGML v1.0//EN
CALSCALE:GREGORIAN
METHOD:PUBLISH
X-ORIGINAL-URL:https://www.obi.is
X-WR-CALDESC:Events for ÖBI
REFRESH-INTERVAL;VALUE=DURATION:PT1H
X-Robots-Tag:noindex
X-PUBLISHED-TTL:PT1H
BEGIN:VTIMEZONE
TZID:UTC
BEGIN:STANDARD
TZOFFSETFROM:+0000
TZOFFSETTO:+0000
TZNAME:UTC
DTSTART:20240101T000000
END:STANDARD
END:VTIMEZONE
BEGIN:VEVENT
DTSTART;TZID=UTC:20251113T140000
DTEND;TZID=UTC:20251113T160000
DTSTAMP:20260423T150522
CREATED:20251110T143130Z
LAST-MODIFIED:20251110T143407Z
UID:39648-1763042400-1763049600@www.obi.is
SUMMARY:Nýliðadagur / Námsstefna ÖBÍ 2025
DESCRIPTION:HlustaFyrri dagur Námsstefnu ÖBÍ 2025\, Nýliðadagurinn\, verður haldinn fimmtudaginn 13. nóvember nk. Eins og heitið gefur til kynna er hann ætlaður nýjum fulltrúum í innra starfi ÖBÍ. Mögulegt er að sitja fundinn á Teams. \nDagskrá \nVelkomin\n– Alma Ýr Ingólfsdóttir\, formaður \nSkipulag og rekstur\n– Eva Þengilsdóttir\, framkvæmdastjóri \nSamningur Sameinuðu þjóðanna um réttindi fatlaðs fólks\n– Sunna Elvíra Þorkelsdóttir\, starfsmaður jafnréttismála \nBreytt kerfi\n– Gunnar Alexander Ólafsson\, hagfræðingur \nRáðgjöfin\n– Sigríður Hanna Ingólfsdóttir\, teymisstjóri ráðgjafar \nDómsmálin\n– Sigurður Árnason\, teymisstjóri dómsmála \nSamráðið\n– Andrea Valgeirsdóttir\, teymisstjóri umsagna \nMálefnastarfið\n– Stefán Vilbergsson\, teymisstjóri málefnastarfs \nMiðlunin \n– Þórgnýr Einar Albertsson\, upplýsingafulltrúi \n  \nStaður og stund: Ólafarstofa\, Mannréttindahúsinu Sigtúni 42\, 105 Reykjavík. 14:00 – 16:00. \nEf þú hefur ekki fengið fundarboð\, en hefur áhuga á að sitja fundinn – vinsamlega sendu póst á obi@obi.is
URL:https://www.obi.is/vidburdir/nylidadagur-namsstefna-obi-2024/
LOCATION:Mannréttindahúsið\, Sigtún 42\, Reykjavík\, Iceland
CATEGORIES:Á döfinni
END:VEVENT
BEGIN:VEVENT
DTSTART;TZID=UTC:20251113T140000
DTEND;TZID=UTC:20251113T180000
DTSTAMP:20260423T150522
CREATED:20251103T135100Z
LAST-MODIFIED:20251103T135100Z
UID:39547-1763042400-1763056800@www.obi.is
SUMMARY:Fundur fólksins – ráðstefna almannaheilla
DESCRIPTION:HlustaFundur fólksins – Ráðstefna Almannaheilla verður í Hörpu fimmtudaginn 13. nóvember á milli klukkan 14:00 – 18:00 næstkomandi. \nStjórn Almannaheilla ákvað í fyrra að færa ráðstefnuna inn í Hörpu með það fyrir augum að hún hafi rými til að vaxa og þroskast á glæsilegum vettvangi næstu árin. \nHarpa tók vel utan um fundargesti í fyrra en í ár eru gerðar nokkrar breytingar sem vonandi verða til góðs: \n\nRáðstefnan er á fimmtudegi í stað föstudags.\nRáðstefnan verður tekin upp en verður ekki í streymi. Við viljum fá fólk á staðinn því við trúum því að samstaða og samtal aðildarfélaga skipti máli.\nAðildarfélögum Almannaheilla býðst að vera með bás og/eða eigin viðburð á ráðstefnunni endurgjaldslaust.\nÖll ráðstefnan fer fram á einu svæði; í aðalsalnum Kaldalóni\, á Norðurbryggju (básasvæði) og í Vísu og Stemmu\, aðliggjandi hliðarsölum.\n\nÞá má nefna að stjórn Almannaheilla bindur vonir við að engar þingkosningar steli þrumunni að þessu sinni líkt og gerðist í fyrra\, þegar kosningar voru settar á dagskrá daginn eftir ráðstefnuna með skömmum fyrirvara.
URL:https://www.obi.is/vidburdir/fundur-folksins-radstefna-almannaheilla/
LOCATION:Harpa\, Austurbakka 2\, Reykjavík\, 101\, Iceland
CATEGORIES:Aðildarfélög
END:VEVENT
END:VCALENDAR