BEGIN:VCALENDAR
VERSION:2.0
PRODID:-//ÖBI - ECPv6.15.18//NONSGML v1.0//EN
CALSCALE:GREGORIAN
METHOD:PUBLISH
X-WR-CALNAME:ÖBI
X-ORIGINAL-URL:https://www.obi.is
X-WR-CALDESC:Events for ÖBI
REFRESH-INTERVAL;VALUE=DURATION:PT1H
X-Robots-Tag:noindex
X-PUBLISHED-TTL:PT1H
BEGIN:VTIMEZONE
TZID:UTC
BEGIN:STANDARD
TZOFFSETFROM:+0000
TZOFFSETTO:+0000
TZNAME:UTC
DTSTART:20240101T000000
END:STANDARD
END:VTIMEZONE
BEGIN:VEVENT
DTSTART;TZID=UTC:20251125T090000
DTEND;TZID=UTC:20251210T235900
DTSTAMP:20260421T143210
CREATED:20251126T130605Z
LAST-MODIFIED:20251201T160738Z
UID:40185-1764061200-1765411140@www.obi.is
SUMMARY:16 daga átak gegn kynbundnu ofbeldi
DESCRIPTION:HlustaAlþjóðleg herferð UN Women sem stendur ár hvert frá 25. nóvember til 10. desember er í ár 16 daga átak gegn kynbundnu ofbeldi (e. 16 Days of Activism against Gender-based Violence) undir merkjum UniTE to End Violence against Women\, \nHerferðin tengir saman alþjóðlegan baráttudag Sameinuðu þjóðanna gegn kynbundnu ofbeldi og alþjóðlegan mannréttindadag Sameinuðu þjóðanna. Í ár\, þegar undirritun Peking-sáttmálans\, er athyglinni beint að stafrænu ofbeldi gegn konum og stúlkum. \n» Stafrænt ofbeldi eykst hratt – en nær helmingur kvenna og stúlkna í heiminum býr enn ekki við lagalega vernd gegn því – UN Women Ísland \nÖBÍ réttindasamtök leggja áherslu á að stafrænt umhverfi sé öruggt fyrir alla\, ekki síst fatlaðar konur og fatlað fólk sem fyrir verður margþættri mismunun. Stafrænt ofbeldi er raunverulegt ofbeldi sem skerðir þátttöku í samfélaginu\, heftir tjáningarfrelsi og getur orðið til þess að raddir jaðarsettra hópa þagni. ÖBÍ hvetur stjórnvöld\, löggæslu\, fjölmiðla\, tæknifyrirtæki og almenning til að axla sameiginlega ábyrgð á því að breyta menningu\, styrkja úrræði og tryggja að enginn verði skilinn eftir í skugga stafræns ofbeldis. \n» Sjónum beint að stafrænu ofbeldi – ÖBI \n 
URL:https://www.obi.is/vidburdir/16-daga-atak-gegn-kynbundnu-ofbeldi/
CATEGORIES:Á döfinni,Aðildarfélög
ATTACH;FMTTYPE=image/png:https://www.obi.is/wp-content/uploads/2025/11/16-dagar-PR-fra-HQ-1536x864-1.png
ORGANIZER;CN="UN women %C3%A1 %C3%8Dslandi":MAILTO:unwomen@unwomen.is
END:VEVENT
BEGIN:VEVENT
DTSTART;TZID=UTC:20251203T110000
DTEND;TZID=UTC:20251203T110000
DTSTAMP:20260421T143210
CREATED:20251027T105114Z
LAST-MODIFIED:20251128T142916Z
UID:39369-1764759600-1764759600@www.obi.is
SUMMARY:Hvatningarverðlaun ÖBÍ 2025
DESCRIPTION:HlustaVertu með þegar við afhendum Hvatningarverðlaun ÖBÍ réttindasamtaka í ár! \nVerðlaunahátíðin hefst stundvíslega klukkan 11:00 þann 3. desember á Grand hóteli í Reykjavík. Á dagskrá er mikil gleði. \nTilnefnd eru: \n\nHákon Atli Bjarkason\nFyrir að vera frábær fyrirmynd og stuðla að inngildingu ungs fatlaðs íþróttafólks.\n\n\n\nListvinnzlan\nFyrir brautryðjendastarf á sviði listsköpunar fatlaðs fólks og fjölgun atvinnutækifæra.\n\n\n\nMagnús Orri Arnarson\nFyrir einstakt framlag á sviði vitundarvakningar\, kvikmyndagerðar og íþrótta.\n\n\n\nSigurður Hólmar Jóhannesson\nFyrir að lyfta grettistaki í málaflokki fatlaðra barna og barna með sjaldgæfa sjúkdóma.\n\nHvatningarverðlaunin hafa verið veitt frá árinu 2007 en í fyrra voru það tvö leikverk sem mörkuðu tímamót í íslensku atvinnuleikhúsi: Fúsi\, aldur og fyrri störf eftir Sigfús Sveinbjörn Svanbergsson og Agnar Jón Egilsson og Taktu flugið\, beibí eftir Kolbrúnu Dögg Kristjánsdóttur sem urðu fyrir valinu og mörkuðu tímamót í íslensku atvinnuleikhúsi. \nHvatningarverðlaunin eru veitt þeim sem hafa með verkum sínum stuðlað að einu samfélagi fyrir alla og endurspegla nútímalegar áherslur um þátttöku\, sjálfstæði og jafnrétti fatlaðs fólks. \n3. desember er einmitt alþjóðadagur fatlaðs fólks og auk þess að standa fyrir Hvatningarverðlaununum er ÖBÍ með átakið upplýst samfélag. Fólk um allt land er hvatt til þess að lýsa upp í fjólubláu\, einkennislit réttindabaráttu fatlaðs fólks.\nViðburðurinn verður táknmáls- og rittúlkaður.
URL:https://www.obi.is/vidburdir/althjodadagur-fatlads-folks-hvatningarverdlaun/
LOCATION:Grand Hótel Reykjavík\, Sigtún 38\, Reykjavík\, 105
CATEGORIES:Á döfinni
ATTACH;FMTTYPE=image/png:https://www.obi.is/wp-content/uploads/2025/10/Hvatningarverdlaun-2023-FRONT-STREYMI.pptx-e1762350715667.png
ORGANIZER;CN="%C3%96B%C3%8D r%C3%A9ttindasamt%C3%B6k":MAILTO:obi@obi.is
END:VEVENT
BEGIN:VEVENT
DTSTART;TZID=UTC:20251203T200000
DTEND;TZID=UTC:20251203T200000
DTSTAMP:20260421T143210
CREATED:20251103T135325Z
LAST-MODIFIED:20251117T131223Z
UID:39550-1764792000-1764792000@www.obi.is
SUMMARY:ADHD og jólin
DESCRIPTION:Hlusta\nJólin eru æði! – eða hvað ?\n\nDr Drífa Björk Guðmundsdóttir\, sálfræðingur fjallar um\, hvernig ýmislegt í jólaundirbúningnum\, spenningnum sem fylgir jólunum og breyttri rútínu fjölskyldunnar í jólafríinu\, getur valdið streitu og erfiðleikum hjá börnum og fólki með ADHD og gefur góð ráð um hvernig hægt er að bregðast við.  Tilvalið fyrir alla sem eru með\, eiga eða kenna einstaklingum með ADHD.\n\nFræðslufundurinn verður í streymi 3. desember kl. 20:00 og er eingöngu aðgengilegur skuldlausu félagsfólki ADHD samtakanna á Facebook síðunni ADHD í beinni. Nánari upplýsingar:\nADHD og jólin | ADHD samtökin
URL:https://www.obi.is/vidburdir/adhd-og-jolin/
CATEGORIES:Aðildarfélög
ATTACH;FMTTYPE=image/png:https://www.obi.is/wp-content/uploads/2025/11/ADHD-og-jolin-2025.png
END:VEVENT
END:VCALENDAR