BEGIN:VCALENDAR
VERSION:2.0
PRODID:-//ÖBI - ECPv6.15.18//NONSGML v1.0//EN
CALSCALE:GREGORIAN
METHOD:PUBLISH
X-WR-CALNAME:ÖBI
X-ORIGINAL-URL:https://www.obi.is
X-WR-CALDESC:Events for ÖBI
REFRESH-INTERVAL;VALUE=DURATION:PT1H
X-Robots-Tag:noindex
X-PUBLISHED-TTL:PT1H
BEGIN:VTIMEZONE
TZID:UTC
BEGIN:STANDARD
TZOFFSETFROM:+0000
TZOFFSETTO:+0000
TZNAME:UTC
DTSTART:20240101T000000
END:STANDARD
END:VTIMEZONE
BEGIN:VEVENT
DTSTART;TZID=UTC:20251125T090000
DTEND;TZID=UTC:20251210T235900
DTSTAMP:20260421T011607
CREATED:20251126T130605Z
LAST-MODIFIED:20251201T160738Z
UID:40185-1764061200-1765411140@www.obi.is
SUMMARY:16 daga átak gegn kynbundnu ofbeldi
DESCRIPTION:HlustaAlþjóðleg herferð UN Women sem stendur ár hvert frá 25. nóvember til 10. desember er í ár 16 daga átak gegn kynbundnu ofbeldi (e. 16 Days of Activism against Gender-based Violence) undir merkjum UniTE to End Violence against Women\, \nHerferðin tengir saman alþjóðlegan baráttudag Sameinuðu þjóðanna gegn kynbundnu ofbeldi og alþjóðlegan mannréttindadag Sameinuðu þjóðanna. Í ár\, þegar undirritun Peking-sáttmálans\, er athyglinni beint að stafrænu ofbeldi gegn konum og stúlkum. \n» Stafrænt ofbeldi eykst hratt – en nær helmingur kvenna og stúlkna í heiminum býr enn ekki við lagalega vernd gegn því – UN Women Ísland \nÖBÍ réttindasamtök leggja áherslu á að stafrænt umhverfi sé öruggt fyrir alla\, ekki síst fatlaðar konur og fatlað fólk sem fyrir verður margþættri mismunun. Stafrænt ofbeldi er raunverulegt ofbeldi sem skerðir þátttöku í samfélaginu\, heftir tjáningarfrelsi og getur orðið til þess að raddir jaðarsettra hópa þagni. ÖBÍ hvetur stjórnvöld\, löggæslu\, fjölmiðla\, tæknifyrirtæki og almenning til að axla sameiginlega ábyrgð á því að breyta menningu\, styrkja úrræði og tryggja að enginn verði skilinn eftir í skugga stafræns ofbeldis. \n» Sjónum beint að stafrænu ofbeldi – ÖBI \n 
URL:https://www.obi.is/vidburdir/16-daga-atak-gegn-kynbundnu-ofbeldi/
CATEGORIES:Á döfinni,Aðildarfélög
ATTACH;FMTTYPE=image/png:https://www.obi.is/wp-content/uploads/2025/11/16-dagar-PR-fra-HQ-1536x864-1.png
ORGANIZER;CN="UN women %C3%A1 %C3%8Dslandi":MAILTO:unwomen@unwomen.is
END:VEVENT
END:VCALENDAR