BEGIN:VCALENDAR
VERSION:2.0
PRODID:-//ÖBI - ECPv6.15.18//NONSGML v1.0//EN
CALSCALE:GREGORIAN
METHOD:PUBLISH
X-WR-CALNAME:ÖBI
X-ORIGINAL-URL:https://www.obi.is
X-WR-CALDESC:Events for ÖBI
REFRESH-INTERVAL;VALUE=DURATION:PT1H
X-Robots-Tag:noindex
X-PUBLISHED-TTL:PT1H
BEGIN:VTIMEZONE
TZID:UTC
BEGIN:STANDARD
TZOFFSETFROM:+0000
TZOFFSETTO:+0000
TZNAME:UTC
DTSTART:20250101T000000
END:STANDARD
END:VTIMEZONE
BEGIN:VEVENT
DTSTART;TZID=UTC:20260417T130000
DTEND;TZID=UTC:20260417T170000
DTSTAMP:20260421T211822
CREATED:20260217T163121Z
LAST-MODIFIED:20260218T114642Z
UID:43256-1776430800-1776445200@www.obi.is
SUMMARY:Stefnuþing ÖBÍ
DESCRIPTION:HlustaStefnuþing ÖBÍ réttindasamtaka með fulltrúum aðildarfélaga verður haldið föstudaginn 17. apríl næstkomandi. \nTölvupóstur með nánari upplýsingum hefur verið sendur aðildarfélögum. \n 
URL:https://www.obi.is/vidburdir/stefnuthing-obi/
CATEGORIES:Á döfinni
ATTACH;FMTTYPE=image/jpeg:https://www.obi.is/wp-content/uploads/2026/02/obi_adalfundur_74.jpg
ORGANIZER;CN="%C3%96B%C3%8D r%C3%A9ttindasamt%C3%B6k":MAILTO:obi@obi.is
END:VEVENT
END:VCALENDAR