BEGIN:VCALENDAR
VERSION:2.0
PRODID:-//ÖBI - ECPv6.15.18//NONSGML v1.0//EN
CALSCALE:GREGORIAN
METHOD:PUBLISH
X-ORIGINAL-URL:https://www.obi.is
X-WR-CALDESC:Events for ÖBI
REFRESH-INTERVAL;VALUE=DURATION:PT1H
X-Robots-Tag:noindex
X-PUBLISHED-TTL:PT1H
BEGIN:VTIMEZONE
TZID:UTC
BEGIN:STANDARD
TZOFFSETFROM:+0000
TZOFFSETTO:+0000
TZNAME:UTC
DTSTART:20240101T000000
END:STANDARD
END:VTIMEZONE
BEGIN:VEVENT
DTSTART;TZID=UTC:20250208T080000
DTEND;TZID=UTC:20250308T170000
DTSTAMP:20260422T034645
CREATED:20250207T134829Z
LAST-MODIFIED:20250207T134829Z
UID:33362-1739001600-1741453200@www.obi.is
SUMMARY:Menningarhátíðin UPPSKERA: 20 ára afmæli fötlunarfræða HÍ
DESCRIPTION:Hlusta\n\n\n\n\n\n\nMenningarhátíðin Uppskera fer fram dagana 8. febrúar til 8. mars í Reykjavík. Hátíðin er haldin í tilefni 20 ára afmælis fötlunarfræða við Háskóla Íslands og er henni ætlað að vekja athygli á framlagi fræðafólks\, samtaka fatlaðs fólks og fatlaðs listafólks til íslenskrar menningar. \n\n\n\n\n\n\n\nTveir lykilviðburðir verða á dagskrá\, málþing með listrænu ívafi í Háskóla Íslands 21. febrúar og sviðslistahátíð í Hörpu 22. febrúar. Þá verða fjölbreyttir viðburðir í tengslum við hátíðina víðs vegar um borgina\, þar sem listsköpun fatlaðs fólks verður í forgrunni. \nSjá nánari upplýsingar: Menningarhátíðin UPPSKERA í tilefni 20 ára afmælis fötlunarfræða | Háskóli Íslands og Uppskera | Háskóli Ísland
URL:https://www.obi.is/vidburdir/menningarhatidin-uppskera-20-ara-afmaeli-fotlunarfraeda-hi/
CATEGORIES:Aðildarfélög
ATTACH;FMTTYPE=image/jpeg:https://www.obi.is/wp-content/uploads/2025/02/Lista-og-menningarhatid-i-Horpu.jpg
END:VEVENT
BEGIN:VEVENT
DTSTART;TZID=UTC:20250208T140000
DTEND;TZID=UTC:20250308T170000
DTSTAMP:20260422T034645
CREATED:20250207T142511Z
LAST-MODIFIED:20250207T151119Z
UID:33376-1739023200-1741453200@www.obi.is
SUMMARY:Listasýningin Sögur í Gerðubergi
DESCRIPTION:HlustaSögur er samsýning á verkum listafólks. Í verkunum eru frásagnir af hinu stóra og smáa\, sólargeisla á vínyldúk\, gjörningi í Nepal\, eilífðar smáblómi og ægifegurð náttúru og manna\, táknmáls og skynjunar. Á opnun sýningarinnar 8. febrúar mun listafólkið segja frá verkum sínum. Opnunin og leiðsögn listafólksins er tákmálstúlkuð. \nSýnendur eru Arnþór Hreinsson\, Brandur Bryndísarsson Karlsson\, Erla Björk Sigmundsdóttir Guðlaug Elísabet Jónatansdóttir\, Halla Ómarsdóttir\, Jón Helgi Gíslason — Donni\, Lilja Dögg Birgisdóttir\, Óskar Theódórsson og Vilhjálmur Guðmundur Vilhjálmsson\, Hvar: Menningamiðstöðin Gerðubergi 3-5\, 111 Reykjavík\nHvenær: Opnun 8. febrúar klukkan 2 eftir hádegi (14). Sýningin stendur til 8. mars 2025. \nTáknmálstúlkuð leiðsögn listafólks 8. febrúar kl.14.30 – 15.30 \nSjá nánar: Sýning | Sögur | Borgarbókasafniðog Aðrir viðburðir | Háskóli Íslands
URL:https://www.obi.is/vidburdir/listasyningin-sogur-i-gerdubergi/
LOCATION:Gerðuberg\, Gerðuberg 3-5\, Reykjavík\, 111\, Iceland
CATEGORIES:Aðildarfélög
ATTACH;FMTTYPE=image/jpeg:https://www.obi.is/wp-content/uploads/2025/02/borgarbokasafn_gerduberg_0.jpg
END:VEVENT
BEGIN:VEVENT
DTSTART;TZID=UTC:20250306T100000
DTEND;TZID=UTC:20250306T113000
DTSTAMP:20260422T034645
CREATED:20250226T144955Z
LAST-MODIFIED:20250228T110420Z
UID:33863-1741255200-1741260600@www.obi.is
SUMMARY:Konur\, friður og öryggi í breyttum heimi 
DESCRIPTION:HlustaMannréttindamorgunn í tilefni af alþjóðlegum baráttudegi kvenna 8. mars.  \nMannréttindamorgunn í tilefni alþjóðlegs baráttudags kvenna\nStaðsetning: Mannréttindahúsið\, Sigtúni 42\, 105 Reykjavík\nHvenær: Fimmtudagurinn 6. mars kl.10.00-11.30\nViðburðurinn er opinn öllum og aðgengi er gott.\nFundurinn fer fram á ensku.\n\nDagskrá:\nOpnunarávarp:Þorbjörg Sigríður Gunnlaugsdóttir dómsmálaráðherra\nÖr-erindi og pallborð:Clara Ganslandt sendiherra EvrópusambandsinsJónas G. Allansson\, skrifstofustjóri varnarmálaskrifstofu utanríkisráðuneytisinsOlena Suslova\, Founder at Women’s Information Consultative Center UkraineSigríður Björk Guðjónsdóttir ríkislögreglustjóri\nSamantekt og slitAlma Ýr Ingólfsdóttir formaður ÖBÍ\nFundarstjórn: Stella Samúelsdóttir framkvæmdastýra UN Women á Íslandi\n\n///\n\nWomen\, Peace and Security in a Changing World!In Celebration of International Women’s Day: 2025at Mannréttindahúsið/Human Rights House\, Sigtúni 42\, 105 ReykjavíkThursday March 6th from 10.00-11.30amThe event will be held in English\n\nAgenda:Opening remarksÞorbjörg Sigríður Gunnlaugsdóttir\, Minister of Justice\nPanel DiscussionClara Ganslandt EU Ambassador to IcelandJónas G. Allansson Director General\, Directorate for Defence Ministry for Foreign AffairsOlena Suslova Founder of Women’s Information Consultative Center\, UkraineSigríður Björk Guðjónsdóttir the National Commissioner of the Police\nSummary and closing remark – Alma Ýr Ingólfsdóttir Chair of ÖBÍ The Icelandic Disability Alliance\nModerator – Stella Samúelsdóttir Executive Director UN Women Iceland
URL:https://www.obi.is/vidburdir/konur-fridur-og-oryggi-i-breyttum-heimi/
LOCATION:Mannréttindahúsið\, Sigtún 42\, Reykjavík\, Iceland
CATEGORIES:Á döfinni,Aðildarfélög
ATTACH;FMTTYPE=image/png:https://www.obi.is/wp-content/uploads/2025/02/Copy-of-Copy-of-MYNDLIST-OG-MANNRETTINDI-1920-x-1080-px-2.png
ORGANIZER;CN="%C3%96B%C3%8D r%C3%A9ttindasamt%C3%B6k":MAILTO:obi@obi.is
END:VEVENT
BEGIN:VEVENT
DTSTART;TZID=UTC:20250306T170000
DTEND;TZID=UTC:20250306T183000
DTSTAMP:20260422T034645
CREATED:20250207T132931Z
LAST-MODIFIED:20250207T132931Z
UID:33357-1741280400-1741285800@www.obi.is
SUMMARY:Alzheimerkaffi á Akureyri
DESCRIPTION:HlustaAlzheimerkaffið er ætlað fólki með heilabilun og aðstandendum þeirra. Samkoman er tilvalinn vettvangur til að hittast\, spjalla og gæða sér á kaffi og veitingum. \nSjá nánari upplýsingar á heimasíðu Alzheimersamtakanna: Alzheimerkaffi á Akureyri
URL:https://www.obi.is/vidburdir/alzheimerkaffi-a-akureyri/
LOCATION:Safnaðarheimili Akureyrarkirkju\, Eyrarlandsvegi\, Akureyri\, 600\, Iceland
CATEGORIES:Aðildarfélög
ATTACH;FMTTYPE=image/webp:https://www.obi.is/wp-content/uploads/2025/02/Alzheimerkaffid.webp
END:VEVENT
BEGIN:VEVENT
DTSTART;TZID=UTC:20250308T150000
DTEND;TZID=UTC:20250308T163000
DTSTAMP:20260422T034645
CREATED:20250305T113907Z
LAST-MODIFIED:20250305T113907Z
UID:34004-1741446000-1741451400@www.obi.is
SUMMARY:MARCH FORWARD fyrir jafnrétti kynjanna
DESCRIPTION:HlustaUN women á alþjóðlegum baráttudegi kvenna 8. mars 2025\nViðburður á vegum UN women á Íslandi. \nStaðsetning: Sjálfsstæðissalurinn við Austurvöll (gamla NASA)\nTími: Húsið opnar kl. 14:30 en viðburður hefst kl.15:00-16:30\nKynnar: Íris Tanja Flygenring og Fannar Arnarsson \nDagskrá\n14:30 – Hús opnar. DJ Sunna Ben spilar.\n15:00 – Gjörningurinn Yfirtaka eftir Önnu Kolfinnu Kuran með þátttöku kóra\n15:25 – Samsöngur kóra; Domus vox – félagar úr stúlknakór Reykjavíkur og Aurora\, Karlakórinn Fóstbræður\, Kvennakór Reykjavíkur og Skólakór Kárness\n15:35 – Kynnar opna viðburð\, bjóða gesti velkomna.\n15:40 – Stella Samúelsdóttir\, framkvæmdastýra UN Women Íslandi\n15:45 – Kynnar bjóða Þorgerði Katrínu Gunnarsdóttur\, utanríkisráðherra á svið.\n15:50 – Þorgerður Katrín Gunnarsdóttir\, utanríkisráðherra\, ræða\n15:55 – Kynnar bjóða á svið næstu ræðukonur; Guðrúnu Ágústsdóttur\, Grace Achieng og Guðrúnu Evu Mínevrudóttur\n16:00 – Guðrún Ágústsdóttir\, ein af stofnendum Rauðsokkuhreyfingarinnar\n16:07 – Grace Achieng\, eigandi Gracelandic ehf\n16:14 – Guðrún Eva Mínervudóttir\, rithöfundur\n16:21 – Kynnar loka viðburði og sýna myndband \nBeint streymi af viðburðinum á Vísi og RÚV
URL:https://www.obi.is/vidburdir/march-forward-fyrir-jafnretti-kynjanna/
LOCATION:NASA salurinn við Austurvöll\, Vallarstræti\, Reykjavík\, 101\, Iceland
CATEGORIES:Aðildarfélög
ATTACH;FMTTYPE=image/webp:https://www.obi.is/wp-content/uploads/2025/03/MARCHFORWARD2025.COM-2-1024x474.png.webp
ORGANIZER;CN="UN women %C3%A1 %C3%8Dslandi":MAILTO:unwomen@unwomen.is
END:VEVENT
BEGIN:VEVENT
DTSTART;TZID=UTC:20250313T170000
DTEND;TZID=UTC:20250313T193000
DTSTAMP:20260422T034645
CREATED:20250311T165723Z
LAST-MODIFIED:20250311T165723Z
UID:34185-1741885200-1741894200@www.obi.is
SUMMARY:Fræðslufundur um sykursýki og nýrnasjúkdóma
DESCRIPTION:HlustaDiabetes Ísland og Nýrnafélagið halda sameiginlegan fræðslufund um sykursýki og nýrnasjúkdóma. \nFundurinn verður haldinn fimmtudaginn 13.mars 2025 á Hilton hótelinu við Suðurlandsbraut. \nDagskrá\n\nFundur hefst kl 17\,30.\nFormenn beggja félaga flytja stutta tölu.\nSérfræðingur í augnsjúkdómum flytur erindi: Sykursýki og augu.\nHlé – boðið upp á léttan kvöldverð.\nSérfræðingur í nýrnasjúkdómum flytur erindi: Sykursýki og nýru.\nUmræður\, fyrirspurnir og almennt spjall\, og meiri veitingar.\n\nFundi slitið milli kl 19-19\,30
URL:https://www.obi.is/vidburdir/fraedslufundur-um-sykursyki-og-nyrnasjukdoma/
LOCATION:Hilton Reykjavík Nordica\, Suðurlandsbraut 2\, Reykjavík\, 108\, Iceland
CATEGORIES:Aðildarfélög
ATTACH;FMTTYPE=image/jpeg:https://www.obi.is/wp-content/uploads/2025/01/Hilton-Nordica.jpg
END:VEVENT
BEGIN:VEVENT
DTSTART;TZID=UTC:20250328T090000
DTEND;TZID=UTC:20250328T150000
DTSTAMP:20260422T034645
CREATED:20250228T085423Z
LAST-MODIFIED:20250305T105446Z
UID:33895-1743152400-1743174000@www.obi.is
SUMMARY:Er farsæld tryggð í fósturmálum? [Félag fósturforeldra]
DESCRIPTION:HlustaFélag fósturforeldra stendur fyrir málþinginu\, Er farsæld tryggð í fósturmálum\, þann 28. mars næstkomandi á Hilton Reykjavík Nordica. \nUmsjón margra barna sem tilheyra jaðarsettum hópum meðal annars fötluð börn er innan fósturkerfisins og telur félagið þau börn í sérstaklega viðkvæmri stöðu innan þess. Verður reynt að varpa ljósi m.a. á þau mál á málþinginu. \nSkráning á málþingið  – Félag fósturforeldra
URL:https://www.obi.is/vidburdir/er-farsaeld-tryggd-i-fosturmalum-felag-fosturforeldra/
LOCATION:Hilton Reykjavík Nordica\, Suðurlandsbraut 2\, Reykjavík\, 108\, Iceland
CATEGORIES:Aðildarfélög
ATTACH;FMTTYPE=image/jpeg:https://www.obi.is/wp-content/uploads/2025/01/Hilton-Nordica.jpg
ORGANIZER;CN="F%C3%A9lag f%C3%B3sturforeldra":MAILTO:fostur@fostur.is
END:VEVENT
END:VCALENDAR