BEGIN:VCALENDAR
VERSION:2.0
PRODID:-//ÖBI - ECPv6.15.18//NONSGML v1.0//EN
CALSCALE:GREGORIAN
METHOD:PUBLISH
X-WR-CALNAME:ÖBI
X-ORIGINAL-URL:https://www.obi.is
X-WR-CALDESC:Events for ÖBI
REFRESH-INTERVAL;VALUE=DURATION:PT1H
X-Robots-Tag:noindex
X-PUBLISHED-TTL:PT1H
BEGIN:VTIMEZONE
TZID:UTC
BEGIN:STANDARD
TZOFFSETFROM:+0000
TZOFFSETTO:+0000
TZNAME:UTC
DTSTART:20240101T000000
END:STANDARD
END:VTIMEZONE
BEGIN:VEVENT
DTSTART;VALUE=DATE:20250502
DTEND;VALUE=DATE:20250504
DTSTAMP:20260421T233931
CREATED:20250428T163119Z
LAST-MODIFIED:20250905T131659Z
UID:35314-1746144000-1746316799@www.obi.is
SUMMARY:Eden í Tjarnarbíó
DESCRIPTION:HlustaEmbla Guðrúnar Ágústsdóttir og Nína Hjálmarsdóttir kafa ofan í sköpunarsöguna og taka sér pláss í sjálfum aldingarðinum upprunalega. Eden er hinsegin fötlunarparadís sem afmiðjar norm samfélagsins og leyfir áhorfendum að finna fyrir hinu erótíska innra með sér. \nBorgið það sem þið ráðið við. Miðaverð á sýninguna er ýmist 2.900 kr.\, 4.900 kr. eða 6.900\, eftir því sem áhorfendur telja sig ráða við. Veljið það verð sem ykkur finnst eiga best við. Eden | Tix \n\nEmbla Guðrúnar Ágústsdóttir er sjálfstætt starfandi fræðimaður\, aktívisti og sviðslistakona sem hefur m.a. rannsakað kynverund og unað í lífi fatlaðs fólks. Fyrir frammistöðu sína í sýningunni Góða ferð inn í gömul sár var Embla tilnefnd til Grímuverðlaunanna sem dansari ársins 2023. \nNína Hjálmarsdóttir er sviðshöfundur\, fræðimaður og menningarrýnir. Nína stofnaði leikhópinn Sálufélagar árið 2015 sem hafa framleitt ýmis verk fyrir svið\, ásamt því að vera einn stofnandi og framleiðandi hinsegin klúbbakvöldanna Sleikur. Rannsóknir Nínu í listsköpun og fræðum eru á vettvangi afnýlenduvæðingar og hinsegin fræða í listum\, sem oft staðsetja Ísland og Norðrið í nýlendusamhengi.
URL:https://www.obi.is/vidburdir/eden-i-tjarnarbio/
LOCATION:Tjarnarbíó\, Tjarnargötu 12\, Reykjavík\, 101\, Iceland
CATEGORIES:Aðildarfélög
ATTACH;FMTTYPE=image/png:https://www.obi.is/wp-content/uploads/2025/04/Eden-facebook-3.png
END:VEVENT
BEGIN:VEVENT
DTSTART;TZID=UTC:20250510T130000
DTEND;TZID=UTC:20250510T160000
DTSTAMP:20260421T233932
CREATED:20250404T123010Z
LAST-MODIFIED:20250404T123553Z
UID:34892-1746882000-1746892800@www.obi.is
SUMMARY:Kynjaþing 2025
DESCRIPTION:HlustaKvenréttindafélag Íslands\, ÖBÍ og Samtökin 78 standa fyrir Kynjaþingi 2025 sem verður haldið laugardaginn 10. maí 2025 í Fjölbrautaskólanum við Ármúla kl. 13:00. \nTakið daginn frá.  \nDagskráin verður auglýst síðar.
URL:https://www.obi.is/vidburdir/kynjathing-2025/
LOCATION:Fjölbrautarskólinn við Ármúla\, Ármúla 12\, Reykjavík\, 105\, Iceland
CATEGORIES:Aðildarfélög
ATTACH;FMTTYPE=image/jpeg:https://www.obi.is/wp-content/uploads/2025/04/Kynjathing-2025.jpeg
ORGANIZER;CN="%C3%96B%C3%8D r%C3%A9ttindasamt%C3%B6k":MAILTO:obi@obi.is
END:VEVENT
BEGIN:VEVENT
DTSTART;TZID=UTC:20250514T200000
DTEND;TZID=UTC:20250514T200000
DTSTAMP:20260421T233932
CREATED:20250120T092234Z
LAST-MODIFIED:20250206T185431Z
UID:32104-1747252800-1747252800@www.obi.is
SUMMARY:ADHD og sumarfrí
DESCRIPTION:Hlusta14. maí kl. 20:00 Háaleitisbraut 13\, 4. hæð og í streymi (ADHD í beinni)\n\n\n\nADHD og sumarfrí\nSumarfríin eru framundan\, dagskrá skólanna að tæmast og við tekur sól sumar og taumlaus gleði… eða hvað? Þó sumarfríin séu og eigi að vera tími fjölskyldusamveru og fjölbreyttra skemmtilegra viðburða\, fylgja sumrinu einnig nýjar og fjölbreyttar áskoranir\, þar sem rútínan riðlast og við tekur óvissa. Hjá börnum með ADHD og fullorðnum\, getur þessi tími valdið mikilli streitu og vanlíðan ef ekki tekst vel til. Á fundinum mun Dr. Drífa Björk Guðmundsóttir\, sálfræðingur fara yfir helstu áskoranir þessa mikilvæga tíma fjölskyldunnar\, benda á hagnýt ráð til lausnar og leiða umræður. \nFundurinn er öllum opinn en streymi er eingöngu aðgengilegt fyrir félagsfólk á ADHD í beinni á facebook. \nTil að ganga í samtökin er hægt að smella hér: Ganga í ADHD samtökin | ADHD samtökin
URL:https://www.obi.is/vidburdir/adhd-og-sumarfri/
LOCATION:Háaleitisbraut 13\, Háaleitisbraut 13\, Reykjavík\, Iceland
CATEGORIES:Aðildarfélög
ATTACH;FMTTYPE=image/png:https://www.obi.is/wp-content/uploads/2025/01/ADHD-og-sumarfri.png
END:VEVENT
BEGIN:VEVENT
DTSTART;TZID=UTC:20250515T090000
DTEND;TZID=UTC:20250516T160000
DTSTAMP:20260421T233932
CREATED:20250311T171939Z
LAST-MODIFIED:20250311T171939Z
UID:34188-1747299600-1747411200@www.obi.is
SUMMARY:Þörf fyrir samfélagsbreytingar 2025 [Geðhjálp]
DESCRIPTION:HlustaRáðstefna og vinnustofur á vegum Geðhjálpar um nýjar leiðir í geðheilbrigðismálum dagana 15.\, og 16. maí 2025 á Hilton Reykjavík Nordica.  \nÁ þessari tveggja daga ráðstefnu verður gestum boðið að kynna sér önnur sjónarmið en þau sem hafa verið ríkjandi í geðheilbrigðismálum. Fyrirlesarar eru aðilar sem hafa beitt sér á alþjóðavettvangi fyrir breyttri nálgun í geðheilbrigðismálum. Auk þeirra mun fólk með reynslu af tilfinningalegri vanlíðan og/eða fíkn leiða vinnustofur. \nSjá nánari upplýsingar: Geðhjálp og  Social Change 2025 – A new way of thinking about mental health
URL:https://www.obi.is/vidburdir/thorf-fyrir-samfelagsbreytingar-2025-gedhjalp/
LOCATION:Hilton Reykjavík Nordica\, Suðurlandsbraut 2\, Reykjavík\, 108\, Iceland
CATEGORIES:Aðildarfélög
ATTACH;FMTTYPE=image/jpeg:https://www.obi.is/wp-content/uploads/2025/03/Gedhjalp-socialchange.jpg
ORGANIZER;CN="Ge%C3%B0hj%C3%A1lp":MAILTO:gedhjalp@gedhjalp.is
END:VEVENT
BEGIN:VEVENT
DTSTART;VALUE=DATE:20250522
DTEND;VALUE=DATE:20250523
DTSTAMP:20260421T233932
CREATED:20250320T165836Z
LAST-MODIFIED:20250320T165836Z
UID:34518-1747872000-1747958399@www.obi.is
SUMMARY:Jafnrétttisþing 2025 - Mansal
DESCRIPTION:HlustaÍslenskur veruleiki – áskoranir og leiðir í baráttunni.\nDómsmálaráðherra boðar til jafnrétttisþingsins í Hörpu fimmtudaginn\, 22. maí 2025. \nTakið daginn frá og fylgist með nánari upplýsingum á Stjórnarráðið | Dómsmálaráðuneytið 
URL:https://www.obi.is/vidburdir/jafnretttisthing-2025-mansal/
LOCATION:Harpa\, Austurbakka 2\, Reykjavík\, 101\, Iceland
CATEGORIES:Aðildarfélög
ATTACH;FMTTYPE=image/png:https://www.obi.is/wp-content/uploads/2025/03/Jafnrettisthing-2025.png
END:VEVENT
END:VCALENDAR