BEGIN:VCALENDAR
VERSION:2.0
PRODID:-//ÖBI - ECPv6.15.18//NONSGML v1.0//EN
CALSCALE:GREGORIAN
METHOD:PUBLISH
X-ORIGINAL-URL:https://www.obi.is
X-WR-CALDESC:Events for ÖBI
REFRESH-INTERVAL;VALUE=DURATION:PT1H
X-Robots-Tag:noindex
X-PUBLISHED-TTL:PT1H
BEGIN:VTIMEZONE
TZID:UTC
BEGIN:STANDARD
TZOFFSETFROM:+0000
TZOFFSETTO:+0000
TZNAME:UTC
DTSTART:20240101T000000
END:STANDARD
END:VTIMEZONE
BEGIN:VEVENT
DTSTART;TZID=UTC:20250610T153000
DTEND;TZID=UTC:20250610T153000
DTSTAMP:20260421T235122
CREATED:20250522T150613Z
LAST-MODIFIED:20250604T141939Z
UID:36018-1749569400-1749569400@www.obi.is
SUMMARY:Aðgengisstrollið!
DESCRIPTION:HlustaCP félagið\, Gigtarfélag Íslands\, MND á Íslandi\, ME félagið\, SEM og Sjálfsbjörg lsh. standa fyrir aðgengisstrolli og vitundarvakningu um aðgengismál 10. júní. \n„Þann 3. júní ætlum við að fjölmenna í hjólastólunum okkar\, með göngustafina\, hækjurnar\, göngugrindur\, skutlurnar eða önnur hjálpartæki\, í strollgöngu til að vekja athygli á aðgengi og málefnum hreyfihamlaðra. \nStrollið hefst um kl. 15.30 á gatnamótum Suðurlandsbrautar og Kringlumýrarbrautar. Fyrir gönguna söfnumst við saman við Mannréttindahúsið í Sigtúni 42. \nÞaðan rúllum við og göngum upp á gangbrautina við Suðurlandsbraut og tökum svo nokkra hringi yfir gatnamót Suðurlandsbrautar og Kringlumýrarbrautar. Fólk getur mætt beint í gönguna. Eftir gönguna hittumst við í pizzu í Mannréttindahúsinu. \nMæting er við gatnamótin um 15:30. Hver fer á sínum hraða\, einn til þrjá hringi á gangbrautum yfir gatnamótin. Hvert félag kemur með skilti með sínum upplýsinga- og hvatningarorðum á!“
URL:https://www.obi.is/vidburdir/adgengisstrollid/
CATEGORIES:Aðildarfélög
END:VEVENT
BEGIN:VEVENT
DTSTART;TZID=UTC:20250619T190000
DTEND;TZID=UTC:20250619T210000
DTSTAMP:20260421T235123
CREATED:20250610T165542Z
LAST-MODIFIED:20250610T165542Z
UID:36155-1750359600-1750366800@www.obi.is
SUMMARY:Kvennavaka - Stórtónleikar Kvennaárs
DESCRIPTION:HlustaDans og drifkraftur. Öskursöngur og ógleymanleg augnablik. Allur tilfinningaskalinn í kvöldsólinni. Nú er kominn tími til að vakna. Nú er kominn tími til að vaka.  \nKvennaár býður konum og kvárum til Kvennavöku í Hljómskálagarði að kvöldi kvenréttindadagsins 19. júní 2025. Kvennavaka er í senn stórtónleikar\, samkomustaður og frí frá amstri dagsins. Búbblur með vinkonunum og kröftugur dans með vinkvárunum. Fram koma Bríet\, Reykjavíkurdætur\, Heimilistónar\, Countess Malaise og Mammaðín. \n»  Aðgengi á Kvennavökunni  – kvennaar.is   » Nánari upplýsingar: Kvennavaka // Stórtónleikar Kvennaárs – kvennaar.is
URL:https://www.obi.is/vidburdir/kvennavaka-stortonleikar-kvennaars/
LOCATION:Hljómskálagarður\, Sóleyjargata 2\, Reykjavík\, 101\, Iceland
CATEGORIES:Aðildarfélög
ATTACH;FMTTYPE=image/png:https://www.obi.is/wp-content/uploads/2025/06/KvennaarFB-EVENT-e1749572958435.png
END:VEVENT
END:VCALENDAR