BEGIN:VCALENDAR
VERSION:2.0
PRODID:-//ÖBI - ECPv6.15.18//NONSGML v1.0//EN
CALSCALE:GREGORIAN
METHOD:PUBLISH
X-ORIGINAL-URL:https://www.obi.is
X-WR-CALDESC:Events for ÖBI
REFRESH-INTERVAL;VALUE=DURATION:PT1H
X-Robots-Tag:noindex
X-PUBLISHED-TTL:PT1H
BEGIN:VTIMEZONE
TZID:UTC
BEGIN:STANDARD
TZOFFSETFROM:+0000
TZOFFSETTO:+0000
TZNAME:UTC
DTSTART:20240101T000000
END:STANDARD
END:VTIMEZONE
BEGIN:VEVENT
DTSTART;TZID=UTC:20250908T130000
DTEND;TZID=UTC:20250922T160000
DTSTAMP:20260421T020903
CREATED:20250625T100727Z
LAST-MODIFIED:20250625T101658Z
UID:36532-1757336400-1758556800@www.obi.is
SUMMARY:Áfram stelpur - sjálfsstyrkingarnámskeið fyrir konur með ADHD
DESCRIPTION:HlustaFræðslu- og sjálfsstyrkingarnámskeið ADHD samtakanna.  Sjá nánari upplýsingar: » Áfram stelpur | ADHD samtökin
URL:https://www.obi.is/vidburdir/afram-stelpur-sjalfsstyrkingarnamskeid-fyrir-konur-med-adhd/
LOCATION:Háaleitisbraut 13\, Háaleitisbraut 13\, Reykjavík\, Iceland
CATEGORIES:Aðildarfélög
ATTACH;FMTTYPE=image/png:https://www.obi.is/wp-content/uploads/2025/06/ADHD-samtokin.png
END:VEVENT
BEGIN:VEVENT
DTSTART;TZID=UTC:20250918T090000
DTEND;TZID=UTC:20250918T120000
DTSTAMP:20260421T020903
CREATED:20250428T170321Z
LAST-MODIFIED:20250610T165814Z
UID:35323-1758186000-1758196800@www.obi.is
SUMMARY:Málþing um foreldra sem glíma við geðræn veikindi
DESCRIPTION:HlustaÍ tilefni af fjögurra ára afmæli Okkar heims og opnun nýrrar fræðslusíðu blásum við til málþings þar sem við lyftum röddum foreldra sem glíma við geðræn veikindi.  \nMálþingið fer fram í Grósku fimmtudaginn 18. september kl. 9:00–12:00. Málþingið er þátttakendum að kostnaðarlausu og er opið öllum. Takmarkaður fjöldi sæta er í boði á staðnum og hvetjum við öll sem vilja mæta til að skrá sig sem fyrst. Táknmálstúlkur verður á staðnum. \nSkráningarsíða: malthing.okkarheimur.is  Einnig verður boðið upp á að fylgjast með í streymi og ekki er þá þörf á að skrá þátttöku. \nVið fáum innsýn inn í líf foreldra sem glíma við geðræn veikindi og skoðum hvaða áhrif veikindin geta haft á fjölskyldulífið. \n–  Hvernig er að vera foreldri og glíma við geðræn veikindi?\n– Hvernig getum við sem samfélag stutt betur við fjölskyldur?\n– Hvað þurfa börn þegar foreldrar glíma við veikindi? \nVið hvetjum öll sem láta sig málið varða – fagfólk\, foreldra\, aðstandendur og áhugafólk – til að mæta og taka þátt. Dagskrá verður auglýst þegar nær dregur. \n» Viðburðurinn á Facebook 
URL:https://www.obi.is/vidburdir/malthing-um-foreldra-sem-glima-vid-gedraen-veikindi/
LOCATION:Gróska\, Bjargargötu 1\, Reykjavík\, 102
CATEGORIES:Aðildarfélög
ATTACH;FMTTYPE=image/jpeg:https://www.obi.is/wp-content/uploads/2025/04/Vid-erum-enntha-foreldrar.jpg
END:VEVENT
BEGIN:VEVENT
DTSTART;TZID=UTC:20250920T130000
DTEND;TZID=UTC:20250920T170000
DTSTAMP:20260421T020903
CREATED:20250625T093958Z
LAST-MODIFIED:20250625T102502Z
UID:36526-1758373200-1758387600@www.obi.is
SUMMARY:40 ára afmælisráðstefna Alzheimer samtakanna
DESCRIPTION:HlustaÞann 20. september næstkomandi verður árleg ráðstefna Alzheimersamtakanna haldin á Hótel Nordica. Að þessu sinni markar hún tímamót\, því við fögnum jafnframt 40 ára afmæli okkar. Ráðstefnan er eins og endranær haldin í tengslum við alþjóðlegan dag Alzheimers og við erum búin að setja saman vandaða dagskrá.\n\nFYRIRLESTRAR OG TÓNLIST \nÁ ráðstefnunni verða áhugaverð erindi en meðal gesta eru:\n– Björn Skúlason\, maki forseta Íslands og verndari Alzheimersamtakanna– Alma D. Möller\, landlæknir– Jón Snædal\, öldrunarlæknir\, sem fer yfir sögu sjúkdómsins– Steinunn Þórðardóttir\, öldrunarlæknir og formaður Læknafélags Íslands\, sem fjallar um áskoranir framtíðarinnar\nÞá stígur Seiglukórinn einnig á stokk og flytur nokkur lög.\n\nTAKTU DAGINN FRÁ \nRáðstefnan hefur undanfarin ár verið vel sótt af einstaklingum með heilabilun\, aðstandendum\, fagfólki og öðrum sem láta sig málefnið varða.
URL:https://www.obi.is/vidburdir/40-ara-afmaelisradstefna-alzheimer-samtakanna/
LOCATION:Hilton Reykjavík Nordica\, Suðurlandsbraut 2\, Reykjavík\, 108\, Iceland
CATEGORIES:Aðildarfélög
ATTACH;FMTTYPE=image/png:https://www.obi.is/wp-content/uploads/2025/06/Alzheimersamtokin-logo-1400x863px.png
END:VEVENT
BEGIN:VEVENT
DTSTART;TZID=UTC:20250925T100000
DTEND;TZID=UTC:20250925T100000
DTSTAMP:20260421T020903
CREATED:20250916T174545Z
LAST-MODIFIED:20250916T174545Z
UID:38313-1758794400-1758794400@www.obi.is
SUMMARY:Mannréttindamorgnar: Sjúklingar og mannréttindi
DESCRIPTION:HlustaMarta Jóns Hjördísardóttir talskona sjúklinga kemur í Mannréttindahúsið 25. september og ræðir réttindi sjúklinga\, eflingu samtals við sjúklingasamtök og margt fleira. Viðburðurinn hefst klukkan 10:00 en húsið opnar 9:30. Heitt á könnunni\, léttar morgunveitingar í boði og öll velkomin. \n\nMarta tók við nýju stöðugildi talskonu sjúklinga fyrir um ári síðan. Staða talskonu er mikilvægur hluti af nýjum áherslum Landspítala sem felast meðal annars í auknu vægi fagmennsku í samskiptum við sjúklinga og aðstandendur\, eflingu samtals við sjúklingasamtök og umbóta í kjölfar athugasemda sjúklinga.  \n\n\nMarta hefur lokið BSc gráðu í hjúkrunarfræði frá HÍ\, MPM gráðu í verkefnastjórnun frá HR 2017 og er að ljúka MSc gráðu í hjúkrunarstjórnun frá HÍ. Marta hóf störf á Landspítala árið 2007 sem hjúkrunarnemi. Hún hefur sinnt fjölbreyttum störfum innan Landspítala síðan\, unnið á legudeildum\, á menntadeild\, verið formaður fagráðs Landspítala\, sinnt starfsmannahjúkrun og unnið að fjölbreyttum verkefnum á verkefnastofu m.a. stofnun transmiðstöðvar á Landspítala.
URL:https://www.obi.is/vidburdir/mannrettindamorgnar-sjuklingar-og-mannrettindi/
LOCATION:Mannréttindahúsið\, Sigtún 42\, Reykjavík\, Iceland
CATEGORIES:Aðildarfélög,Mannréttindahúsið
ATTACH;FMTTYPE=image/png:https://www.obi.is/wp-content/uploads/2025/09/Sjuklingar-Insta.png
END:VEVENT
BEGIN:VEVENT
DTSTART;VALUE=DATE:20250927
DTEND;VALUE=DATE:20251006
DTSTAMP:20260421T020903
CREATED:20250930T163233Z
LAST-MODIFIED:20250930T163233Z
UID:38537-1758931200-1759708799@www.obi.is
SUMMARY:RIFF – Alþjóðleg kvikmyndahátíð í Reykjavík
DESCRIPTION:HlustaRIFF – Alþjóðleg kvikmyndahátíð í Reykjavík – er meðal stærstu og fjölbreyttustu menningarviðburða í landinu. \nSjá allt um hátíðina og kvikmyndirnar sem sýndar eru til 5. október 2025 » Reykjavík International Film Festival 2024 \n 
URL:https://www.obi.is/vidburdir/riff-althjodleg-kvikmyndahatid-i-reykjavik/
CATEGORIES:Aðildarfélög
ATTACH;FMTTYPE=image/png:https://www.obi.is/wp-content/uploads/2025/09/RIFF.png
END:VEVENT
END:VCALENDAR