BEGIN:VCALENDAR
VERSION:2.0
PRODID:-//ÖBI - ECPv6.15.18//NONSGML v1.0//EN
CALSCALE:GREGORIAN
METHOD:PUBLISH
X-WR-CALNAME:ÖBI
X-ORIGINAL-URL:https://www.obi.is
X-WR-CALDESC:Events for ÖBI
REFRESH-INTERVAL;VALUE=DURATION:PT1H
X-Robots-Tag:noindex
X-PUBLISHED-TTL:PT1H
BEGIN:VTIMEZONE
TZID:UTC
BEGIN:STANDARD
TZOFFSETFROM:+0000
TZOFFSETTO:+0000
TZNAME:UTC
DTSTART:20250101T000000
END:STANDARD
END:VTIMEZONE
BEGIN:VEVENT
DTSTART;TZID=UTC:20260205T193000
DTEND;TZID=UTC:20260205T210000
DTSTAMP:20260422T031238
CREATED:20260129T143502Z
LAST-MODIFIED:20260129T143702Z
UID:41906-1770319800-1770325200@www.obi.is
SUMMARY:Fræðslufundur Stómasamtakanna
DESCRIPTION:HlustaFyrsti fræðslufundur ársins verður haldinn fimmtudaginn 5. febrúar í húsi Krabbameinsfélagsins  að Skógarhlíð 8 í Reykjavík.  Fundurinn hefst kl. 20:00 en húsið opnar 19:30. \n  \nFundarefni verður kynning frá Ráðgjafarþjónustu Krabbameinsfélagsins. \n  \nKaffiveitingar að lokinni dagskrá. \n 
URL:https://www.obi.is/vidburdir/fraedslufundur-stomasamtakanna/
CATEGORIES:Aðildarfélög
ATTACH;FMTTYPE=image/png:https://www.obi.is/wp-content/uploads/2026/01/download-1.png
END:VEVENT
BEGIN:VEVENT
DTSTART;TZID=UTC:20260207T110000
DTEND;TZID=UTC:20260207T160000
DTSTAMP:20260422T031238
CREATED:20260126T112524Z
LAST-MODIFIED:20260126T112524Z
UID:41729-1770462000-1770480000@www.obi.is
SUMMARY:Tæknidagurinn í Hörpu – fyrir okkur öll
DESCRIPTION:HlustaAðgangur að tæknideginum í Hörpu laugardaginn 7. febrúar er ókeypis og eru öll hvött til mæta og upplifa töfra tækninnar.  \nHelstu tæknifyrirtæki landsins sýna hvað þau hafa fram að færa í stórglæsilegum básum. Hér getur þú prófað nýjustu tækni\, tekið þátt í leikjum og getraunum og fengið innblástur fyrir það sem framtíðin ber í skauti sér. \nSjá nánari upplýsingar » UTmessan – 2026 Tæknidagur
URL:https://www.obi.is/vidburdir/taeknidagurinn-i-horpu-fyrir-okkur-oll/
LOCATION:Harpa\, Austurbakka 2\, Reykjavík\, 101\, Iceland
CATEGORIES:Aðildarfélög
ATTACH;FMTTYPE=image/jpeg:https://www.obi.is/wp-content/uploads/2022/11/Harpan-fjolubla-althjodadagur-fatlads-folks.jpg
END:VEVENT
BEGIN:VEVENT
DTSTART;TZID=UTC:20260226T130000
DTEND;TZID=UTC:20260226T160000
DTSTAMP:20260422T031238
CREATED:20260224T125923Z
LAST-MODIFIED:20260224T130135Z
UID:43553-1772110800-1772121600@www.obi.is
SUMMARY:Málþing Einstakra barna - Þar sem reynslan fær rödd
DESCRIPTION:HlustaÍ tengslum við alþjóðlegan dag sjaldgæfra sjúkdóma halda Einstök börn Landsamtök málþing fimmtudaginn 26.02.2026 á Hilton Reykjavik Nordica kl 13:00.\n\nDr. Albert Freedman er foreldri\, sálfræðingur og þekktur fagaðili í málefnum fjölskyldna barna/ungmenna með sjaldgæfa sjúkdóma í Bandaríkjunum. Dr.Freedman er líka foreldri einstaklings sem var með sjaldgæfa greiningu. Erindi hans fer fram á ensku\nDr. Freedman hefur yfir 30 ára reynslu í því að miðlar og vinna með foreldrum og fagaðilum og mun hann endurspegla dýrmætri og reynslumikilli innsýn í líðan fjölskyldna og þann stuðning og nálgun sem þarf að hafa í huga þegar fólki er mætt á erfiðum tímum eða í flóknum aðstæðum sjaldgæfra greininga.\n\nMálþingið er opið öllum meðan húsrúm leyfir en við biðjum fólk um að skrá sig HÉR!
URL:https://www.obi.is/vidburdir/malthing-einstakra-barna-thar-sem-reynslan-faer-rodd/
CATEGORIES:Aðildarfélög
ATTACH;FMTTYPE=image/jpeg:https://www.obi.is/wp-content/uploads/2026/02/640335781_1342599441240332_7707408838690890127_n.jpg
END:VEVENT
END:VCALENDAR