BEGIN:VCALENDAR
VERSION:2.0
PRODID:-//ÖBI - ECPv6.15.18//NONSGML v1.0//EN
CALSCALE:GREGORIAN
METHOD:PUBLISH
X-ORIGINAL-URL:https://www.obi.is
X-WR-CALDESC:Events for ÖBI
REFRESH-INTERVAL;VALUE=DURATION:PT1H
X-Robots-Tag:noindex
X-PUBLISHED-TTL:PT1H
BEGIN:VTIMEZONE
TZID:UTC
BEGIN:STANDARD
TZOFFSETFROM:+0000
TZOFFSETTO:+0000
TZNAME:UTC
DTSTART:20240101T000000
END:STANDARD
END:VTIMEZONE
BEGIN:VEVENT
DTSTART;TZID=UTC:20250313T170000
DTEND;TZID=UTC:20250313T193000
DTSTAMP:20260422T114105
CREATED:20250311T165723Z
LAST-MODIFIED:20250311T165723Z
UID:34185-1741885200-1741894200@www.obi.is
SUMMARY:Fræðslufundur um sykursýki og nýrnasjúkdóma
DESCRIPTION:HlustaDiabetes Ísland og Nýrnafélagið halda sameiginlegan fræðslufund um sykursýki og nýrnasjúkdóma. \nFundurinn verður haldinn fimmtudaginn 13.mars 2025 á Hilton hótelinu við Suðurlandsbraut. \nDagskrá\n\nFundur hefst kl 17\,30.\nFormenn beggja félaga flytja stutta tölu.\nSérfræðingur í augnsjúkdómum flytur erindi: Sykursýki og augu.\nHlé – boðið upp á léttan kvöldverð.\nSérfræðingur í nýrnasjúkdómum flytur erindi: Sykursýki og nýru.\nUmræður\, fyrirspurnir og almennt spjall\, og meiri veitingar.\n\nFundi slitið milli kl 19-19\,30
URL:https://www.obi.is/vidburdir/fraedslufundur-um-sykursyki-og-nyrnasjukdoma/
LOCATION:Hilton Reykjavík Nordica\, Suðurlandsbraut 2\, Reykjavík\, 108\, Iceland
CATEGORIES:Aðildarfélög
ATTACH;FMTTYPE=image/jpeg:https://www.obi.is/wp-content/uploads/2025/01/Hilton-Nordica.jpg
END:VEVENT
END:VCALENDAR