BEGIN:VCALENDAR
VERSION:2.0
PRODID:-//ÖBI - ECPv6.15.18//NONSGML v1.0//EN
CALSCALE:GREGORIAN
METHOD:PUBLISH
X-ORIGINAL-URL:https://www.obi.is
X-WR-CALDESC:Events for ÖBI
REFRESH-INTERVAL;VALUE=DURATION:PT1H
X-Robots-Tag:noindex
X-PUBLISHED-TTL:PT1H
BEGIN:VTIMEZONE
TZID:UTC
BEGIN:STANDARD
TZOFFSETFROM:+0000
TZOFFSETTO:+0000
TZNAME:UTC
DTSTART:20240101T000000
END:STANDARD
END:VTIMEZONE
BEGIN:VEVENT
DTSTART;TZID=UTC:20250328T090000
DTEND;TZID=UTC:20250328T150000
DTSTAMP:20260422T045511
CREATED:20250228T085423Z
LAST-MODIFIED:20250305T105446Z
UID:33895-1743152400-1743174000@www.obi.is
SUMMARY:Er farsæld tryggð í fósturmálum? [Félag fósturforeldra]
DESCRIPTION:HlustaFélag fósturforeldra stendur fyrir málþinginu\, Er farsæld tryggð í fósturmálum\, þann 28. mars næstkomandi á Hilton Reykjavík Nordica. \nUmsjón margra barna sem tilheyra jaðarsettum hópum meðal annars fötluð börn er innan fósturkerfisins og telur félagið þau börn í sérstaklega viðkvæmri stöðu innan þess. Verður reynt að varpa ljósi m.a. á þau mál á málþinginu. \nSkráning á málþingið  – Félag fósturforeldra
URL:https://www.obi.is/vidburdir/er-farsaeld-tryggd-i-fosturmalum-felag-fosturforeldra/
LOCATION:Hilton Reykjavík Nordica\, Suðurlandsbraut 2\, Reykjavík\, 108\, Iceland
CATEGORIES:Aðildarfélög
ATTACH;FMTTYPE=image/jpeg:https://www.obi.is/wp-content/uploads/2025/01/Hilton-Nordica.jpg
ORGANIZER;CN="F%C3%A9lag f%C3%B3sturforeldra":MAILTO:fostur@fostur.is
END:VEVENT
END:VCALENDAR