BEGIN:VCALENDAR
VERSION:2.0
PRODID:-//ÖBI - ECPv6.15.18//NONSGML v1.0//EN
CALSCALE:GREGORIAN
METHOD:PUBLISH
X-WR-CALNAME:ÖBI
X-ORIGINAL-URL:https://www.obi.is
X-WR-CALDESC:Events for ÖBI
REFRESH-INTERVAL;VALUE=DURATION:PT1H
X-Robots-Tag:noindex
X-PUBLISHED-TTL:PT1H
BEGIN:VTIMEZONE
TZID:UTC
BEGIN:STANDARD
TZOFFSETFROM:+0000
TZOFFSETTO:+0000
TZNAME:UTC
DTSTART:20240101T000000
END:STANDARD
END:VTIMEZONE
BEGIN:VEVENT
DTSTART;TZID=UTC:20250514T200000
DTEND;TZID=UTC:20250514T200000
DTSTAMP:20260422T005701
CREATED:20250120T092234Z
LAST-MODIFIED:20250206T185431Z
UID:32104-1747252800-1747252800@www.obi.is
SUMMARY:ADHD og sumarfrí
DESCRIPTION:Hlusta14. maí kl. 20:00 Háaleitisbraut 13\, 4. hæð og í streymi (ADHD í beinni)\n\n\n\nADHD og sumarfrí\nSumarfríin eru framundan\, dagskrá skólanna að tæmast og við tekur sól sumar og taumlaus gleði… eða hvað? Þó sumarfríin séu og eigi að vera tími fjölskyldusamveru og fjölbreyttra skemmtilegra viðburða\, fylgja sumrinu einnig nýjar og fjölbreyttar áskoranir\, þar sem rútínan riðlast og við tekur óvissa. Hjá börnum með ADHD og fullorðnum\, getur þessi tími valdið mikilli streitu og vanlíðan ef ekki tekst vel til. Á fundinum mun Dr. Drífa Björk Guðmundsóttir\, sálfræðingur fara yfir helstu áskoranir þessa mikilvæga tíma fjölskyldunnar\, benda á hagnýt ráð til lausnar og leiða umræður. \nFundurinn er öllum opinn en streymi er eingöngu aðgengilegt fyrir félagsfólk á ADHD í beinni á facebook. \nTil að ganga í samtökin er hægt að smella hér: Ganga í ADHD samtökin | ADHD samtökin
URL:https://www.obi.is/vidburdir/adhd-og-sumarfri/
LOCATION:Háaleitisbraut 13\, Háaleitisbraut 13\, Reykjavík\, Iceland
CATEGORIES:Aðildarfélög
ATTACH;FMTTYPE=image/png:https://www.obi.is/wp-content/uploads/2025/01/ADHD-og-sumarfri.png
END:VEVENT
END:VCALENDAR