BEGIN:VCALENDAR
VERSION:2.0
PRODID:-//ÖBI - ECPv6.15.18//NONSGML v1.0//EN
CALSCALE:GREGORIAN
METHOD:PUBLISH
X-ORIGINAL-URL:https://www.obi.is
X-WR-CALDESC:Events for ÖBI
REFRESH-INTERVAL;VALUE=DURATION:PT1H
X-Robots-Tag:noindex
X-PUBLISHED-TTL:PT1H
BEGIN:VTIMEZONE
TZID:UTC
BEGIN:STANDARD
TZOFFSETFROM:+0000
TZOFFSETTO:+0000
TZNAME:UTC
DTSTART:20240101T000000
END:STANDARD
END:VTIMEZONE
BEGIN:VEVENT
DTSTART;TZID=UTC:20251011T150000
DTEND;TZID=UTC:20251011T150000
DTSTAMP:20260421T071035
CREATED:20251009T145949Z
LAST-MODIFIED:20260114T124550Z
UID:38944-1760194800-1760194800@www.obi.is
SUMMARY:Sigur fyrir sjálfsmyndina - Skynsegin sýning
DESCRIPTION:HlustaBíó Paradís í samstarfi Tourette samtökin kynna sérstaka skynsegin sýningu á SIGUR FYRIR SJÁLFSMYNDINA laugardaginn 11. október kl 15:00. Leikstjóri myndarinnar Magnús Orri verður viðstaddur og mun sitja fyrir svörum eftir sýninguna. \nMyndin er heimildarmynd sem fylgir íslenskum keppendum á Heimsleika Special Olympics á Ítalíu 2025 og veitir innsýn inn í undirbúning\, keppnina sjálfa og þá mannúð og virðingu sem einkennir starf Special Olympics samtakanna. \nÞetta er fyrsta heimildarmynd Magnúsar Orra sem sjálfur keppti á leikunum í Abu Dhabi árið 2019 og hefur síðan helgað sig kvikmyndagerð. \nÁ skynsegin sýningu er tekið sérstakt tillit til einstaklinga sem glíma við einhvers konar áreitisraskanir eða öðruvísi áreitisþol\, þar sem öll umgjörð er aðlöguð að síku fólki sem kann að meta minna áreiti en bíósýningar bjóða vanalega uppá. \nSkynsegin sýning þýðir að: \n– Öllu áreiti í húsinu\, tónlist\, umgangi og öðru er stillt í hóf \n– Það má ganga um og hreyfa sig á meðan sýningu stendur \n– Það eru engar auglýsingar né sýnishorn á undan myndinni \n– Ljósin eru hálfkveikt allan tímann \n– Hljóðið er lægra en venjulega \n– Það er ekkert hlé \n– Sýningin er í stórum sal svo það ætti að vera nóg pláss milli fólks \n– Opið er fram og það má fara fram og hvíla sig á myndinni \nSýningin er hluti af KÓSY KINO verkefninu í samstarfi við Kino Usmev\, sem snýst um að gera Bíó Paradís aðgengilegra fólki sem færi annars ekki í bíó og er styrkt af EES sjóði Noregs\, Íslands og Lichtenstein og ríkissjóði Slóvakíu. \n\n Tengill á Facebook viðburð sýningarinnar
URL:https://www.obi.is/vidburdir/sigur-fyrir-sjalfsmyndina-skynsegin-syning/
CATEGORIES:Aðildarfélög
ATTACH;FMTTYPE=image/jpeg:https://www.obi.is/wp-content/uploads/2025/10/Sigur-fyrir-sjalfsmyndina-–-Skynsegin-syning-Bio-Paradis.jpg
END:VEVENT
END:VCALENDAR