BEGIN:VCALENDAR
VERSION:2.0
PRODID:-//ÖBI - ECPv6.15.18//NONSGML v1.0//EN
CALSCALE:GREGORIAN
METHOD:PUBLISH
X-ORIGINAL-URL:https://www.obi.is
X-WR-CALDESC:Events for ÖBI
REFRESH-INTERVAL;VALUE=DURATION:PT1H
X-Robots-Tag:noindex
X-PUBLISHED-TTL:PT1H
BEGIN:VTIMEZONE
TZID:UTC
BEGIN:STANDARD
TZOFFSETFROM:+0000
TZOFFSETTO:+0000
TZNAME:UTC
DTSTART:20240101T000000
END:STANDARD
END:VTIMEZONE
BEGIN:VEVENT
DTSTART;TZID=UTC:20251016T170000
DTEND;TZID=UTC:20251016T180000
DTSTAMP:20260421T135942
CREATED:20250910T152537Z
LAST-MODIFIED:20250930T155513Z
UID:38161-1760634000-1760637600@www.obi.is
SUMMARY:Fjólublátt ljós við barinn
DESCRIPTION:HlustaAðgengishvatning UngÖBÍ\, Fjólublátt ljós við barinn 2025\, verður afhent fimmtudaginn 16. október næstkomandi. Afhendingin fer fram á EINSTÖK BAR\, Laugavegi 10\, milli klukkan 17:30-18 og húsið opnar kl.17. \n»  Fjólublátt ljós við barinn – ÖBI
URL:https://www.obi.is/vidburdir/fjolublatt-ljos-vid-barinn/
LOCATION:Einstök BAR\, Laugavegi 10\, Reykjavík\, 101\, Iceland
CATEGORIES:Á döfinni,Aðildarfélög
ATTACH;FMTTYPE=image/jpeg:https://www.obi.is/wp-content/uploads/2024/10/2024-08-27-Fjolublatt-ljos-vid-barinn-57.jpg
END:VEVENT
END:VCALENDAR