BEGIN:VCALENDAR
VERSION:2.0
PRODID:-//ÖBI - ECPv6.15.18//NONSGML v1.0//EN
CALSCALE:GREGORIAN
METHOD:PUBLISH
X-WR-CALNAME:ÖBI
X-ORIGINAL-URL:https://www.obi.is
X-WR-CALDESC:Events for ÖBI
REFRESH-INTERVAL;VALUE=DURATION:PT1H
X-Robots-Tag:noindex
X-PUBLISHED-TTL:PT1H
BEGIN:VTIMEZONE
TZID:UTC
BEGIN:STANDARD
TZOFFSETFROM:+0000
TZOFFSETTO:+0000
TZNAME:UTC
DTSTART:20240101T000000
END:STANDARD
END:VTIMEZONE
BEGIN:VEVENT
DTSTART;VALUE=DATE:20251024
DTEND;VALUE=DATE:20251025
DTSTAMP:20260421T184859
CREATED:20251009T172552Z
LAST-MODIFIED:20251021T134923Z
UID:38958-1761264000-1761350399@www.obi.is
SUMMARY:Stundin er runnin upp - Kvennaverkfall 24. október 2025
DESCRIPTION:HlustaFöstudaginn 24. október 2025 eru konur og kvár hvött til að leggja niður launuð sem ólaunuð störf allan daginn eins og konur gerðu árið 1975. \nÁ sjötta tug samtaka kvenna\, hinsegin fólks\, fatlaðs fólks og launafólks blása til Kvennaverkfallsins. ÖBÍ réttindasamtök eru þar á meðal. Sjá nánar á kvennaar.is og  á Viðburðir – kvennaar.is \n \n 
URL:https://www.obi.is/vidburdir/stundin-er-runnin-upp-kvennaverkfall-24-oktober-2025/
CATEGORIES:Á döfinni,Aðildarfélög
ATTACH;FMTTYPE=image/webp:https://www.obi.is/wp-content/uploads/2025/10/TDF_1_FB_Event_1920x1005.webp
END:VEVENT
END:VCALENDAR