BEGIN:VCALENDAR
VERSION:2.0
PRODID:-//ÖBI - ECPv6.15.18//NONSGML v1.0//EN
CALSCALE:GREGORIAN
METHOD:PUBLISH
X-ORIGINAL-URL:https://www.obi.is
X-WR-CALDESC:Events for ÖBI
REFRESH-INTERVAL;VALUE=DURATION:PT1H
X-Robots-Tag:noindex
X-PUBLISHED-TTL:PT1H
BEGIN:VTIMEZONE
TZID:UTC
BEGIN:STANDARD
TZOFFSETFROM:+0000
TZOFFSETTO:+0000
TZNAME:UTC
DTSTART:20240101T000000
END:STANDARD
END:VTIMEZONE
BEGIN:VEVENT
DTSTART;TZID=UTC:20251101T100000
DTEND;TZID=UTC:20251101T140000
DTSTAMP:20260421T112135
CREATED:20251027T162907Z
LAST-MODIFIED:20251027T162907Z
UID:39406-1761991200-1762005600@www.obi.is
SUMMARY:Jafnt aðgengi að listnámi - málþing
DESCRIPTION:HlustaMálþing um aðgengi að listnámi verður haldið í Borgarleikhúsinu laugardaginn 1. nóvember 2025 frá kl. 10 til 14. \nListaháskóli Íslands\, Þroskahjálp\, ÖBÍ réttindasamtök\, Háskóli Íslands og fleiri standa saman að málþinginu. Sjá nánari upplýsingar: Málþing – Jafnt aðgengi að listnámi | Listaháskóli Íslands
URL:https://www.obi.is/vidburdir/jafnt-adgengi-ad-listnami-malthing/
LOCATION:Borgarleikhúsið\, Listabraut 3\, Reykjavík\, 103\, Iceland
CATEGORIES:Á döfinni,Aðildarfélög
ATTACH;FMTTYPE=image/png:https://www.obi.is/wp-content/uploads/2025/10/1350x1080-Instagram-Post.png
ORGANIZER;CN="%C3%96B%C3%8D r%C3%A9ttindasamt%C3%B6k":MAILTO:obi@obi.is
END:VEVENT
END:VCALENDAR