BEGIN:VCALENDAR
VERSION:2.0
PRODID:-//ÖBI - ECPv6.15.18//NONSGML v1.0//EN
CALSCALE:GREGORIAN
METHOD:PUBLISH
X-WR-CALNAME:ÖBI
X-ORIGINAL-URL:https://www.obi.is
X-WR-CALDESC:Events for ÖBI
REFRESH-INTERVAL;VALUE=DURATION:PT1H
X-Robots-Tag:noindex
X-PUBLISHED-TTL:PT1H
BEGIN:VTIMEZONE
TZID:UTC
BEGIN:STANDARD
TZOFFSETFROM:+0000
TZOFFSETTO:+0000
TZNAME:UTC
DTSTART:20250101T000000
END:STANDARD
END:VTIMEZONE
BEGIN:VEVENT
DTSTART;TZID=UTC:20260126T163000
DTEND;TZID=UTC:20260126T173000
DTSTAMP:20260422T230328
CREATED:20260107T104739Z
LAST-MODIFIED:20260107T104739Z
UID:41091-1769445000-1769448600@www.obi.is
SUMMARY:Komdu að syngja!
DESCRIPTION:HlustaGítarleikarinn og gleðigjafinn Valli leiðir samsöng þar sem helstu perlur íslenskrar dægurlagasögu verða á boðstólum. Eitthvað gamalt og gott sem flest ættu að þekkja! \nEngrar söngkunnáttu krafist\, öll syngja með sínu nefi. Það er allt í lagi þó að þú kunnir ekki textann\, hann verður á skjá svo söngurinn verður leikur einn. \nKomdu að syngja er á dagskrá einu sinni í mánuði fram á vor á Borgarbókasafninu Spönginni og Borgarbókasafninu Árbæ. Öll hjartanlega velkomin! \n» Komdu að syngja! | Borgarbókasafnið
URL:https://www.obi.is/vidburdir/komdu-ad-syngja/
LOCATION:Borgarbókasafnið – Árbæ\, Hraunbæ 119\, Reykjavík\, 110\, Iceland
CATEGORIES:Aðildarfélög
ATTACH;FMTTYPE=image/jpeg:https://www.obi.is/wp-content/uploads/2026/01/valligitarbaekur.jpg
END:VEVENT
END:VCALENDAR