BEGIN:VCALENDAR
VERSION:2.0
PRODID:-//ÖBI - ECPv6.15.18//NONSGML v1.0//EN
CALSCALE:GREGORIAN
METHOD:PUBLISH
X-WR-CALNAME:ÖBI
X-ORIGINAL-URL:https://www.obi.is
X-WR-CALDESC:Events for ÖBI
REFRESH-INTERVAL;VALUE=DURATION:PT1H
X-Robots-Tag:noindex
X-PUBLISHED-TTL:PT1H
BEGIN:VTIMEZONE
TZID:UTC
BEGIN:STANDARD
TZOFFSETFROM:+0000
TZOFFSETTO:+0000
TZNAME:UTC
DTSTART:20250101T000000
END:STANDARD
END:VTIMEZONE
BEGIN:VEVENT
DTSTART;TZID=UTC:20260130T080000
DTEND;TZID=UTC:20260131T173000
DTSTAMP:20260422T110639
CREATED:20260123T132513Z
LAST-MODIFIED:20260123T134433Z
UID:41609-1769760000-1769880600@www.obi.is
SUMMARY:Masterclass Gulleggsins
DESCRIPTION:HlustaKraumar í þér nýsköpunarhugmynd? Eða hefur þú áhuga á nýsköpun og langar að kynnast frumkvöðlaumhverfinu á Íslandi? Þá er Masterclass Gulleggsins fyrir þig! \n\nMasterclass Gulleggsins er ókeypis námskeið í nýsköpun og stofnun fyrirtækja! \nHægt er að skrá sig í Masterclass bæði með eða án hugmyndar.\n\nHér ætlum við að mastera það að umbreyta hugmynd í viðskiptatækifæri. Reynsluboltar og neglur úr atvinnulífinu hjálpa þér að koma hugmyndinni þinni á næsta level! Markmiðið með Masterclass er að aðstoða þig við að útbúa 10 glæru kynningu og einnar mínútna myndband um hugmyndina þína\, sem er akkúrat það sem þarf til að skila inn umsókn í Lokakeppni Gulleggsins sem fer fram í febrúar. \nKraumar í þér nýsköpunarhugmynd? Eða hefur þú áhuga á nýsköpun og langar að kynnast frumkvöðlaumhverfinu á Íslandi? Þá er Masterclass Gulleggsins fyrir þig! \nDagskrá og nánari upplýsingar\n» Masterclass Gulleggsins 2026 — Klak » Masterclass | Gulleggið \nSkráning\nSkráningarfrestur er til miðnættis 29. janúar » Skráning – Gulleggið 2026 | YouNoodle \n 
URL:https://www.obi.is/vidburdir/masterclass-gulleggsins-2026/
LOCATION:Gróska\, Bjargargötu 1\, Reykjavík\, 102
CATEGORIES:Aðildarfélög
ATTACH;FMTTYPE=image/avif:https://www.obi.is/wp-content/uploads/2026/01/Groska-HI-b.avif
ORGANIZER;CN="KLAK Icelandic Startups":MAILTO:hello@klak.is
END:VEVENT
BEGIN:VEVENT
DTSTART;TZID=UTC:20260130T090000
DTEND;TZID=UTC:20260130T130000
DTSTAMP:20260422T110639
CREATED:20260127T132359Z
LAST-MODIFIED:20260127T132437Z
UID:41793-1769763600-1769778000@www.obi.is
SUMMARY:Málþing Allir með - Ferðin hingað og ferðalagið framundan
DESCRIPTION:HlustaHvernig tryggjum við að öll börn hafi raunverulegan aðgang að íþróttum?\nHvað hefur áunnist síðustu ár og hvert ætlum við næst?\n\nAllir með verkefnið mun halda málþing þar sem við lítum yfir vegferð verkefnisins\, deilum reynslu af vettvangi og ræðum lausnir og næstu skref í átt að íþróttastarfi fyrir öll börn.\nÁ málþinginu verður fjallað um stöðu fatlaðra barna í íþróttum í dag\, rannsókn um þátttöku\, reynslu barna\, foreldra og íþróttafélaga sem og þau verkefni og samstarf sem þegar eru í gangi. Við munum ræða hvernig ná megi betur til foreldra\, styrkja íþróttafélög og þjálfara ásamt því að skoða úrræði og lausnir sem eru til staðar.\nÖllum er velkomið að koma og taka þátt í deginum með okkur og leggja sitt af mörkum til að allir fái að vera með.Við óskum eftir að fólk skrái sig á málþingið með því að fylla í formið hér: https://forms.gle/mVYx3A8CtPHFy2Us7\n\nDagsetning: 30. janúar\, 2026Staðsetning: Minigarðurinn\, Skútuvogur 2\, 104 Reykjavík\nMálþingið mun byrja kl. 09:00 og lýkur kl. 13:00
URL:https://www.obi.is/vidburdir/malthing-allir-med-ferdin-hingad-og-ferdalagid-framundan/
CATEGORIES:Á döfinni,Aðildarfélög
ATTACH;FMTTYPE=image/jpeg:https://www.obi.is/wp-content/uploads/2026/01/615440712_1301777575317670_5617743479271974637_n.jpg
END:VEVENT
END:VCALENDAR