BEGIN:VCALENDAR
VERSION:2.0
PRODID:-//ÖBI - ECPv6.15.18//NONSGML v1.0//EN
CALSCALE:GREGORIAN
METHOD:PUBLISH
X-ORIGINAL-URL:https://www.obi.is
X-WR-CALDESC:Events for ÖBI
REFRESH-INTERVAL;VALUE=DURATION:PT1H
X-Robots-Tag:noindex
X-PUBLISHED-TTL:PT1H
BEGIN:VTIMEZONE
TZID:UTC
BEGIN:STANDARD
TZOFFSETFROM:+0000
TZOFFSETTO:+0000
TZNAME:UTC
DTSTART:20250101T000000
END:STANDARD
END:VTIMEZONE
BEGIN:VEVENT
DTSTART;TZID=UTC:20260301T130000
DTEND;TZID=UTC:20260314T170000
DTSTAMP:20260422T225255
CREATED:20260209T182716Z
LAST-MODIFIED:20260209T184323Z
UID:42929-1772370000-1773507600@www.obi.is
SUMMARY:Framtíðarfestival í Grófinni
DESCRIPTION:HlustaHátíðin Framtíðarfestival: hvernig á að framtíðast? fer fram 1. mars til 14. mars 2026 á Borgarbókasafninu Grófinni (miðbænum). \nAllir viðburðirnir eru ókeypis og opnir öllum. \n» Dagskrá og allar upplýsingar um: Framtíðarfestivalið | Borgarbókasafnið
URL:https://www.obi.is/vidburdir/framtidarfestival-hvernig-a-ad-framtidast/
LOCATION:Borgarbókasafnið – Grófinni\, Tryggvagata15\, Reykjavík\, 101\, Iceland
CATEGORIES:Aðildarfélög
ATTACH;FMTTYPE=image/jpeg:https://www.obi.is/wp-content/uploads/2026/02/Framtidar-festival-skjamynd_2026-02-09_085909.jpg
END:VEVENT
BEGIN:VEVENT
DTSTART;TZID=UTC:20260313T120000
DTEND;TZID=UTC:20260314T160000
DTSTAMP:20260422T225255
CREATED:20260107T103329Z
LAST-MODIFIED:20260218T162655Z
UID:41088-1773403200-1773504000@www.obi.is
SUMMARY:Hugvísindaþing
DESCRIPTION:HlustaHugvísindaþing 2026 verður haldið í Háskóla Íslands dagana 13. og 14. mars. Á Hugvísindaþingi er borið fram það helsta í fræðunum í stuttum fyrirlestrum og málstofum. Aðgangur er ókeypis og öll eru velkomin! \nÓlöf Garðarsdóttir\, forseti Hugvísindasviðs\, setur þingið í Hátíðasal í Aðalbyggingu föstudaginn 13. mars kl. 12. Í kjölfarið flytur Magnús Þorkell Bernharðsson\, miðausturlandafræðingur og boðsfyrirlesari þingsins\, hátíðarfyrirlestur. \n» Hugvísindaþing 2026 | Hugvísindastofnun Háskóla Íslands
URL:https://www.obi.is/vidburdir/hugvisindathing/
LOCATION:Háskóli Íslands
CATEGORIES:Aðildarfélög
ATTACH;FMTTYPE=image/jpeg:https://www.obi.is/wp-content/uploads/2026/01/Haskoli-Islands-adalbygging_agust_2016_16.jpg
END:VEVENT
END:VCALENDAR