BEGIN:VCALENDAR
VERSION:2.0
PRODID:-//ÖBI - ECPv6.15.18//NONSGML v1.0//EN
CALSCALE:GREGORIAN
METHOD:PUBLISH
X-ORIGINAL-URL:https://www.obi.is
X-WR-CALDESC:Events for ÖBI
REFRESH-INTERVAL;VALUE=DURATION:PT1H
X-Robots-Tag:noindex
X-PUBLISHED-TTL:PT1H
BEGIN:VTIMEZONE
TZID:UTC
BEGIN:STANDARD
TZOFFSETFROM:+0000
TZOFFSETTO:+0000
TZNAME:UTC
DTSTART:20250101T000000
END:STANDARD
END:VTIMEZONE
BEGIN:VEVENT
DTSTART;TZID=UTC:20260317T120000
DTEND;TZID=UTC:20260317T130000
DTSTAMP:20260422T151908
CREATED:20260218T133345Z
LAST-MODIFIED:20260218T133345Z
UID:43281-1773748800-1773752400@www.obi.is
SUMMARY:Geðhjálp: Frá skömm yfir í skilning "Bakvið við merkimiðana" 
DESCRIPTION:HlustaViðburðaröð Geðhjálpar um fordóma og geðheilbrigði.  Næsti hádegisfundur\, Bakvið við merkimiðana\, verður haldinn þriðjudaginn 17. mars næstkomandi. \nDagskrá og allar nánari upplýsingar: Geðhjálp
URL:https://www.obi.is/vidburdir/gedhjalp-fra-skomm-yfir-i-skilning-bakvid-vid-merkimidana/
CATEGORIES:Aðildarfélög
ATTACH;FMTTYPE=image/jpeg:https://www.obi.is/wp-content/uploads/2026/02/Gedhjalp-fra-skomm-e1771421588614.jpg
ORGANIZER;CN="Ge%C3%B0hj%C3%A1lp":MAILTO:gedhjalp@gedhjalp.is
END:VEVENT
END:VCALENDAR