BEGIN:VCALENDAR
VERSION:2.0
PRODID:-//ÖBI - ECPv6.15.18//NONSGML v1.0//EN
CALSCALE:GREGORIAN
METHOD:PUBLISH
X-ORIGINAL-URL:https://www.obi.is
X-WR-CALDESC:Events for ÖBI
REFRESH-INTERVAL;VALUE=DURATION:PT1H
X-Robots-Tag:noindex
X-PUBLISHED-TTL:PT1H
BEGIN:VTIMEZONE
TZID:UTC
BEGIN:STANDARD
TZOFFSETFROM:+0000
TZOFFSETTO:+0000
TZNAME:UTC
DTSTART:20250101T000000
END:STANDARD
END:VTIMEZONE
BEGIN:VEVENT
DTSTART;TZID=UTC:20260321T060000
DTEND;TZID=UTC:20260321T235900
DTSTAMP:20260422T054618
CREATED:20260218T125445Z
LAST-MODIFIED:20260220T181616Z
UID:43277-1774072800-1774137540@www.obi.is
SUMMARY:Alþjóðadagur Downs heilkennis
DESCRIPTION:HlustaMeð okkur ekki fyrir okkur\nÁ þessum degi klæðumst við mislitum sokkum til að fagna fjölbreytileikanum. \n\nAllsherjarþing Sameinuðu þjóðanna samþykkti árið 2011 að 21. mars skyldi vera alþjóðlegur dagur Downs-heilkennis.
URL:https://www.obi.is/vidburdir/althjodadagur-downs-heilkennis/
CATEGORIES:Aðildarfélög
ATTACH;FMTTYPE=image/jpeg:https://www.obi.is/wp-content/uploads/2026/02/AdobeStock_733440086.jpg
END:VEVENT
END:VCALENDAR