BEGIN:VCALENDAR
VERSION:2.0
PRODID:-//ÖBI - ECPv6.15.18//NONSGML v1.0//EN
CALSCALE:GREGORIAN
METHOD:PUBLISH
X-ORIGINAL-URL:https://www.obi.is
X-WR-CALDESC:Events for ÖBI
REFRESH-INTERVAL;VALUE=DURATION:PT1H
X-Robots-Tag:noindex
X-PUBLISHED-TTL:PT1H
BEGIN:VTIMEZONE
TZID:UTC
BEGIN:STANDARD
TZOFFSETFROM:+0000
TZOFFSETTO:+0000
TZNAME:UTC
DTSTART:20250101T000000
END:STANDARD
END:VTIMEZONE
BEGIN:VEVENT
DTSTART;TZID=UTC:20260326T130000
DTEND;TZID=UTC:20260326T160000
DTSTAMP:20260421T202246
CREATED:20260308T163338Z
LAST-MODIFIED:20260323T155427Z
UID:44037-1774530000-1774540800@www.obi.is
SUMMARY:Málþing - Veik og þreytt dag eftir dag
DESCRIPTION:HlustaÞann 26. mars í Hvammi á Grand Hótel Reykjavíkur\, kl. 13:00–16:00\, standa Heilbrigðishópur ÖBÍ réttindasamtaka og Siðfræðistofnun Háskóli Íslands fyrir málþinginu „Veik og þreytt dag eftir dag – konur sem lifa við langvinn veikindi“. \nTalsvert hefur verið rætt um kvenheilsu og langvinn veikindi kvenna að undanförnu en lítið um aðgerðir. Á þessum viðburði munu hagsmunasamtök þeirra kvenna og kvára sem lifa við langvinn veikindi segja frá reynslu sinni sem og mikilvægum aðgerðum til að bæta stuðning og þjónustu við þennan hóp. \nÁ dagskrá eru stutt erindi frá ólíkum samtökum og að þeim loknum pallborðsumræður með spurningum úr sal\, þar sem fjallað verður um reynslu\, áskoranir og stöðu kvenna. \nÞað er orðið fullbókað á viðburðinn í salnum Hvammi\, en ekki örvænta – þú getur fylgst með viðburðinum í beinu streymi á www.obi.is. \nDAGSKRÁ \nKl. 13.00-16.00 með 45 mín kaffihléi \n13.00: Fundastjóri Marta Jóns Hjördísardóttir talskona sjúklinga á Landspítala opnar \n13.05: Alma Ýr Ingólfsdóttir formaður ÖBÍ \n13.10: Telma Sigtryggsdóttir – formaður heilbrigðishóps ÖBÍ \n13.20: Nanna Hlín Halldórsdóttir \n13.30: Hugrún Vignisdóttir – Samtök um POTS á Íslandi \n13.40: Freyja Imsland – ME félag Íslands \n13.50: Sigríður Elín Ásgeirsdóttir – Ský – Félag fólks með Post Covid \n14.00 Hrönn Stefánsdóttir – Gigtarfélag Íslands \n14.10 Kaffihlé \n15.00 Valgerður Þórdís Snæbjarnardóttir – Endósamtökin \n15.10 Elísa Ósk Línadóttir – PCOS samtök Íslands \n15.20 Anna Sigrún og Steinunn Radha – Tabú – femínísk fötlunarhreyfing \n15.30 Pallborð með spurningum úr sal
URL:https://www.obi.is/vidburdir/malthing-veik-og-threytt-dag-eftir-dag/
LOCATION:Grand Hótel Reykjavík\, Sigtún 38\, Reykjavík\, 105
CATEGORIES:Á döfinni,Aðildarfélög
ATTACH;FMTTYPE=image/jpeg:https://www.obi.is/wp-content/uploads/2026/03/original.jpg
END:VEVENT
END:VCALENDAR