BEGIN:VCALENDAR
VERSION:2.0
PRODID:-//ÖBI - ECPv6.15.18//NONSGML v1.0//EN
CALSCALE:GREGORIAN
METHOD:PUBLISH
X-WR-CALNAME:ÖBI
X-ORIGINAL-URL:https://www.obi.is
X-WR-CALDESC:Events for ÖBI
REFRESH-INTERVAL;VALUE=DURATION:PT1H
X-Robots-Tag:noindex
X-PUBLISHED-TTL:PT1H
BEGIN:VTIMEZONE
TZID:UTC
BEGIN:STANDARD
TZOFFSETFROM:+0000
TZOFFSETTO:+0000
TZNAME:UTC
DTSTART:20250101T000000
END:STANDARD
END:VTIMEZONE
BEGIN:VEVENT
DTSTART;TZID=UTC:20260416T170000
DTEND;TZID=UTC:20260416T180000
DTSTAMP:20260425T221759
CREATED:20260413T180838Z
LAST-MODIFIED:20260413T181305Z
UID:45188-1776358800-1776362400@www.obi.is
SUMMARY:Erfðir\, áhættuþættir og forvarnir heilabilunarsjúkdóma
DESCRIPTION:HlustaFyrirlestur – Alzheimersamtökin\nHvað ræður því hvort við fáum heilabilunarsjúkdóm og hversu mikið getum við sjálf haft áhrif?\nSteinunn Þórðardóttir\, öldrunarlæknir\, fjallar um þá þætti sem hafa áhrif á áhættu okkar á að þróa með sér heilabilunarsjúkdóm. Hún fer yfir bæði erfðaþætti og lífsstíl\, og hvað það getur þýtt ef heilabilun er algeng í fjölskyldunni. \nSjá nánari upplýsingar: Erfðir\, áhættuþættir og forvarnir heilabilunarsjúkdóma \n\nÖll velkomin. Engin skráning nauðsynleg. Fyrirlesturinn verður tekinn upp og settur á vefinn: Alzheimersamtökin daginn eftir.
URL:https://www.obi.is/vidburdir/alzheimersamtokin-erfdir-ahaettuthaettir-og-forvarnir-heilabilunarsjukdoma/
LOCATION:Lífsgæðasetur St. Jósepsspítala\, Suðurgata 41\, Hafnarfjörður\, 220\, Iceland
CATEGORIES:Aðildarfélög
ATTACH;FMTTYPE=image/jpeg:https://www.obi.is/wp-content/uploads/2025/06/Lifsgaedasetur-St.-Josefsspitali-Alzheimersamtokin.jpg
END:VEVENT
END:VCALENDAR