BEGIN:VCALENDAR
VERSION:2.0
PRODID:-//ÖBI - ECPv6.15.18//NONSGML v1.0//EN
CALSCALE:GREGORIAN
METHOD:PUBLISH
X-ORIGINAL-URL:https://www.obi.is
X-WR-CALDESC:Events for ÖBI
REFRESH-INTERVAL;VALUE=DURATION:PT1H
X-Robots-Tag:noindex
X-PUBLISHED-TTL:PT1H
BEGIN:VTIMEZONE
TZID:UTC
BEGIN:STANDARD
TZOFFSETFROM:+0000
TZOFFSETTO:+0000
TZNAME:UTC
DTSTART:20250101T000000
END:STANDARD
END:VTIMEZONE
BEGIN:VEVENT
DTSTART;TZID=UTC:20260418T100000
DTEND;TZID=UTC:20260418T170000
DTSTAMP:20260417T150437
CREATED:20260413T151159Z
LAST-MODIFIED:20260413T151159Z
UID:45179-1776506400-1776531600@www.obi.is
SUMMARY:Vekjum vorið | Plöntuskiptimarkaður í Gerðubergi
DESCRIPTION:HlustaLangar þig í nýjar plöntur eða blóm á heimilið? Nú er tækifæri til að taka afleggjara\, grisja blómapottasafnið og kíkja við í Fríbúðinni. Allar plöntur velkomnar.  Þú getur komið með afleggjara\, pottaplöntur\, blómapotta og mögulega tekið nýja plöntu með þér heim. \nViðburðurinn er hluti af vorhátíð í Gerðubergi: » Vekjum vorið | Plöntuskiptimarkaður | Borgarbókasafnið
URL:https://www.obi.is/vidburdir/vekjum-vorid-plontuskiptimarkadur-i-gerdubergi/
LOCATION:Gerðuberg\, Gerðuberg 3-5\, Reykjavík\, 111\, Iceland
CATEGORIES:Aðildarfélög
ATTACH;FMTTYPE=image/jpeg:https://www.obi.is/wp-content/uploads/2026/04/plontuskiptimarkadur_0.jpg
END:VEVENT
BEGIN:VEVENT
DTSTART;TZID=UTC:20260421T120000
DTEND;TZID=UTC:20260421T130000
DTSTAMP:20260417T150437
CREATED:20260323T104334Z
LAST-MODIFIED:20260323T104334Z
UID:44930-1776772800-1776776400@www.obi.is
SUMMARY:Geðhjálp: Fordómar\, afbrot og andlegar áskoranir
DESCRIPTION:HlustaViðburðaröð Geðhjálpar um fordóma og geðheilbrigði\nNæsti hádegisfundur\, Fordómar\, afbrot og andlegar áskoranir\, verður haldinn þriðjudaginn 21. apríl næstkomandi kl. 12:00 til 13:00. \nDagskrá og allar nánari upplýsingar: Geðhjálp » Bakvið merkimiðana – fordómar og raunveruleikinn í kringum fíkn – Geðhjálp
URL:https://www.obi.is/vidburdir/gedhjalp-fordomar-afbrot-og-andlegar-askoranir/
CATEGORIES:Aðildarfélög
ATTACH;FMTTYPE=image/jpeg:https://www.obi.is/wp-content/uploads/2026/02/Gedhjalp-fra-skomm-e1771421588614.jpg
ORGANIZER;CN="Ge%C3%B0hj%C3%A1lp":MAILTO:gedhjalp@gedhjalp.is
END:VEVENT
BEGIN:VEVENT
DTSTART;TZID=UTC:20260422T100000
DTEND;TZID=UTC:20260422T110000
DTSTAMP:20260417T150437
CREATED:20260414T095315Z
LAST-MODIFIED:20260414T095410Z
UID:45195-1776852000-1776855600@www.obi.is
SUMMARY:Mannréttindabíó - The Veto
DESCRIPTION:HlustaFélag Sameinuðu þjóðanna á Íslandi býður á sérstaka sýningu þar sem heimildarmyndin The Veto verður sýnd í Mannréttindahúsinu 22. apríl kl. 10:00. \nThe Veto er áhrifamikil og tímabær heimildarmynd sem varpar ljósi á neitunarvald fastra meðlima öryggisráðs Sameinuðu þjóðanna. Í 80 ár hefur þetta vald verið stöðugt til umræðu. Þótt ólíklegt sé að neitunarvaldið verði afnumið vekur beiting þess upp alvarlegar spurningar\, sérstaklega þegar því er beitt í tengslum við þjóðarmorð\, stríðsglæpi og glæpi gegn mannkyni. Í myndinni ræða leiðandi sérfræðingar á alþjóðavettvangi raunhæfar leiðir til umbóta og hvernig rjúfa megi langvarandi pattstöðu innan öryggisráðsins og draga úr hættu á frekari stórátökum. \nLeikstjóri myndarinnar\, Tim Slade\, verður viðstaddur og svarar spurningum úr sal eftir sýningu. \nThe Veto er brýn og mikilvæg heimildarmynd sem á ríkt erindi við öll sem hafa áhuga á mannréttindum\, alþjóðamálum og hlutverki Sameinuðu þjóðanna í samtímanum. \nVið hlökkum til að sjá þig í mannréttindabíó.
URL:https://www.obi.is/vidburdir/mannrettindabio-the-veto/
CATEGORIES:Aðildarfélög,Mannréttindahúsið
ATTACH;FMTTYPE=image/png:https://www.obi.is/wp-content/uploads/2026/04/The-Veto.png
END:VEVENT
BEGIN:VEVENT
DTSTART;VALUE=DATE:20260530
DTEND;VALUE=DATE:20260615
DTSTAMP:20260417T150438
CREATED:20260413T161229Z
LAST-MODIFIED:20260414T143937Z
UID:45185-1780099200-1781481599@www.obi.is
SUMMARY:Listahátíð í Reykjavík
DESCRIPTION:HlustaListahátíð í Reykjavík verður haldin haldin frá 30. maí til 14. júní 2026. \n» Dagskrá | Listahátíð í Reykjavík \n  \n 
URL:https://www.obi.is/vidburdir/listahatid-i-reykjavik/
CATEGORIES:Aðildarfélög
ATTACH;FMTTYPE=image/jpeg:https://www.obi.is/wp-content/uploads/2026/04/Listahatid-2.jpg
END:VEVENT
END:VCALENDAR