BEGIN:VCALENDAR
VERSION:2.0
PRODID:-//ÖBI - ECPv6.15.18//NONSGML v1.0//EN
CALSCALE:GREGORIAN
METHOD:PUBLISH
X-WR-CALNAME:ÖBI
X-ORIGINAL-URL:https://www.obi.is
X-WR-CALDESC:Events for ÖBI
REFRESH-INTERVAL;VALUE=DURATION:PT1H
X-Robots-Tag:noindex
X-PUBLISHED-TTL:PT1H
BEGIN:VTIMEZONE
TZID:UTC
BEGIN:STANDARD
TZOFFSETFROM:+0000
TZOFFSETTO:+0000
TZNAME:UTC
DTSTART:20210101T000000
END:STANDARD
END:VTIMEZONE
BEGIN:VEVENT
DTSTART;TZID=UTC:20230114T100000
DTEND;TZID=UTC:20230114T130000
DTSTAMP:20260423T052805
CREATED:20230109T132254Z
LAST-MODIFIED:20230109T132254Z
UID:11925-1673690400-1673701200@www.obi.is
SUMMARY:Ráðstefna Parkinsonsamtakanna:  Höldum takti
DESCRIPTION:HlustaRáðstefnan Höldum takti – parkinson og endurhæfing verður haldin í Norðurljósasalnum í Hörpu laugardaginn 14. janúar kl. 10:00–13:00. \nDagskrá: \n\nÁvarp\nVilborg Jónsdóttir\, formaður Parkinsonsamtakanna\nOpnun ráðstefnunnar\nWillum Þór Þórsson\, heilbrigðisráðherra\nSjúkraþjálfun við Parkinson – staða og framtíðarsýn\nAndri Þór Sigurgeirsson\, sjúkraþjálfari hjá Takti sjúkraþjálfun\nGildi endurhæfingar í meðferð Parkinson\nAnna Björnsdóttir\, taugalæknir\nEkki hreyfieinkenni – þekking og úrræði\nÁgústa Kristín Andersen\, hjúkrunarfræðingur og forstöðumaður Takts\nÖrsögur – Nýárshugleiðingar um nærandi skynjun\nGuðbjörg Björnsdóttir og Ingibjörg Valgeirsdóttir\, Saga – Story House\nFundarstjóri: Freyr Eyjólfsson\n\nRáðstefnan er ætluð fólki með parkinson\, aðstandendum þeirra og vinum og öllum sem hafa áhuga á málefninu. Við hvetjum fólk til að fjölmenna á ráðstefnuna og taka sína nánustu með. Reglulega verður gerð stutt hlé á dagskránni til að þátttakendur geti staðið upp og í hléi verður boðið upp á kaffiveitingar. \nAðgangur er ókeypis og opinn öllum en nauðsynlegt er að skrá sig á heimasíðu samtakanna parkinson.is  Ráðstefnan verður líka í beinu streymi á parkinson.is
URL:https://www.obi.is/vidburdir/radstefna-parkinsonsamtakanna-holdum-takti/
LOCATION:Harpa\, Austurbakka 2\, Reykjavík\, 101\, Iceland
CATEGORIES:Aðildarfélög
ORGANIZER;CN="Parkinsonsamt%C3%B6kin":MAILTO:parkinson@parkinson.is
END:VEVENT
BEGIN:VEVENT
DTSTART;TZID=UTC:20230110T163000
DTEND;TZID=UTC:20230110T173000
DTSTAMP:20260423T052805
CREATED:20221207T105942Z
LAST-MODIFIED:20221207T110119Z
UID:10741-1673368200-1673371800@www.obi.is
SUMMARY:Alzheimersamtökin: Tónlist í daglegu lífi
DESCRIPTION:HlustaMagnea Tómasdóttir söngkona og tónlistarkennari fræðir okkur um tónlist í daglegu lífi. Hægt er að koma á staðinn eða fylgjast með okkur í streymi hér á heimasíðu okkar alzheimer.is \nAllir velkomnir og aðgangur ókeypis.  \nHefjum árið með tónlist og gleði. Upptökur frá fræðslufundi eru aðgengilegar eftir fundinn. \n\nAlzheimersamtökin halda mánaðarlega fræðslufundi. Sjá nánar á alzheimer.is \n  \n 
URL:https://www.obi.is/vidburdir/alzheimersamtokin-tonlist-i-daglegu-lifi/
LOCATION:Lífsgæðasetur St. Jósepsspítala\, Suðurgata 41\, Hafnarfjörður\, 220\, Iceland
CATEGORIES:Aðildarfélög
END:VEVENT
BEGIN:VEVENT
DTSTART;TZID=UTC:20221129T200000
DTEND;TZID=UTC:20221129T200000
DTSTAMP:20260423T052805
CREATED:20220926T121802Z
LAST-MODIFIED:20220926T123249Z
UID:9009-1669752000-1669752000@www.obi.is
SUMMARY:Áföll\, EMDR og listmeðferð [Áhugavert @ Geðhjálp]
DESCRIPTION:HlustaÍ þessum fyrirlestri mun Rósa Richter fjalla um áföll\, hvað veldur þeim\, afleiðingar þeirra og hvernig er hægt að öðlast bata eftir þau. Hún lýsir EMDR áfallameðferð\, uppruna meðferðarinnar og árangur hennar.Rósa mun einnig lýsa EMDR meðferð fyrir hópa\, og hvernig listmeðferð er vafið saman við EMDR meðferð í hópvinnu. Rósa mun kenna virka aðferð til að draga úr bæði andlegri og líkamlegri vanlíðan. \nGeðhjálp mun í vetur standa fyrir fræðsludagskrá um geðheilbrigðismál í vetur. Erindin verða haldin í sal Hlutaverkaseturs í Borgartúni 1\, 105 Reykjavík kl. 20:00 og fara fram einn þriðjudag í mánuði. Boðið verður upp á kaffi og kleinur og spjall að fyrirlestrunum loknum. \n29. nóvember kl 20:00 Áföll\, EMDR og listmeðferð – Rósa Richter sálfræðingur og listmeðferðarfræðingur
URL:https://www.obi.is/vidburdir/afoll-emdr-og-listmedferd-ahugavert-gedhjalp/
LOCATION:Hlutverkasetur\, Borgartún 1\, Reykjavík\, 105
CATEGORIES:Aðildarfélög
ORGANIZER;CN="Ge%C3%B0hj%C3%A1lp":MAILTO:gedhjalp@gedhjalp.is
END:VEVENT
BEGIN:VEVENT
DTSTART;TZID=UTC:20221122T080000
DTEND;TZID=UTC:20221122T170000
DTSTAMP:20260423T052805
CREATED:20221121T095354Z
LAST-MODIFIED:20221121T095354Z
UID:10439-1669104000-1669136400@www.obi.is
SUMMARY:Spjallfundur fyrir maka nýrnasjúkra
DESCRIPTION:HlustaNú ætlar Nýrnafélagið að taka aftur upp spjallfundina um hin ýmsu málefni hverju sinni. Þessi fundur verður helgaður mökum nýrnasjúkra og er vettvangurinn ætlaður til að makar nýrnasjúkra geti borið saman sína líðan\, reynslu og upplifanir. \nAllir velkomnir.
URL:https://www.obi.is/vidburdir/spjallfundur-fyrir-maka-nyrnasjukra/
LOCATION:Hátún 10
CATEGORIES:Aðildarfélög
END:VEVENT
BEGIN:VEVENT
DTSTART;TZID=UTC:20221121T113000
DTEND;TZID=UTC:20221121T120000
DTSTAMP:20260423T052805
CREATED:20221115T122621Z
LAST-MODIFIED:20221115T122621Z
UID:10339-1669030200-1669032000@www.obi.is
SUMMARY:Römpum upp Ísland [Áhugavert @ Mjódd]
DESCRIPTION:HlustaViðburður í Mjóddinni á mánudaginn 21. nóvember næskomandi frá kl. 11:30 til 12:00. \nTilefnið er að halda upp á ramp númer 250. Allir velkomnir!
URL:https://www.obi.is/vidburdir/rompum-upp-island-ahugavert-mjodd/
LOCATION:Mjóddin\, Þönglabakka 1\, Reykjavík\, 109\, Iceland
CATEGORIES:Aðildarfélög
END:VEVENT
BEGIN:VEVENT
DTSTART;TZID=UTC:20221109T200000
DTEND;TZID=UTC:20221109T220000
DTSTAMP:20260423T052805
CREATED:20221018T145241Z
LAST-MODIFIED:20221018T145241Z
UID:9942-1668024000-1668031200@www.obi.is
SUMMARY:Bingó & fræðsla // Endó\, PCOS og Tilvera
DESCRIPTION:HlustaÞann 9. nóvember næstkomandi munu Endósamtökin\, PCOS samtökin og Tilvera – Samtök um ófrjósemi halda sameiginlegan viðburð!\nVið byrjum kvöldið á fræðslu frá öllum þremur samtökunum\, bæði um sjúkdóminn og hvað samtökin gera og endum svo í laufléttu bingókvöldi.\nÖllum er velkomið að sækja viðburðinn og kynnast okkur.\nBingóspjaldið mun kosta 1.000 stk og fer allur ágóði til samtakanna.\nHlökkum til að eiga gott kvöld með ykkur!
URL:https://www.obi.is/vidburdir/bingo-fraedsla-endo-pcos-og-tilvera/
LOCATION:Hátún 10
CATEGORIES:Aðildarfélög
END:VEVENT
BEGIN:VEVENT
DTSTART;TZID=UTC:20221029T150000
DTEND;TZID=UTC:20221029T200000
DTSTAMP:20260423T052805
CREATED:20221024T175626Z
LAST-MODIFIED:20221027T130705Z
UID:9994-1667055600-1667073600@www.obi.is
SUMMARY:SPOEX: Alþjóðadagur og 50 ára afmæli
DESCRIPTION:HlustaÍ tilefni Alþjóðadags psoriasis og 50 ára afmælis SPOEX efnum við til afmælisgleði í salnum Háteig á Grand Hótel\, laugardaginn 29. okt n.k. Húsið opnar kl 15:00 og stendur fram á kvöld. \nFjölbreytt og áhugaverð dagskrá – Matur og lifandi tónlist – Hlökkum til að sjá sem flesta! \nDagskrá\n\nFormaður Spoex opnar dagskrána\nSaga Spoex – Erna Arngrímsdóttir\nNæringafræðingur – Geir Gunnar Markússon frá Heilsugeiranum\nLocobase Eczema – Þóra Margrét Jónsdóttir frá Alvogen\nPsoriasis nú og fyrir 20 árum – Bárður Sigurgeirsson DR. MED og Kristján Veigar Kristjánsson\nBláa Lónið  í 30 ár – Esther Hjálmarsdóttir\, hjúkrunarfræðingur\nFyrirlestur um CBD – Daði Freyr Ingólfsson\nPsilocyben í meðferðarskyni gegn kvíða og þunglyndi – Sara María Júlíusdóttir\n\n 
URL:https://www.obi.is/vidburdir/spoex-althjodadagur-og-50-ara-afmaeli/
LOCATION:Grand Hótel Reykjavík\, Sigtún 38\, Reykjavík\, 105
CATEGORIES:Aðildarfélög
END:VEVENT
BEGIN:VEVENT
DTSTART;TZID=UTC:20221029T120000
DTEND;TZID=UTC:20221029T160000
DTSTAMP:20260423T052805
CREATED:20221027T160429Z
LAST-MODIFIED:20221028T105518Z
UID:10106-1667044800-1667059200@www.obi.is
SUMMARY:Heilaheill: SLAGDAGUR á alþjóðadegi
DESCRIPTION:HlustaLaugardaginn 29. október á ALÞJÓÐADEGI HEILABLÓÐFALLSINS (World Stroke day) ætla\, læknar\, hjúkrunarfræðingar og aðrir fagaðilar heilbrigðisþjónustunnar\, – ásamt slagþolum að bjóða gestum og gangandi í Kringlunni í Reykjavík og á Glerártorgi Akureyri upp á ókeypis ráðgjafaþjónustu\, upplýsingar um lýðheilsu\, forvarnaratriði\, varðandi heilablóðfallið (slagið) frá kl. 12:00-16:00! \nEru allir hvattir til að kynnast málefninu\, – þetta er dauðans alvara! \n \nMyndband um appið \nMyndband um gáttatif \nMyndband um segabrottnám \n  \n 
URL:https://www.obi.is/vidburdir/heilaheill-slagdagur-a-althjodadegi/
LOCATION:Kringlan\, Kringlunni 4-12\, Reykjavík\, 103\, Iceland
CATEGORIES:Aðildarfélög
END:VEVENT
BEGIN:VEVENT
DTSTART;TZID=UTC:20221027T130000
DTEND;TZID=UTC:20221027T160000
DTSTAMP:20260423T052805
CREATED:20221014T110815Z
LAST-MODIFIED:20221014T110815Z
UID:9810-1666875600-1666886400@www.obi.is
SUMMARY:Þú ert númer 1250
DESCRIPTION:HlustaMálþing ADHD samtakanna að Háteigi\, Grand Hótel. \nOpið málþing um afleiðingar ómeðhöndlaðs ADHD\, biðlista og samfélagslegan kostnað \nDagskrá\n13:00 – 13:10 Setning málþings\n13:10 – 13:20 Ávarp – Vilhjálmur Hjálmarsson\, formaður ADHD samtakanna.\n13:20 – 13:30 Hvatningarverðlaun ADHD samtakanna\n13:30 – 14:10 ADHD er ekki til – Haraldur Erlendsson geðlæknir\n14:10 – 14:50 Viljum við betra líf ? Um verndandi áhrif greininga\,\nmeðferðar og lyfja vegna ADHD – Anna Tara Andrésdóttir doktorsnemi\n14:50 – 15:10 Kaffihlé\n15:10 – 15:40 Geðheilsuteymi ADHD fullorðinna – Elvar Daníelsson yfirlæknir\n15:40 – 15:50 Reynslusaga – Hafdís Hrönn Hafsteinsdóttir alþingismaður\n15:50 – 16:00 Samantekt og málþingsslit \nMálþingið er hluti af alþjóðlegum ADHD vitundarmánuði og er lokaviðburður mánaðarins\nFélagsmenn — 2.000 kr.\nAlmennt verð — 4.000 kr.\nSkráning á adhd.is
URL:https://www.obi.is/vidburdir/thu-ert-numer-1250/
LOCATION:Grand Hótel Reykjavík\, Sigtún 38\, Reykjavík\, 105
CATEGORIES:Aðildarfélög
END:VEVENT
BEGIN:VEVENT
DTSTART;TZID=UTC:20221025T200000
DTEND;TZID=UTC:20221025T213000
DTSTAMP:20260423T052805
CREATED:20220926T121406Z
LAST-MODIFIED:20220926T121406Z
UID:9007-1666728000-1666733400@www.obi.is
SUMMARY:Meðvirkni: „Hvað er það eiginlega?“ [Áhugavert @ Geðhjálp]
DESCRIPTION:HlustaMeðvirkni er alvarlegt vandamál sem snertir flestalla strengi lífs þeirra sem við hana etja. Hún er falin\, sorgleg\, öflug\, lamandi\, eyðandi og vekur upp fjölmargar vondar tilfinningar innra með okkur. Hugtakið meðvirkni er mikið notað og áhugi fyrir því hefur aldrei verið meiri. Þó svo að margir telji sig vita hverjar birtingamyndir meðvirkni geta verið þá vita fáir hver raunveruleg orsök hennar er og hvað hún hefur mikil áhrif á öll okkar sambönd\, samskipti og líðan. \nMeðal þeirra tilfinninga\, upplifana og erfiðleika sem meðvirkni getur skapað eru skömm\, öryggisleysi\, undanlátsemi\, framtaksleysi\, þunglyndi\, sektarkennd\, samskiptaörðugleikar\, vandi í samböndum\, ótti við álit annarra\, stjórnsemi\, fíknir\, tómleiki og lágt sjálfsmat svo eitthvað sé nefnt. \nGeðhjálp mun í vetur standa fyrir fræðsludagskrá um geðheilbrigðismál í vetur. Erindin verða haldin í sal Hlutaverkaseturs í Borgartúni 1\, 105 Reykjavík kl. 20:00 og fara fram einn þriðjudag í mánuði. Boðið verður upp á kaffi og kleinur og spjall að fyrirlestrunum loknum. \n25. október kl 20:00 : Meðvirkni: „Hvað er það eiginlega?“ – Anna Sigríður Pálsdóttir ráðgjafi
URL:https://www.obi.is/vidburdir/medvirkni-hvad-er-thad-eiginlega-ahugavert-gedhjalp/
LOCATION:Hlutverkasetur\, Borgartún 1\, Reykjavík\, 105
CATEGORIES:Aðildarfélög
ORGANIZER;CN="Ge%C3%B0hj%C3%A1lp":MAILTO:gedhjalp@gedhjalp.is
END:VEVENT
BEGIN:VEVENT
DTSTART;VALUE=DATE:20221018
DTEND;VALUE=DATE:20221019
DTSTAMP:20260423T052805
CREATED:20221014T111126Z
LAST-MODIFIED:20221014T111126Z
UID:9814-1666051200-1666137599@www.obi.is
SUMMARY:Alþjóðlegi líffæradagurinn
DESCRIPTION:HlustaÞann 18. október . næstkomandi er Alþjóðlegi líffæradagurinn. Í tilefni hans verða allar verslanir Lyf og Heilsu með afslátt af blóðþrýstingsmælum vegna þess að hár blóðþrýstingur er aðal orsök lokastigsnýrnabilunar á Íslandi. \nEinnig verða félagar í Nýrnafélaginu að taka blóðþrýsting hjá fólki í Kringlunni og ræða við gesti og gangandi um nýrnasjúkdóma og Nýrnafélagið.
URL:https://www.obi.is/vidburdir/althjodlegi-liffaeradagurinn/
CATEGORIES:Aðildarfélög
END:VEVENT
BEGIN:VEVENT
DTSTART;TZID=UTC:20221012T130000
DTEND;TZID=UTC:20221012T163000
DTSTAMP:20260423T052805
CREATED:20221010T132151Z
LAST-MODIFIED:20221010T132352Z
UID:9591-1665579600-1665592200@www.obi.is
SUMMARY:„Tökum þátt í eigin meðferð“ : málþing [Gigtarfélag Íslands]
DESCRIPTION:HlustaMálþing Gigtarfélags Íslands á alþjóðlegum gigtardegi 12. október 2022\, Setrinu á Grand Hótel klukkan 13:00 til 16:30. Málþingið  er opið öllum og er upplýsingavettvangur fyrir fólk með gigt\, fyrir fagfólk á sviði gigtar og áhugasama þar sem deilt er nýjungum og gagnlegum upplýsingum sem hvetja fólk til að taka þátt í eigin meðferð. \nDagskrá:\n13:00 – 13:10 Dóra Ingvadóttir\, formaður Gigtarfélagsins setur málþingið \n13:15 – 13:45 Er hægt að auka áhrif verkjameðferða á endurhæfingardeildum á líðan fólks með langvarandi verki?\nHafdís Skúladóttir\, hjúkrunarfræðingur \n13:50 – 14:20 Heimilið mitt hann líkaminn minn\nKaren Ösp Friðriksdóttir\, markþjálfi \n14:20 – 14:45 Kaffihlé \n14:45 – 15:15 Þekking bætir meðferð\nElínborg Stefánsdóttir\, hjúkrunarfræðingur \n15:20 – 15:50 „Það dundi yfir líkama og sál“\nRósíka Gestsdóttir\, hjúkrunarfræðingur \n15:55 – 16:25 Að vera góður forstjóri í fyrirtækinu ÉG ehf\nSigrún Baldursdóttir\, sjúkraþjálfari \n16:25 – 16:30 Málþingi slitið – Emil Thoroddsen\, framkvæmdastjóri Gigtarfélagsins \nBein útsending verður frá málþinginu á youtube.com og verður hlekkur á streymið á heimasíðunni gigt.is og á Facebókarsíðu Gigtarfélagsins. \nFundarstjóri Þóra Árnadóttir\, hjúkrunarfræðingur og varaformaður Gigtarfélagsins
URL:https://www.obi.is/vidburdir/tokum-thatt-i-eigin-medferd-malthing-gigtarfelags-islands/
LOCATION:Grand Hótel Reykjavík\, Sigtún 38\, Reykjavík\, 105
CATEGORIES:Aðildarfélög
END:VEVENT
BEGIN:VEVENT
DTSTART;TZID=UTC:20221006T200000
DTEND;TZID=UTC:20221006T213000
DTSTAMP:20260423T052805
CREATED:20220926T134322Z
LAST-MODIFIED:20220926T135253Z
UID:9020-1665086400-1665091800@www.obi.is
SUMMARY:Fræðslufundur CCU samtakanna
DESCRIPTION:HlustaNæsti fræðslufundur CCU verður fimmtudagskvöldið 6. október nk. Að þessu sinni ætlum við að vera með fyrirspurnarfund og erum búin að fá nokkrar kjarnakonur til að taka þátt: Anna Lind Traustadóttir næringarfræðingur\, Sigríður Hanna Ingólfsdóttir félagsráðgjafi hjá ÖBÍ og svo mæta annaðhvort eða báðar Anna Soffía Guðmundsdóttir sérfræðingur í hjúkrun einstaklinga með meltingarsjúkdóma og Margrét Marín Arnardóttir hjúkrunarfræðingur. \nFundurinn verður í sal Vistor\, Hörgatúni 2 Garðabæ og hefst kl. 20:00. Við stefnum á að vera bæði á Zoom og senda út í umræðuhópnum en það væri frábært að sjá sem flesta í sal 🙂 \nCCU – hagsmunasamtök einstaklinga með Crohn’s sjúkdóm (svæðisgarnabólgu) og Colitis Ulcerosa (sáraristilbólgu).
URL:https://www.obi.is/vidburdir/fraedslufundur-ccu-samtakanna/
CATEGORIES:Aðildarfélög
END:VEVENT
BEGIN:VEVENT
DTSTART;TZID=UTC:20221001T110000
DTEND;TZID=UTC:20221001T130000
DTSTAMP:20260423T052805
CREATED:20220928T134703Z
LAST-MODIFIED:20220928T134703Z
UID:9061-1664622000-1664629200@www.obi.is
SUMMARY:Laugardagsfundur Heilaheilla - fyrir alla!
DESCRIPTION:HlustaAllir eru velkomnir á félagsfund Heilaheilla í Sigtúni 42\, laugardaginn 1. október 2022 kl. 11-13.  \n\nÞórir Steingrímsson\, formaður Heilaheilla opnar mánuðinn.\nFeðginin Albert Ingason og Eva Dögg Albertsdóttir taka lagið.\n\nHeitt á könnunni!
URL:https://www.obi.is/vidburdir/laugardagsfundur-heilaheilla-fyrir-alla/
LOCATION:Salur ÖBÍ\, Sigtún 42\, Reykjavík\, 105\, Iceland
CATEGORIES:Aðildarfélög
END:VEVENT
BEGIN:VEVENT
DTSTART;TZID=UTC:20220927T200000
DTEND;TZID=UTC:20220927T213000
DTSTAMP:20260423T052805
CREATED:20220922T161542Z
LAST-MODIFIED:20220926T121511Z
UID:8921-1664308800-1664314200@www.obi.is
SUMMARY:Kynning á nýrri meðferð við þunglyndi [Áhugavert @ Geðhjálp]
DESCRIPTION:HlustaHeilaörvunarmiðstöðin (HÖM) er ný meðferðareining innan Geðheilsuteyma Heilsugæslu höfuðborgarsvæðisins en þar er nú er veitt svokölluð TMS-meðferð við meðferðarþráu (unipolar) þunglyndi. TMS er skammstöfun á því sem á ensku nefnist Transcranial Magnetic Stimulation sem þýða mætti sem segulörvunarmeðferð á heila en meðferð beinist að afmörkuðu svæði heilans og hefur ekki bein áhrif á önnur líffærakerfi\, ólíkt t.d. virkni margra lyfja. \nTMS-meðferð er ekki ífarandi sem þýðir að meðferðin krefst hvorki svæfingar\, deyfingar né skurðaðgerðar. Skjólstæðingur er vakandi meðan á meðferð stendur og getur haldið sína leið að meðferð lokinni. TMS-meðferð byggir á endurtekningu og krefst þess að skjólstæðingar mæti í meðferð alla virka daga vikunnar í fjórar til sex vikur. Sumir finna fljótt fyrir breytingu á líðan á meðan áhrifin koma seinna hjá öðrum. \nGeðhjálp mun í vetur standa fyrir fræðsludagskrá um geðheilbrigðismál í vetur. Erindin verða haldin í sal Hlutaverkaseturs í Borgartúni 1\, 105 Reykjavík kl. 20:00 og fara fram einn þriðjudag í mánuði. Boðið verður upp á kaffi og kleinur og spjall að fyrirlestrunum loknum. \n27. september kl 20:00 Kynning á nýrri meðferð við meðferðarþráu þunglyndi: TMS – Dagur Bjarnason geðlæknir
URL:https://www.obi.is/vidburdir/gedhjalp-kynning-a-nyrri-medferd-vid-thunglyndi/
LOCATION:Hlutverkasetur\, Borgartún 1\, Reykjavík\, 105
CATEGORIES:Aðildarfélög
ORGANIZER;CN="Ge%C3%B0hj%C3%A1lp":MAILTO:gedhjalp@gedhjalp.is
END:VEVENT
BEGIN:VEVENT
DTSTART;VALUE=DATE:20220923
DTEND;VALUE=DATE:20220924
DTSTAMP:20260423T052805
CREATED:20220920T145808Z
LAST-MODIFIED:20220920T145808Z
UID:8822-1663891200-1663977599@www.obi.is
SUMMARY:\,\,Vörpum bláu ljósi á kennileiti og byggingar“ [Táknmálið sameinar okkur]
DESCRIPTION:HlustaAlþjóðadagur táknmála verður föstudaginn 23. september 2022. Talið er að um 200 mismunandi táknmál séu í heiminum. Í því tilefni hvetur Alheimssamtök heyrnarlausra WFD alla að fagna með því að varpa bláu ljósi á helstu kennileiti og byggingar til stuðnings baráttu fyrir táknmálinu. Á Íslandi er íslensk táknmál eina hefðbundna minnihlutamálið og því hvetjum við þig og ykkur að varpa bláu ljósi á föstudaginn til stuðnings íslenska táknmálinu. \nLitakóðinn er #007EC4 \nBlái liturinn hefur verið notaður af Alheimssamtökunum frá stofnun þess\, árið 1951 og er það tákn fyrir baráttu jafnréttis í samfélaginu. \nTil að vekja athygli á framlagi þeirra sem hafa varpað bláu ljósi hvetjum við fólk að taka mynd eða myndband og birta það með myllumerkinu #IDSL og #BlueLight og merkja @Wfdeaf ásamt þeim sem tók af skarið og varpaði ljósinu. \nTakk fyrir stuðninginn!
URL:https://www.obi.is/vidburdir/vorpum-blau-ljosi-a-kennileiti-og-byggingar-taknmalid-sameinar-okkur/
CATEGORIES:Aðildarfélög
END:VEVENT
BEGIN:VEVENT
DTSTART;TZID=UTC:20220921T163000
DTEND;TZID=UTC:20220921T183000
DTSTAMP:20260423T052806
CREATED:20220915T163443Z
LAST-MODIFIED:20230609T180449Z
UID:8708-1663777800-1663785000@www.obi.is
SUMMARY:Málþing Alzheimersamtakanna
DESCRIPTION:Hlusta„Tryggjum leiðina… málþing um þjónustu við fólk með heilabilun og aðstandendur í náinni framtíð“ verður haldið  21.september 2022 í tilefni af alþjóðlegum Alzheimerdegi. \nMálþingið er haldið í salarkynnum Háskóla Íslands\, Stakkahlíð 1\, í salnum Skriða kl. 16:30-18:30. Þinginu verður streymt beint af alzheimer.is  og þar er hægt að nálgast frekari upplýsingar um málþingið.
URL:https://www.obi.is/vidburdir/malthing-alzheimersamtakanna/
LOCATION:HÍ – Stakkahlíð [Skriða]\, Stakkahlíð\, Reykjavík
CATEGORIES:Aðildarfélög
END:VEVENT
BEGIN:VEVENT
DTSTART;TZID=UTC:20220919T080000
DTEND;TZID=UTC:20220925T170000
DTSTAMP:20260423T052806
CREATED:20220920T144927Z
LAST-MODIFIED:20220920T145151Z
UID:8819-1663574400-1664125200@www.obi.is
SUMMARY:Alþjóðavika döff 19.-25. september
DESCRIPTION:HlustaWFD Alheimssamtök döff fagna alþjóðavikunni með því að efla til vitundarvakningu hvern dag. Sjá nánar http://wfdeaf.org/iwdeaf2022/
URL:https://www.obi.is/vidburdir/althjodavika-doff-19-25-september/
CATEGORIES:Aðildarfélög
END:VEVENT
BEGIN:VEVENT
DTSTART;TZID=UTC:20220917T130000
DTEND;TZID=UTC:20220917T134000
DTSTAMP:20260423T052806
CREATED:20220914T155019Z
LAST-MODIFIED:20220914T155145Z
UID:8661-1663419600-1663422000@www.obi.is
SUMMARY:„Gleymdust einhverfir? Staða einhverfs fólks gagnvart geðheilbrigðis- og félagsþjónustu“ : Erindi á Fundi fólksins 2022
DESCRIPTION:HlustaLaugardaginn 17. sept. verða Einhverfusamtökin með erindið „Gleymdust einhverfir? Staða einhverfs fólks gagnvart geðheilbrigðis- og félagsþjónustu“ kl. 13:00 – 13:40 í sal Grósku. \nUm Fund fólksins 2022\nFundur fólksins verður haldinn 16. – 17. september 2022 í Norræna húsinu og Grósku. Margir áhugaverðir viðburðir  sem eiga erindi við okkur öll. Sjá dagskrá og nánari upplýsingar um Fundur fólksins (fundurfolksins.is) \n\n\n\nTilgangur fundarins er að skapa vandaðan vettvang þar sem boðið er til samtals milli almennings\, stjórnmálafólks og frjálsra félagasamtaka\, þar sem lýðræði og opin skoðanaskipti eru leiðarstefið. \nMarkmið fundarins er að skapa meira traust og skilning á milli ólíkra aðila samfélagsins án þess að vera föst í venjubundnum umræðufarvegi stjórnmála og fjölmiðla. \nFundur fólksins er sjálfstæð hátíð og ekki tengd neinum hagsmunaöflum á Íslandi eða annnars staðar.
URL:https://www.obi.is/vidburdir/gleymdust-einhverfir-stada-einhverfs-folks-gagnvart-gedheilbrigdis-og-felagsthjonustu-erindi-a-fundi-folksins-2022/
LOCATION:Gróska\, Bjargargötu 1\, Reykjavík\, 102
CATEGORIES:Aðildarfélög
END:VEVENT
BEGIN:VEVENT
DTSTART;TZID=UTC:20220914T160000
DTEND;TZID=UTC:20220914T190000
DTSTAMP:20260423T052806
CREATED:20220714T103307Z
LAST-MODIFIED:20220914T154354Z
UID:144-1663171200-1663182000@www.obi.is
SUMMARY:Fjárlögin krufin : fræðsla og vinnustofa
DESCRIPTION:HlustaFræðsla um fjárlagaferlið\, rýnt í fjárlögin\, leiðbeint um umsagnagerð og hagsmunagæslu fyrir þitt félag. \nLeiðbeinandi: Ágúst Ólafur Ágústsson. Opnað verður fyrir skráningar á námskeiðið hjá Hringsjá í ágúst. Staðfestingargjald kr. 2.500 \nFræðsluröð ÖBÍ 2022\nNámskeið fyrir starfsfólk og félagsmenn aðildarfélaga bandalagsins sem haldin eru í Hringsjá og á Teams. ÖBÍ ber allan kostnað af námskeiðshaldinu utan skráningargjaldsins sem greiðist af þátttakanda eða því aðildarfélagi sem hann starfar fyrir eða er félagi í.
URL:https://www.obi.is/vidburdir/fjarlogin-krufin-fraedsla-og-vinnustofa/
LOCATION:Hringsjá\, Hátúni 10d\, Reykjavík\, 105\, Iceland
CATEGORIES:Aðildarfélög
END:VEVENT
END:VCALENDAR