BEGIN:VCALENDAR
VERSION:2.0
PRODID:-//ÖBI - ECPv6.15.18//NONSGML v1.0//EN
CALSCALE:GREGORIAN
METHOD:PUBLISH
X-ORIGINAL-URL:https://www.obi.is
X-WR-CALDESC:Events for ÖBI
REFRESH-INTERVAL;VALUE=DURATION:PT1H
X-Robots-Tag:noindex
X-PUBLISHED-TTL:PT1H
BEGIN:VTIMEZONE
TZID:UTC
BEGIN:STANDARD
TZOFFSETFROM:+0000
TZOFFSETTO:+0000
TZNAME:UTC
DTSTART:20230101T000000
END:STANDARD
END:VTIMEZONE
BEGIN:VEVENT
DTSTART;VALUE=DATE:20240910
DTEND;VALUE=DATE:20240911
DTSTAMP:20260422T011744
CREATED:20240513T090203Z
LAST-MODIFIED:20240702T142008Z
UID:20809-1725926400-1726012799@www.obi.is
SUMMARY:Formannafundur ÖBÍ réttindasamtaka
DESCRIPTION:Hlusta
URL:https://www.obi.is/vidburdir/formannafundur-obi-rettindasamtaka-2/
LOCATION:Mannréttindahúsið\, Sigtún 42\, Reykjavík\, Iceland
CATEGORIES:Á döfinni
ATTACH;FMTTYPE=image/jpeg:https://www.obi.is/wp-content/uploads/2024/05/2024-05-01-Krofuganga-OBI-1.-mai-166-scaled.jpg
END:VEVENT
BEGIN:VEVENT
DTSTART;TZID=UTC:20240911T083000
DTEND;TZID=UTC:20240911T100000
DTSTAMP:20260422T011745
CREATED:20240826T092634Z
LAST-MODIFIED:20240828T152055Z
UID:24607-1726043400-1726048800@www.obi.is
SUMMARY:Tengslafundur ÖBÍ réttindasamtaka\, Festu og Vinnumálastofnunnar
DESCRIPTION:HlustaÖBÍ réttindasamtök\, Festa og Vinnumálastofnun halda tengslafund í Mannréttindahúsinu að morgni 11. september. Dagskrá kynnt síðar.
URL:https://www.obi.is/vidburdir/tengslafundur-obi-rettindasamtaka-festu-og-vinnumalastofnunnar/
LOCATION:Mannréttindahúsið\, Sigtún 42\, Reykjavík\, Iceland
CATEGORIES:Á döfinni
ATTACH;FMTTYPE=image/jpeg:https://www.obi.is/wp-content/uploads/2022/04/atvinnumal.jpg
END:VEVENT
BEGIN:VEVENT
DTSTART;TZID=UTC:20240911T180000
DTEND;TZID=UTC:20240911T200000
DTSTAMP:20260422T011745
CREATED:20240826T092729Z
LAST-MODIFIED:20240826T092729Z
UID:24609-1726077600-1726084800@www.obi.is
SUMMARY:Vísindaferð sálfræðinema í Mannréttindahúsið
DESCRIPTION:Hlusta
URL:https://www.obi.is/vidburdir/visindaferd-salfraedinema-i-mannrettindahusid/
LOCATION:Mannréttindahúsið\, Sigtún 42\, Reykjavík\, Iceland
CATEGORIES:Á döfinni
END:VEVENT
BEGIN:VEVENT
DTSTART;TZID=UTC:20240912T133000
DTEND;TZID=UTC:20240912T133000
DTSTAMP:20260422T011745
CREATED:20240910T094738Z
LAST-MODIFIED:20240910T094738Z
UID:25262-1726147800-1726147800@www.obi.is
SUMMARY:Jafnrétti í heilbrigðisþjónustu - málþing um reynslu Svía af arð- og einkavæðingu í heilbrigðisrekstri
DESCRIPTION:HlustaASÍ\, BSRB og ÖBÍ réttindasamtök standa að málþingi um jafnrétti í heilbrigðisþjónustu; hætturnar við arðvæðingu og einkavæðingu í heilbrigðisrekstri og leiðir að bættu rekstrarumhverfi í þágu samfélagsins. Málþingið er í tilefni útgáfu bókarinnar Jafnrétti í heilbrigðisþjónustu\, sem er þýðing á riti Göran Dahlgren um málaflokkin\, og hvernig reynslan hefur verið í Svíþjóð undanfarna áratugi.\n\nÁsamt Göran Dahlgren mun Lisa Pelling fara yfir aðgerðir stéttafélaga og félagasamtaka til að taka á vandanum og Rúnar Vilhjálmsson fer yfir stöðuna eins og hún birtist á Íslandi samtímans.\n\nFundarstjóri er Sonja Ýr Þorbergsdóttir\, formaður BSRB\n\n13:30 – Húsið opnar\n14:00 – Sonja Ýr Þorbergsdóttir (BSRB) – Upphafsorð\n14:10 – Göran Dahlgren – When the Swedish Health care system became a market – driving forces\, effects and alternatives\n14:55 – Lisa Pelling – Trade union strategies and responses towards marketisation of health care services – perspectives from Sweden\n15:15 – Rúnar Vilhjálmsson – Reynslan frá Svíþjóð í íslensku samhengi\n15:30 – Léttar veitingar
URL:https://www.obi.is/vidburdir/jafnretti-i-heilbrigdisthjonustu-malthing-um-reynslu-svia-af-ard-og-einkavaedingu-i-heilbrigdisrekstri/
LOCATION:Edda\, hús íslenskunnar
CATEGORIES:Á döfinni
ATTACH;FMTTYPE=image/png:https://www.obi.is/wp-content/uploads/2024/09/heilbrigdisvidburdur.png
END:VEVENT
BEGIN:VEVENT
DTSTART;TZID=UTC:20240916T180000
DTEND;TZID=UTC:20240916T180000
DTSTAMP:20260422T011745
CREATED:20240821T093623Z
LAST-MODIFIED:20241112T173333Z
UID:24488-1726509600-1726509600@www.obi.is
SUMMARY:Keila fyrir fjölskylduna [@Tourette samtökin]
DESCRIPTION:HlustaTourette-samtökin bjóða í keilu – fjölskyldumeðlimir velkomnir. Það kostar ekkert að vera með. Einnig verða léttar veitingar í boði.\n\nVið hittumst í Keiluhöllinni Egilshöll klukkan 18:00 mánudaginn 16. september. Reikna má með að keilan standi yfir í tæpa klukkustund og síðan getur fólk tyllt sér í veitingasalinn og notið veitinga. Viðburðinum lýkur því upp úr klukkan 20:00.\n\nVinsamlegast tilkynnið þátttöku með því að velja „Going“ í þessum „Event“ hér á FB\, eða sendið póst á tourette@tourette.is\n\nEinnig er hægt að hringja í síma 840-2210.
URL:https://www.obi.is/vidburdir/keila-fyrir-fjolskylduna-tourette-samtokin/
LOCATION:Keiluhöllin Egilshöll
CATEGORIES:Aðildarfélög
ATTACH;FMTTYPE=image/png:https://www.obi.is/wp-content/uploads/2024/08/bowling-alley-8770911_1280.png
END:VEVENT
BEGIN:VEVENT
DTSTART;TZID=UTC:20240917T200000
DTEND;TZID=UTC:20240917T220000
DTSTAMP:20260422T011745
CREATED:20240916T162311Z
LAST-MODIFIED:20240916T162311Z
UID:25761-1726603200-1726610400@www.obi.is
SUMMARY:Foreldrar barna sem glíma við geðrænar áskoranir: Samtal og samvinna [Geðhjálp]
DESCRIPTION:HlustaÞriðjudaginn 17. september kl. 20:00 fer fram fundur á vegum Geðhjálpar og Umhyggju í samvinnu við Landspítala/BUGL\, Geðheilsumiðstöð barna og Embætti landlæknis\, þar sem markmiðið er að skapa vettvang fyrir foreldra barna sem glíma við geðrænar áskoranir. Fundarstaður er Hlutverkasetur Borgartúni 1. \nMarkmiðið er að gefa foreldrum og öðrum sem láta sér málefni barna með geðrænar áskoranir vettvang til samtals og stuðnings og hitta aðra með sambærilega reynslu. \nÁ fundinum verður farið yfir ýmislegt sem stendur foreldrum og börnum þeirra til boða og starfsemi Umhyggju félags langveikra barna kynnt. Markmiðið er að stofna hóp þar sem þessir foreldrar geti hist áfram og haft stuðning hvert af öðru og vinna saman að hagsmunum sínum og barna sinna. \nDagskrá\nÞú ert númer 99 í röðinni\, vinsamlegast hafðu samband síðar – Ásgerður Arna Sófusdóttir\nFjallað verður um leiðir í kerfinu\, snemmtækan stuðning og úrræði fyrir fjölskyldur. \nÁsgerður Arna er hjúkrunarfræðingur og teymisstýra Fjölskylduteymis 0-5 ára\, en hún hefur starfað á Geðheilsumiðstöð Barna síðustu þrjú árin þar sem hún sinnir tengslaeflandi fjölskyldumeðferð. Síðustu 15 árin hefur Ásgerður Arna starfað með fjölskyldum og börnum\, m.a. á BUGL\, við skólahjúkrun\, ungbarnavernd og í Brúnni í Hafnarfirði. \nÞinn eigin besti vinur – Chien Tai Shill\, þroskaþjálfi\, félagsráðgjafi og fjölskyldufræðingur\nFjallað verður um álagsþætti og áskoranir foreldra sem eiga barn með geðrænar áskoranir og mikilvægi þess að foreldrar hugi að sér í þeim aðstæðum. \nChien Tai hefur unnið á BUGL í rúm fjögur ár og er nú teymisstjóri meðferðarteyma og sinnir einnig fjölskyldumeðferð. Áður var hún félagsráðgjafi í Klettaskóla í níu ár\, en hún hefur kennt í HÍ til margra ára og var einnig starfsmaður í HR. \nKynning á Umhyggju – Árný Ingvarsdóttir framkvæmdastjóri Umhyggju\nÁrný mun kynna félagið og þá þjónustu sem stendur félagsmönnum til boða\, sem felst meðal annars í ráðgjöf og stuðning í réttindabaráttu\, fjárstyrki\, endurgjaldslausa lögfræðiráðgjöf\, endurgjaldslausa sálfræðiþjónustu og möguleika á dvöl í sérútbúnum orlofshúsum bæði sumur og vetur. \nForeldrahópur stofnaður\nÍ lokin verður stofnaður foreldrahópur\, þar sem markmiðið er að fá fram raddir foreldra. Foreldrar barna sem glíma við geðrænar áskoranir eru hvattir til þess að mæta og koma sínum skoðunum og reynslu á framfæri. \nVið búum öll við geð rétt eins og við erum öll með hjarta: www.gedheilbrigdi.is
URL:https://www.obi.is/vidburdir/foreldrar-barna-sem-glima-vid-gedraenar-askoranir-samtal-og-samvinna-gedhjalp/
LOCATION:Hlutverkasetur\, Borgartún 1\, Reykjavík\, 105
CATEGORIES:Aðildarfélög
ATTACH;FMTTYPE=image/jpeg:https://www.obi.is/wp-content/uploads/2024/09/Gedhjalp-sept-2024-1.jpg
ORGANIZER;CN="Ge%C3%B0hj%C3%A1lp":MAILTO:gedhjalp@gedhjalp.is
END:VEVENT
BEGIN:VEVENT
DTSTART;TZID=UTC:20240919T090000
DTEND;TZID=UTC:20240919T090000
DTSTAMP:20260422T011745
CREATED:20240513T090351Z
LAST-MODIFIED:20240708T132628Z
UID:20813-1726736400-1726736400@www.obi.is
SUMMARY:Sjálfbærni og mannréttindi – Mannréttindamorgnar [@Mannréttindahúsið]
DESCRIPTION:HlustaElva Rakel Jónsdóttir\, framkvæmdastjóri Festu\, flytur fyrirlestur um sjálfbærni og mannréttindi á Mannréttindamorgnum í Mannréttindahúsinu.
URL:https://www.obi.is/vidburdir/sjalfbaerni-og-mannrettindi-mannrettindamorgnar-mannrettindahusid/
LOCATION:Mannréttindahúsið\, Sigtún 42\, Reykjavík\, Iceland
CATEGORIES:Aðildarfélög
ATTACH;FMTTYPE=image/jpeg:https://www.obi.is/wp-content/uploads/2024/05/Elva-Rakel-Jonsdottir.-Likkedln.jpg
END:VEVENT
BEGIN:VEVENT
DTSTART;TZID=UTC:20240921T100000
DTEND;TZID=UTC:20240921T170000
DTSTAMP:20260422T011745
CREATED:20240614T112908Z
LAST-MODIFIED:20240708T133332Z
UID:22143-1726912800-1726938000@www.obi.is
SUMMARY:Hjartadagshlaupið 2024
DESCRIPTION:HlustaVið eigum aðeins eitt hjarta\, höldum því hraustu!  \nHjartadagshlaupið er haldið í tilefni Alþjóðlegs hjartadags sem haldinn er í yfir 120 löndum á hverju ári. Markmið Hjartadagsins\, er að auka vitund og þekkingu almennings á ógnum hjarta- og æðasjúkdóma og leggja áherslu á heilbrigða lífshætti svo að börn\, unglingar og fullorðnir um allan heim öðlist betra og lengra líf. \nHlaupið fer fram laugardaginn 21. september 2024 kl. 10:00. Skráning í hlaupið hefst 1. maí og lýkur fimmtudaginn 19. september kl. 23:00. Hjartadagshlaupið 2024 | Netskraning.is \nHjartadagshlaupið 23. september – Hjartaheill 
URL:https://www.obi.is/vidburdir/hjartadagshlaupid-2024-hjartaheill/
CATEGORIES:Aðildarfélög
ATTACH;FMTTYPE=image/jpeg:https://www.obi.is/wp-content/uploads/2024/06/Hjartadagshlaupid.jpg
END:VEVENT
BEGIN:VEVENT
DTSTART;TZID=UTC:20240924T130000
DTEND;TZID=UTC:20240924T160000
DTSTAMP:20260422T011745
CREATED:20240614T102624Z
LAST-MODIFIED:20240906T165029Z
UID:22127-1727182800-1727193600@www.obi.is
SUMMARY:Fræðsluröð ÖBÍ: Fjárlagafrumvarpið krufið
DESCRIPTION:HlustaFræðsluröð ÖBÍ fyrir aðildarfélög samtakanna veturinn 2024-2025.  Þriðjudagur\, 24. september 2024\, kl. 13:00 til 16:00. \nFjárlagafrumvarpið krufið. Rýnt verður í fjárlagafrumvarpið\, leiðbeint um umsagnagerð og hagsmunagæslu. \nLeiðbeinandi: Ágúst Ólafur Ágústsson er hagfræðingur\, lögfræðingur og með meistaragráðu í opinberri stjórnsýslu (MPA). Ágúst Ólafur hefur gegnt fjölmörgum ábyrgðarstörfum í gegnum tíðina m.a. var hann varaformaður fjárlaganefndar 2017-2019\, fjármála-og hagfræðiráðgjafi hjá Capacent ehf. 2014-2016 og efnahags-og atvinnuráðgjafi forsætisráðherra 2012-2013\, formaður viðskiptanefndar 2007-2009\, varaformaður allsherjarnefndar\, varaformaður heilbrigðis-og tryggingarnefndar 2007-2009. Ágúst er stundakennari við stjórnmálafræðideild HÍ og fyrrum alþingismaður.
URL:https://www.obi.is/vidburdir/fraedslurod-obi-fjarlagafrumvarpid-krufid/
LOCATION:Mannréttindahúsið\, Sigtún 42\, Reykjavík\, Iceland
CATEGORIES:Á döfinni
ATTACH;FMTTYPE=image/png:https://www.obi.is/wp-content/uploads/2024/06/Fjarlog-2024-1.png
ORGANIZER;CN="%C3%96B%C3%8D r%C3%A9ttindasamt%C3%B6k":MAILTO:obi@obi.is
END:VEVENT
BEGIN:VEVENT
DTSTART;TZID=UTC:20240925T123000
DTEND;TZID=UTC:20240925T160000
DTSTAMP:20260422T011745
CREATED:20240828T133632Z
LAST-MODIFIED:20241112T173201Z
UID:24671-1727267400-1727280000@www.obi.is
SUMMARY:Málþing um viðhaldsmeðferðir - Staða\, áskoranir og framtíðarsýn
DESCRIPTION:HlustaMatthildur\, samtök um skaðaminnkun og mannréttindi fólks sem notar vímuefni\,  stendur fyrir málþingi um viðhaldsmeðferðir þann 25. september 2024  kl. 12:30-16:00\, á Hótel Natura í Reykjavík. \nMarkmið málþingsins er að fara yfir stöðuna á viðhaldsmeðferðum hér á landi\, áskorunum og huga að framtíðinni. Thilo Beck geðlæknir og yfirlæknir geðlækninga við Arud Center for Addiction Medicine í Sviss\, mun halda erindi um fjölbreyttar og sértækar viðhaldsmeðferðir ásamt klínísku reynslu sinni og rannsóknum. \n» Skráning á málþingið \n» Málþing um viðhaldsmeðferðir | Félag íslenskra hjúkrunarfræðinga (hjukrun.is) \n» Matthildur skaðaminnkun (matthildurskadaminnkun.is) \n 
URL:https://www.obi.is/vidburdir/malthing-um-vidhaldsmedferdir-stada-askoranir-og-framtidarsyn/
LOCATION:Icelandair Hótel Reykjavík Natura\, Nauthólsvegur 42\, Reykjavík\, Iceland
CATEGORIES:Aðildarfélög
ATTACH;FMTTYPE=image/png:https://www.obi.is/wp-content/uploads/2024/08/Matthildur-Skadaminnkun.png
END:VEVENT
BEGIN:VEVENT
DTSTART;TZID=UTC:20240927T080000
DTEND;TZID=UTC:20240927T160000
DTSTAMP:20260422T011745
CREATED:20240913T103912Z
LAST-MODIFIED:20241112T173208Z
UID:25598-1727424000-1727452800@www.obi.is
SUMMARY:Myasthenia Gravis - Lífsgæði & meðferð
DESCRIPTION:HlustaMG félag Íslands mun halda ráðstefnu á Grand Hótel í Reykjavík\, 27. september 2024\, Myasthenia Gravis- Lífsgæði og meðferð. Enginn aðgangseyrir er að ráðstefnunni en skráning tryggir pláss. Skráning fer fram á heimasíðu félagsins\, mgisland.is.\n\nMyasthenia Gravis (MG) er sjaldgæfur sjálfsofnæmissjúkdómur í taugavöðvamótum sem veldur sveiflukenndu vöðvakraftleysi og þreytu sem hefur víðtæk áhrif á lífsgæði fólks. Ýmis meðferðarúrræði eru þekkt en þegar um er að ræða svo fátíðan sjúkdóm er almenn þekking og reynsla fagfólks óhjákvæmilega takmörkuð.\n\nMG félagið vill með þessari ráðstefnu breiða út og auka þekkingu á sjúkdómnum. Sjö af fremstu sérfræðingum Norðurlandanna í MG munu halda erindi um sitt sérsvið. Flest þeirra eru höfundar leiðbeininga um meðferð við MG sem kom út í febrúar síðastliðnum*. Dagskráin er þannig saman sett að hún mun nýtast bæði þeim sem þekkja MG og jafnframt þeim sem vita minna.\n\nVið hvetjum ykkur til að kynna ykkur dagskránna og nýta þetta einstaka tækifæri til að hlusta á helstu sérfræðinga Norðurlandanna í MG.
URL:https://www.obi.is/vidburdir/myasthenia-gravis-lifsgaedi-medferd/
LOCATION:Grand Hótel Reykjavík\, Sigtún 38\, Reykjavík\, 105
CATEGORIES:Aðildarfélög
END:VEVENT
END:VCALENDAR