BEGIN:VCALENDAR
VERSION:2.0
PRODID:-//ÖBI - ECPv6.15.18//NONSGML v1.0//EN
CALSCALE:GREGORIAN
METHOD:PUBLISH
X-ORIGINAL-URL:https://www.obi.is
X-WR-CALDESC:Events for ÖBI
REFRESH-INTERVAL;VALUE=DURATION:PT1H
X-Robots-Tag:noindex
X-PUBLISHED-TTL:PT1H
BEGIN:VTIMEZONE
TZID:UTC
BEGIN:STANDARD
TZOFFSETFROM:+0000
TZOFFSETTO:+0000
TZNAME:UTC
DTSTART:20230101T000000
END:STANDARD
END:VTIMEZONE
BEGIN:VEVENT
DTSTART;TZID=UTC:20241004T000000
DTEND;TZID=UTC:20241005T000000
DTSTAMP:20260421T180113
CREATED:20240513T090239Z
LAST-MODIFIED:20241004T133540Z
UID:20811-1728000000-1728086400@www.obi.is
SUMMARY:Aðalfundur ÖBÍ réttindasamtaka
DESCRIPTION:HlustaDagskrá\nAðalfundur ÖBÍ réttindasamtaka haldinn föstudaginn 4. október 2024\, kl. 16.00-19.00 og laugardaginn 5. október kl. 10.00-17.00  á Reykjavík Natura\, Nauthólsvegi 52\, Reykjavík\n\n\n\n\nDagskrá föstudaginn 4. október\nKl. 16.00 Ávarp\, Alma Ýr Ingólfsdóttir\, formaður ÖBÍ\n\nFundarsetning\, kjör fundarstjóra og fundarritara\n\nAlmenn fundarstörf\n1. Skýrsla stjórnar\n2. Reikningar bandalagsins\n3. Skýrslur fastra málefnahópa\n• Aðgengishópur\n• Atvinnu- og menntahópur\n• Barnamálahópur\n• Heilbrigðishópur\n• Húsnæðishópur\n• Kjarahópur\nHlé – 15 mínútur\n4. Skýrslur fyrirtækja\n5. Stefna og starfsáætlun stefnuþings\n6. Ákvörðun aðildargjalda\n7. Þóknun fyrir stjórnarsetu\nKl. 19.00 Frestun fundar\n\nDagskrá laugardaginn 5. október\nKl. 10.00 Kosningar í stjórn skv. 18. gr. A til tveggja ára\n  8. Kosning formanns (kosið 2025)\n  9. Kosning varaformanns\n10. Kosning gjaldkera\n11. Kosning formanna fastra málefnahópa (1 ár)\n• Kjarahópur (2024-2025)\n12. Kosning stjórnarmanna\n13. Kosning varamanna\nAðrar kosningar til tveggja ára (kosið 2025)\n14. Kosning fimm manna kjörnefndar og tveggja til vara\n15. Kosning fimm manna laganefndar og tveggja til vara\n16. Kosning tveggja skoðunarmanna reikninga og tveggja til vara\nKl. 12.00-13.00 Matarhlé\nLagabreytingar\, aðildarumsóknir\, ályktanir og önnur mál\n17. Lagabreytingar\n18. Aðildarumsóknir\n\nKl. 15.00-15.30 Kaffihlé\n\n19. Ályktanir aðalfundar\n20. Önnur mál\nKl. 17.00 Fundarlok\n\n\n\nFundarstjórar hliðra hléum ef með þarf.\n• Við upphaf fundar á föstudag verður boðið upp á kaffiveitingar.\n• Kvöldverður á föstudag verða smáréttir.\n• Við upphaf fundar á laugardag verður boðið upp á morgunhressingu.\n• Hádegisverður á laugardag verður hlaðborð.
URL:https://www.obi.is/vidburdir/adalfundur-obi-rettindasamtaka/
CATEGORIES:Á döfinni
ATTACH;FMTTYPE=image/png:https://www.obi.is/wp-content/uploads/2024/06/favicon.png
END:VEVENT
BEGIN:VEVENT
DTSTART;TZID=UTC:20241011T100000
DTEND;TZID=UTC:20241011T160000
DTSTAMP:20260421T180113
CREATED:20240930T092245Z
LAST-MODIFIED:20240930T092245Z
UID:26801-1728640800-1728662400@www.obi.is
SUMMARY:Málþing ADHD samtakanna 2024
DESCRIPTION:HlustaKonur – Vitund og valdefling\nADHD samtökin standa fyrir málþingi um ADHD sem nefnist „Konur – Vitund og valdefling “ . Málþingið fram fer í Jötunheimum\, Skátaheimili Víflis í Garðabæ þann 11. október kl. 10:00 – 16:00. \nMálþinginu er ætlað að vekja athygli á áskorunum sem konur með ADHD glíma við ásamt því að kynna ýmsar lausnir til að takast á við afleiðingar hennar. Kunnir íslenskir fyrirlesarar halda erindi og umfjöllunarefnin snerta hina ýmsu kima ADHD.  Málþingið er frábært tækifæri til að bæta við þekkingu\, læra að byggja á styrkleikum og hafa gaman saman. \nMálþingið er opið öllum. \nSkráning fer fram hér: \nhttps://www.adhd.is/is/malthing-2024 \nAlmennt verð: 9.900-\nFélagsmenn 5.900.- \nDagskrá:\n10:00 – 10:10 Setning málþings \nGyða Haraldsdóttir varaformaður ADHD samtakanna \n10:10 – 10:30 Ávarp \n  \n10:30 – 10:50 Afhending Hvatningarverðlauna \n  \n10:50 – 11:20 ADHD – konur og refsivist \n11:20 – 11:30  KAFFIHLÉ \n11:30 – 12:30 ADHD hjá konum: líkamlegir áhættuþættir og sjúkdómar og tengsl við geðraskanir \nUnnur Jakobsdóttir Smári sálfræðingur og doktorsnemi \n12:30 – 13:30 HÁDEGISHLÉ \n13:30 – 14:30 VÁ hvað þetta er gott … var ég búin að taka úr vélinni? \nKynlíf\, hvatvísi og heilarugl \nKristín Þórisdóttir kynlífs markþjálfi \n  \n14:30 – 14:45 KAFFIHLÉ \n  \n14:45 – 15:45  „Gleymdi að borða og borðaði svo allt.“ \nHvernig ADHD hefur áhrif á matarvenjur. \nRagga Nagli sálfræðingur og einkaþjálfari \n  \n15:45 – 16:00 Samantekt og málþingsslit \nElín H. Hinriksdóttir sérfræðingur ADHD samtakanna \nMáþingsstýra er Þórdís Björk Þorfinnsdóttir (Dísa)\, leikkona\, Reykjavíkurdóttir og áhrifavaldur með meiru.
URL:https://www.obi.is/vidburdir/malthing-adhd-samtakanna-2024/
LOCATION:Jötunheimar
CATEGORIES:Aðildarfélög
ATTACH;FMTTYPE=image/png:https://www.obi.is/wp-content/uploads/2024/09/adhd-radstefna-0924-konurvitundogvaldefling-01.png
END:VEVENT
BEGIN:VEVENT
DTSTART;TZID=UTC:20241012T140000
DTEND;TZID=UTC:20241012T160000
DTSTAMP:20260421T180113
CREATED:20241007T113556Z
LAST-MODIFIED:20241007T113556Z
UID:27596-1728741600-1728748800@www.obi.is
SUMMARY:Opið hús hjá Gigtarfélaginu á alþjóðlega gigtardeginum
DESCRIPTION:HlustaGigtarfélag Íslands fagnar alþjóðlega gigtardeginum\, laugardaginn 12. október\, með opnu húsi frá klukkan 14:00 til 16:00 í nýinnréttuðum húsakynnum félagsins í Brekkuhúsum 1 í Reykjavík. \nÞetta er jafnframt formleg opnun félagsins á nýjum stað. Húsnæðið er vel búið og aðgengi til fyrirmyndar. Gigtarfélagið býður félagsmenn og aðra sem hafa áhuga velkomna til að fagna með félaginu á þessum langþráðu tímamótum.
URL:https://www.obi.is/vidburdir/opid-hus-hja-gigtarfelaginu-a-althjodlega-gigtardeginum/
LOCATION:Brekkuhús 1
CATEGORIES:Aðildarfélög
END:VEVENT
BEGIN:VEVENT
DTSTART;TZID=UTC:20241015T150000
DTEND;TZID=UTC:20241015T150000
DTSTAMP:20260421T180113
CREATED:20240925T092847Z
LAST-MODIFIED:20240925T092847Z
UID:26278-1729004400-1729004400@www.obi.is
SUMMARY:Hljóðóþol (e. Misophonia) [@Heyrnarhjálp]
DESCRIPTION:HlustaVerið hjartanlega velkomin á erindi um hljóðóþol (e. misophonia) þann 15. október næstkomandi á Hótel Reykjavík Grand í Hvammi. Frítt er á viðburðinn og allir velkomnir á meðan húsrúm leyfir. Léttar veitingar verða í boði fyrir gesti.\n\nDagskrá:Halla B. Þorkelsson formaður Heyrnarhjálpar býður gesti velkomna15:10 Jóna Vestfjörð Hannesdóttir — Hugvekja15:25 Hjörtur H. Jónsson — Hljóðóþol: Fram í dagsljósið16:15 Spurningar og umræður\n\nUm HljóðóþolHljóðóþol er taugaröskun sem lýsir sér í því að upplifum tiltekinna hljóða veldur svo mikilli vanlíðan að það truflar allar athafnir daglegs lífs. Mikilvægt er að greina börn með hljóðóþol snemma þannig að hægt sé að gera ráðstafanir sem koma í veg fyrir að hljóðóþolið trufli nám og félagslegan þroska og miðar verkefnið bæði að því að útbúa greiningartól og fræðsluefni fyrir starfólk menntastofnana.
URL:https://www.obi.is/vidburdir/hljodothol-e-misophonia-heyrnarhjalp/
LOCATION:Grand Hótel Reykjavík\, Sigtún 38\, Reykjavík\, 105
CATEGORIES:Aðildarfélög
ATTACH;FMTTYPE=image/jpeg:https://www.obi.is/wp-content/uploads/2024/09/460197393_907398788089128_292426866360157104_n.jpg
END:VEVENT
BEGIN:VEVENT
DTSTART;VALUE=DATE:20241017
DTEND;VALUE=DATE:20241018
DTSTAMP:20260421T180113
CREATED:20240612T163515Z
LAST-MODIFIED:20240903T144721Z
UID:22060-1729123200-1729209599@www.obi.is
SUMMARY:Alþjóðlegur baráttudagur gegn fátækt
DESCRIPTION:Hlusta
URL:https://www.obi.is/vidburdir/althjodadagur-helgadur-utrymingu-fataektar/
CATEGORIES:Á döfinni
ATTACH;FMTTYPE=image/jpeg:https://www.obi.is/wp-content/uploads/2024/06/2024-05-01-Krofuganga-OBI-1.-mai-041-scaled.jpg
ORGANIZER;CN="%C3%96B%C3%8D r%C3%A9ttindasamt%C3%B6k":MAILTO:obi@obi.is
END:VEVENT
BEGIN:VEVENT
DTSTART;TZID=UTC:20241019T150000
DTEND;TZID=UTC:20241026T170000
DTSTAMP:20260421T180113
CREATED:20241015T145705Z
LAST-MODIFIED:20241015T145705Z
UID:27953-1729350000-1729962000@www.obi.is
SUMMARY:Svartir fuglar [dansverk] List án landamæra
DESCRIPTION:HlustaSvartir fuglar\, nýtt dansverk eftir Láru Stefánsdóttur spunnið út frá ljóðum Elísabetar Jökulsdóttur\, verður frumsýnt á List án Landamæra næstkomandi laugardag 19.október 2024 kl 15:00 í Tjarnarbíó og verður önnur sýning laugardaginn 26. október kl 15:00. \nVerkið er samið sérstaklega fyrir Láru Þorsteinsdóttur sem er einhverf en auk hennar dansa þau Íris Ásmumdardóttir og Sigurður Edgar Andersen. Ljóðin eru úr bókinni “Sjáðu\, sjáðu mig\, það er eina leiðin til að elska mig og fjalla um þránna eftir að tengjast sinni innri fegurð\, sínum kjarna á lífsleiðinni en að þurfa um leið oftar en ekki að takast á við allskonar skuggahliðar og tilfinningar í leitinni að ljósinu\, gleðinni\, ástinni og kærleikanum. \nDansarar: Lára Þorsteinsdóttir\,Íris Ásmundardóttir\, Sigurður Edgar Andersen\nLjóðskáld/dansari; Elísabet Jökulsdóttir\nDanshöfundur/leikstjórn; Lára Stefánsdóttir\nLjósa og tæknimaður; Arnar Ingvarsson\nSamsetning tónlistar; Stefán Franz Guðnason\nLjósmyndir og kynningarmyndband : Þorsteinn J. Vilhjálmsson \, Christopher Lund. \n 
URL:https://www.obi.is/vidburdir/svartir-fuglar-dansverk-list-an-landamaera/
LOCATION:Tjarnarbíó\, Tjarnargötu 12\, Reykjavík\, 101\, Iceland
CATEGORIES:Aðildarfélög
ATTACH;FMTTYPE=image/jpeg:https://www.obi.is/wp-content/uploads/2024/10/461872555_1078505094280164_4582792918922026665_n.jpg
ORGANIZER;CN="List %C3%A1n landam%C3%A6ra":MAILTO:info@listin.is
END:VEVENT
BEGIN:VEVENT
DTSTART;TZID=UTC:20241022T173000
DTEND;TZID=UTC:20241022T190000
DTSTAMP:20260421T180113
CREATED:20241017T125947Z
LAST-MODIFIED:20241017T125947Z
UID:28045-1729618200-1729623600@www.obi.is
SUMMARY:40 ára afmæli LAUF - félags flogaveikra
DESCRIPTION:Hlusta\nÍ tilefni af 40 ára afmæli LAUF – félags flogaveikra er boðið til afmælisveislu í Mannréttindahúsinu\, Sigtúni 42\, þriðjudaginn 22.október. \n\n\nÞar stendur einnig til að kynna nýtt nafn félagsins\, nýtt lógó og nýja heimasíðu.
URL:https://www.obi.is/vidburdir/40-ara-afmaeli-lauf-felags-flogaveikra/
LOCATION:Mannréttindahúsið\, Sigtún 42\, Reykjavík\, Iceland
CATEGORIES:Aðildarfélög
END:VEVENT
BEGIN:VEVENT
DTSTART;TZID=UTC:20241023T160000
DTEND;TZID=UTC:20241023T190000
DTSTAMP:20260421T180113
CREATED:20241009T123755Z
LAST-MODIFIED:20241022T134221Z
UID:27771-1729699200-1729710000@www.obi.is
SUMMARY:Námsstefna ÖBÍ 2024 - fyrri dagur [FRESTAÐ]
DESCRIPTION:HlustaÞessum viðburði hefur verið frestað. \n— \nNámsstefna ÖBÍ réttindasamtaka 2024 verður haldin í Manréttindahúsinu Sigtúni 42 þann 23. október frá 16:00-19:00 og á Grand Hotel 30. október frá 16:00-19:00.  \nFyrri dagur Námsstefnunnar er sérstaklega ætlaður nýjum fulltrúum í stjórn og málefnastarfi\, einnig nýju starfsfólk ÖBÍ\, en allir eru velkomnir. \nDagskrá miðvikudag 23. október 2024 \n15:30 Húsið opnar – skráning og hressing \n16:00 – 17:00 \n\nVelkomin til starfa\, hlutverk og stefna ÖBÍ\nAlma Ýr Ingólfsdóttir\, formaður ÖBÍ\nRekstur ÖBÍ og skipulag\nEva Þengilsdóttir framkvæmdastjóri ÖBÍ\nSiðareglur ÖBÍ / EKKO reglur ÖBÍ\nJón Heiðar Jónsson gjaldkeri ÖBÍ\n\n17:00 Hlé \n17:15 – 18:00 \n\nKynning á samningi Sameinuðu þjóðanna\num réttindi fatlaðs fólks\nSunna Elvira lögfræðingur hjá ÖBÍ\nMálefnahópar\nStefán Vilbergsson teymisstjóri málefna ÖBÍ\n\n18:00 Hlé \n18:15 -19:00 \n\nMiðlunin\nÞórgnýr Einar Albertsson upplýsingafulltrúi ÖBÍ\nHópurinn\n\n19:00 Lok \nSkráning: \nSkráning á námsstefnu fyrri dagur
URL:https://www.obi.is/vidburdir/namsstefna-obi/
CATEGORIES:Á döfinni
END:VEVENT
BEGIN:VEVENT
DTSTART;TZID=UTC:20241024T093000
DTEND;TZID=UTC:20241024T093000
DTSTAMP:20260421T180113
CREATED:20241018T140451Z
LAST-MODIFIED:20241018T140601Z
UID:28128-1729762200-1729762200@www.obi.is
SUMMARY:Allt um kvennafrídaginn: Höfundur nýrrar myndar um kvennafrídaginn mætir í Mannréttindahúsið
DESCRIPTION:HlustaHrafnhildur Gunnarsdóttir kvikmyndagerðarkona mætir í Mannréttindahúsið 24. október og ræðir við viðstadda um nýja heimildarmynd sína um kvennafrídaginn 1975. Erindið hefst klukkan 10 og húsið opnar 9:30. Öll boðin velkomin. \nMyndin verður frumsýnd í Bíó Paradís klukkan 19:15 sama kvöld og því tilvalið að leggja leið sína í Mannréttindahúsið til upphitunar. \n„The Day Iceland Stood Still“ eða Dagurinn sem Ísland stöðvaðist er heimildamynd í fullri lengd um kvennafrídaginn á Íslandi. 24.október 1975 eftir Pamelu Hogan og Hrafnhildi Gunnarsdóttur. Myndin er mestmegnis á ensku með íslenskum texta. \nÞann dag lögðu 90% íslenskra kvenna niður störf og margar tóku þátt í kvennafrídeginum á Lækjartorgi og víða um land. Samstaða íslenskra kvenna þvert á pólitískar línur markað byrjun baráttunnar fyrir jafnrétti karla og kvenna og lagði hornsteininn að einum stórkostlegustu þjóðfélagsbreytingum sem íslenskt samfélag hefur gengið í gegnum. \nÞessi saga er í fyrsta skipti sögð á hvíta tjaldinu í skemmtilegri og leiftrandi blöndu af viðtölum\, safnaefni og litríkum teiknimyndum. Myndin var frumsýnd á Toronto Hot Docs í vor og hefur núna tekið flugið og ferðast til Kóreu\, Japan\, USA\, Þýskalands\, Spánar og Frakklands til að nefna eitthvað\,“ segir á vef Bíós Paradísar um myndina.
URL:https://www.obi.is/vidburdir/allt-um-kvennafridaginn-hofundur-nyrrar-myndar-um-kvennafridaginn-maetir-i-mannrettindahusid/
LOCATION:Mannréttindahúsið\, Sigtún 42\, Reykjavík\, Iceland
CATEGORIES:Aðildarfélög
END:VEVENT
BEGIN:VEVENT
DTSTART;TZID=UTC:20241024T140000
DTEND;TZID=UTC:20241030T140000
DTSTAMP:20260421T180113
CREATED:20241024T145816Z
LAST-MODIFIED:20260114T124312Z
UID:28291-1729778400-1730296800@www.obi.is
SUMMARY:Kvennafrídagurinn: „Dagurinn sem Ísland stöðvaðist” í Bíó Paradís
DESCRIPTION:HlustaÁ kvennafrídaginn 24. október 2024\, standa 34 samtök femínista\, kvenna\, launafólks\, fatlaðs fólks og hinsegin fólks fyrir viðburði í Bíó Paradís kl. 18:30\, þar sem framkvæmdastjórn Kvennaárs 2025 kynnir sameiginlegar kröfur gagnvart stjórnvöldum\, nákvæmlega einu ári eftir Kvennaverkfall og stærsta baráttufund Íslandssögunnar. UN Women á Íslandi og ÖBÍ eru meðal aðstandenda þessa viðburðar og Kvennaárs 2025. \nAð viðburði loknum\, verður „Dagurinn sem Ísland stöðvaðist\,” frumsýnd\, sem er spennandi heimildamynd eftir Pamelu Hogan og Hrafnhildi Gunnarsdóttur um Kvennafrídaginn 1975. Að henni lokinni ætlum við að styrkja böndin yfir léttum veitingum og samsöng á Áfram stelpur! \nHin magnaða kvennasamstaða þvert á pólitískar línur árið 1975 lagði hornsteininn að stórkostlegustum þjóðfélagsbreytingum. En þrátt fyrir þrotlausa baráttu í hálfa öld búa konur enn við misrétti og ofbeldi. Við ætlum ekki að bíða í 50 ár til viðbótar! Nú tökum við höndum saman enn á ný og fylkjumst bak við kröfurnar. Við vitum sem er að sameiginlegur kraftur okkar er óstöðvandi. Sagan sýnir okkur það. Við getum\, þorum og viljum! \nVið hvetjum öll (konur\, karla\, kvár..)  til að fjölmenna á viðburðinn og kaupa miða á frumsýninguna sem hefst kl.19:15. \nMyndin er aðallega á ensku en með íslenskum texta og Bíó Paradís er aðgengilegt fyrir öll. \nThe Day Iceland Stood Still – Dagurinn sem Ísland stöðvaðist fer síðan í almennar sýningar í Bíó Paradís – miða og frekari upplýsingar má nálgast á vef Bíó Paradísar \n*Listi yfir samtökin má finna fyrir neðan ensku útgáfu textans. \n—-\nOn Women´s Day Off\, October 24th\, 34 organizations (UN Women Iceland and ÖBÍ included) of feminists\, women\, workers\, disabled people and queer people will host an event at Bíó Paradís at 6:30 p.m.\, where the executive committee of Women’s Year 2025 will present their joint demands towards the government\, exactly one year after the Women’s Strike and the biggest rally in Iceland’s history. \nAfter the event\, „Day Iceland Stood Still“\, will be premiered\, which is an exciting documentary by Pamela Hogan and Hrafnhildur Gunnarsdóttir about Women’s Day 1975. After the screening we plan to strengthen our bonds over light refreshments and a sing-along Áfram Stelpur! \nThe amazing women’s solidarity across political lines in 1975 laid the cornerstone for magnificent social changes. But despite a tireless struggle for half a century\, women are still subject to inequality and violence. We will not wait another 50 years! We are ready to receive the baton from the women who came before us\, join hands once again and rally behind the demands. We know that our collective power is unstoppable. History shows us that. Við þorum\, viljum og getum – We dare\, we can and we will! \nWe encourage everyone (women\, men\, non-binary people) to attend the event and buy tickets for the premiere that starts at 19:15. \nThe film is mostly in English with Icelandic subtitles and will be shown like that for the premiere event. The facilities at Bíó Paradís are accessible for all. \nThe Day Iceland Stood Still – will continue in public screenings at Bíó Paradís both with Icelandic subtitles and also with English subtitles on some screenings for English speaking audiences. For tickets and further information please visit Bíó Paradís’ website \n— \nAðstandendur // Organisers : \nAflið // Aflið – Counseling for victims of violence and their relatives\nAlþýðusamband Íslands // ASÍ – The Icelandic Confederation of Labour\nBandalag kvenna í Reykjavík // The Federation of Women’s Societies in Reykjavik (FWSR)\nBHM – Bandalag háskólamanna // BHM – Association of Academics\nBSRB // BSRB – Confederation of State and Municipal Employees of Iceland\nDruslugangan // Slutwalk\nFKA – Félag kvenna í atvinnulífinu // FKA – The Association of Business Women in Iceland\nFemínísk fjármál // Feminist Budgeting\nFélag íslenskra hjúkrunarfræðinga // The Icelandic Nurses’ Association\nHagsmunasamtök brotaþola // Interest group for victims of sexual violence\nHagsmunasamtök knattspyrnukvenna // Interest group of Women in Soccer\nIcefemin – Icelandic Feminist Initiative\nKennarasamband Íslands // Icelandic Teachers´Union\nKonur í Orkumálum // Women in Energy – Iceland\nKvenfélagasamband Íslands // The Women’s association\nKvennasögusafn Íslands // The Women’s History Archives\nKvenréttindafélag Íslands // TheIcelandic Women’s Rights Association\nKynjafræði við stjórnmálafræðideild Háskóla Íslands // Gender studies at the department of Social science in the University of Iceland\nLæti! tónlist / Stelpur rokka! // Girls Rock! Iceland\nÖBÍ réttindasamtök // The Icelandic Disability Alliance\nÖfgar // A non-profit organization that fights against gender-based violence\nQ – félag hinsegin stúdenta // Q – Queer Student Association\nRótin félagasamtök // The Root\nSamtök starfsmanna fjármálafyrirtækja -SSF // The Confederation of Icelandic Bank and Finance Employees\nSamtök um Kvennaathvarf // The Women’s Shelter\nSamtökin ´78 // The National Queer Organisation of Iceland\nSoroptimistasamband Íslands // Soroptimist Iceland\nStígamót // Stígamót – center for survivors of sexual violence\nUN Women á Íslandi // UN Women Iceland\nUngar athafnakonur (UAK) // UAK (Young Professional Women in Iceland)\nW.O.M.E.N. in Iceland // Samtök kvenna af erlendum uppruna á Íslandi\nWIFT – Félag kvenna í kvikmyndum og sjónvarpi á Íslandi // WIFT -The Association for women in film and television in Iceland.\nWomenTechIceland // Konur í tækni á Íslandi\nTrans Ísland // Trans Iceland
URL:https://www.obi.is/vidburdir/kvennafridagurinn-dagurinn-sem-island-stodvadist-i-bio-paradis/
LOCATION:Bíó Paradís
CATEGORIES:Aðildarfélög
ATTACH;FMTTYPE=image/jpeg:https://www.obi.is/wp-content/uploads/2024/10/24.-okt-Dagurinn-sem-Island.jpg
END:VEVENT
BEGIN:VEVENT
DTSTART;TZID=UTC:20241024T170000
DTEND;TZID=UTC:20241024T170000
DTSTAMP:20260421T180113
CREATED:20241021T114146Z
LAST-MODIFIED:20241112T174235Z
UID:28172-1729789200-1729789200@www.obi.is
SUMMARY:Kynning á skýrslu Mannfjöldasjóðs Sameinuðu þjóðanna 2024
DESCRIPTION:HlustaÍ tilefni útgáfu skýrslu Mannfjöldasjóðs Sameinuðu þjóðanna um Stöðu mannfjöldaþróunar 2024 (e. State of The World Population)\, efnir Félag Sameinuðu þjóðanna í samstarfi við Menntavísindasvið Háskóla Íslands\, með stuðningi Utanríkisráðuneytisins til kynningarfundar í Vigdísarstofu.\n\nUndanfarna áratugi hafa orðið miklar framfarir í kyn- og frjósemisréttindum (e. sexual reproductive health rights). Aðgangur að fræðslu og getnaðarvörnum hefur aukist. Einstaklingar eru nú í betri stöðu en áður til að ákveða hvort\, hvenær og hversu mörg börn þeir kjósa að eignast. Færri konur deyja af barnsförum og mikilvægur árangur hefur náðst í að uppræta barnahjónabönd víða um heim.\n\nÞessar framfarir hafa þó ekki náð til allra. Hópur kvenna um allan heim ræður ekki yfir eigin líkama; getur ekki hafnað kynlífi með maka\, getur ekki ákveðið hvort þær nota getnaðarvarnir eða ekki\, eða hvort þær eigi að leita til læknis. Minnihlutahópar eru jaðarsettir og njóta ekki sömu þjónustu þegar kemur að kyn- og frjósemisréttindum. Þar á meðal eru mismunandi þjóðernishópar\, trúarhópar og frumbyggjar; fólk með tiltekna kynhneigð eða kynvitund; fátækar konur\, konur á landsbyggðinni og fatlað fólk.\n\nVið sjáum hins vegar líka fram á möguleikann til hraðari breytinga og umbóta sem eruð sniðnar að þeim sem þurfa mest á aðstoð að halda. Við vitum betur í dag en áður til hverra við þurfum að ná og hvernig við getum gert það.\n\nÁ sama tíma er líka mikilvægt að minna á að við lifum á tímum pólitískrar og félagslegrar skautunar þegar rætt er um málefni á sviði kyn- og frjósemisréttinda\, LGBTQIA+\, umfjöllun um aðgang að getnaðarvörnum\, þungunarrofsaðgerðum og jafnrétti kynjanna. Því er mikilvægara en nokkurn tíman áður að halda á lofti öflugri og upplýstri umræðu um hlutverk kyn- og frjósemisréttinda þegar kemur að því að stuðla að auknu jafnrétti og stöðugleika í heiminum öllum.\n\nSkýrsla Mannfjöldasjóðs 2024 verður kynnt á Degi Sameinuðu þjóðanna og Kvennafrídagsins þann 24. október 2024 kl. 17:00-18:30 + spjall og veitingar í Vigdísarstofu í Veröld – húsi Vigdísar. Öll hjartanlega velkomin.
URL:https://www.obi.is/vidburdir/kynning-a-skyrslu-mannfjoldasjods-sameinudu-thjodanna-2024/
LOCATION:Veröld
CATEGORIES:Aðildarfélög
END:VEVENT
BEGIN:VEVENT
DTSTART;TZID=UTC:20241030T153000
DTEND;TZID=UTC:20241030T190000
DTSTAMP:20260421T180113
CREATED:20241017T163013Z
LAST-MODIFIED:20241018T095952Z
UID:28065-1730302200-1730314800@www.obi.is
SUMMARY:Námsstefna ÖBÍ 2024 - seinni dagur
DESCRIPTION:HlustaNámsstefna ÖBÍ réttindasamtaka 2024 verður haldin 23. og 30. október 2024\, kl. 16-19:00. Seinni dagur Námsstefnunnar er ætlaður öllum fulltrúum í stjórn\, málefnastarfi\, nefndum og ráðum\, einnig starfsfólk ÖBÍ. \nDagskrá miðvikudaginn 30. október 2024 í Háteigi\, Grand Hotel \n15:30 Húsið opnar – skráning og hressing \n16:00 – 16:50 \n\nVelkomin – starfið framundan\nAlma Ýr Ingólfsdóttir\, formaður ÖBÍ\nHlutverk og ábyrgð stjórnarmanna\nUnnur Ásta Bergsteinsdóttir og Flóki Ásgeirsson\, Magna lögmenn\n\n16:50    Hlé \n17:10 – 18:00 \n\nLáttu til þín taka – samskipti og samstarf\nAnna Steinsen\, þjálfari og einn eigenda KVAN og stjórnarformaður UN Women\n\n18:00    Hlé \n18:10 – 19:00 \n\nGervigreind: Ný tækifæri fyrir framtíðina\nGísli Ragnar Guðmundsson\, sérfræðingur í gervigreind hjá háskóla-\, iðnaðar- og nýsköpunarráðuneytinu\nUmræður og kveðjuskál\n\n19:00 Námsstefnulok \nFundarstjóri: Eva Þengilsdóttir \nSkráning: \nSkráning á námsstefnu – seinni dagur
URL:https://www.obi.is/vidburdir/namsstefna-obi-2024-seinni-dagur/
LOCATION:Grand Hótel Reykjavík\, Sigtún 38\, Reykjavík\, 105
CATEGORIES:Á döfinni
ORGANIZER;CN="%C3%96B%C3%8D r%C3%A9ttindasamt%C3%B6k":MAILTO:obi@obi.is
END:VEVENT
BEGIN:VEVENT
DTSTART;TZID=UTC:20241031T093000
DTEND;TZID=UTC:20241031T110000
DTSTAMP:20260421T180113
CREATED:20241016T093117Z
LAST-MODIFIED:20241017T144334Z
UID:27994-1730367000-1730372400@www.obi.is
SUMMARY:Tónlist og mannréttindi - Mannréttindamorgnar
DESCRIPTION:HlustaMaría Rut Reynisdóttir\, framkvæmdastjóri Tónlistarmiðstöðvar\, heldur tölu um tónlist og mannréttindi í Mannréttindahúsinu\, Sigtúni 42\, fimmtudaginn 31. október frá klukkan 10 til 11. Húsið opnar klukkan 9:30 og er öllum velkomið að kíkja við í Mannréttindahúsið\, fá sér morgunverð og hlusta á áhugaverðan fyrirlestur. \nMaría Rut Reynisdóttir hefur frá árinu 2008 helgað sig störfum í listum og menningu\, sérstaklega tónlist\, og hefur mikla reynslu sem menningarstjórnandi og sérfræðingur í menningarmálum sem fyrrum skrifstofustjóri menningarmála hjá Reykjavíkurborg\, verkefnastjóri Tónlistarborgarinnar Reykjavíkur\, framkvæmdastjóri Íslensku tónlistarverðlaunanna\, dagskrárstjóri Iceland Airwaves og umboðsmaður Ásgeirs Trausta. \nFyrirlesturinn er hluti af viðburðaröð sem nefnist Mannréttindamorgnar. Áður hafa meðal annars verið haldnir fyrirlestrar um tengsl mannréttinda og hönnunar\, sjálfbærni og listar.
URL:https://www.obi.is/vidburdir/tonlist-og-mannrettindi-mannrettindamorgnar/
LOCATION:Mannréttindahúsið\, Sigtún 42\, Reykjavík\, Iceland
CATEGORIES:Aðildarfélög
ATTACH;FMTTYPE=image/png:https://www.obi.is/wp-content/uploads/2024/10/MYNDLIST-OG-MANNRETTINDI-1920-x-1080-px-2.png
END:VEVENT
END:VCALENDAR